| Back to Multiple platform build/check report for BioC 3.14 |
|
This page was generated on 2022-04-13 12:06:42 -0400 (Wed, 13 Apr 2022).
| Hostname | OS | Arch (*) | R version | Installed pkgs |
|---|---|---|---|---|
| nebbiolo2 | Linux (Ubuntu 20.04.4 LTS) | x86_64 | 4.1.3 (2022-03-10) -- "One Push-Up" | 4324 |
| tokay2 | Windows Server 2012 R2 Standard | x64 | 4.1.3 (2022-03-10) -- "One Push-Up" | 4077 |
| machv2 | macOS 10.14.6 Mojave | x86_64 | 4.1.3 (2022-03-10) -- "One Push-Up" | 4137 |
| Click on any hostname to see more info about the system (e.g. compilers) (*) as reported by 'uname -p', except on Windows and Mac OS X | ||||
|
To the developers/maintainers of the HilbertCurve package: - Please allow up to 24 hours (and sometimes 48 hours) for your latest push to git@git.bioconductor.org:packages/HilbertCurve.git to reflect on this report. See How and When does the builder pull? When will my changes propagate? for more information. - Make sure to use the following settings in order to reproduce any error or warning you see on this page. |
| Package 871/2083 | Hostname | OS / Arch | INSTALL | BUILD | CHECK | BUILD BIN | ||||||||
| HilbertCurve 1.24.0 (landing page) Zuguang Gu
| nebbiolo2 | Linux (Ubuntu 20.04.4 LTS) / x86_64 | OK | OK | OK | |||||||||
| tokay2 | Windows Server 2012 R2 Standard / x64 | OK | OK | OK | OK | |||||||||
| machv2 | macOS 10.14.6 Mojave / x86_64 | OK | OK | OK | OK | |||||||||
| Package: HilbertCurve |
| Version: 1.24.0 |
| Command: C:\cygwin\bin\curl.exe -O http://155.52.207.166/BBS/3.14/bioc/src/contrib/HilbertCurve_1.24.0.tar.gz && rm -rf HilbertCurve.buildbin-libdir && mkdir HilbertCurve.buildbin-libdir && C:\Users\biocbuild\bbs-3.14-bioc\R\bin\R.exe CMD INSTALL --merge-multiarch --build --library=HilbertCurve.buildbin-libdir HilbertCurve_1.24.0.tar.gz && C:\Users\biocbuild\bbs-3.14-bioc\R\bin\R.exe CMD INSTALL HilbertCurve_1.24.0.zip && rm HilbertCurve_1.24.0.tar.gz HilbertCurve_1.24.0.zip |
| StartedAt: 2022-04-12 04:55:36 -0400 (Tue, 12 Apr 2022) |
| EndedAt: 2022-04-12 04:59:04 -0400 (Tue, 12 Apr 2022) |
| EllapsedTime: 208.5 seconds |
| RetCode: 0 |
| Status: OK |
##############################################################################
##############################################################################
###
### Running command:
###
### C:\cygwin\bin\curl.exe -O http://155.52.207.166/BBS/3.14/bioc/src/contrib/HilbertCurve_1.24.0.tar.gz && rm -rf HilbertCurve.buildbin-libdir && mkdir HilbertCurve.buildbin-libdir && C:\Users\biocbuild\bbs-3.14-bioc\R\bin\R.exe CMD INSTALL --merge-multiarch --build --library=HilbertCurve.buildbin-libdir HilbertCurve_1.24.0.tar.gz && C:\Users\biocbuild\bbs-3.14-bioc\R\bin\R.exe CMD INSTALL HilbertCurve_1.24.0.zip && rm HilbertCurve_1.24.0.tar.gz HilbertCurve_1.24.0.zip
###
##############################################################################
##############################################################################
% Total % Received % Xferd Average Speed Time Time Time Current
Dload Upload Total Spent Left Speed
0 0 0 0 0 0 0 0 --:--:-- --:--:-- --:--:-- 0
4 18.9M 4 939k 0 0 1481k 0 0:00:13 --:--:-- 0:00:13 1482k
17 18.9M 17 3471k 0 0 2160k 0 0:00:09 0:00:01 0:00:08 2159k
35 18.9M 35 6956k 0 0 2645k 0 0:00:07 0:00:02 0:00:05 2645k
58 18.9M 58 11.0M 0 0 3130k 0 0:00:06 0:00:03 0:00:03 3130k
84 18.9M 84 16.0M 0 0 3557k 0 0:00:05 0:00:04 0:00:01 3557k
100 18.9M 100 18.9M 0 0 3801k 0 0:00:05 0:00:05 --:--:-- 4130k
install for i386
* installing *source* package 'HilbertCurve' ...
** using staged installation
** R
** inst
** byte-compile and prepare package for lazy loading
** help
*** installing help indices
converting help for package 'HilbertCurve'
finding HTML links ... done
GenomicHilbertCurve-class html
GenomicHilbertCurve html
HilbertCurve-class html
HilbertCurve html
default_overlay html
hc_centered_text-HilbertCurve-method html
hc_layer-GenomicHilbertCurve-method html
hc_layer-HilbertCurve-method html
hc_layer-dispatch html
hc_level-HilbertCurve-method html
hc_map-GenomicHilbertCurve-method html
hc_normal_points-HilbertCurve-method html
hc_offset-HilbertCurve-method html
hc_png-HilbertCurve-method html
hc_points-GenomicHilbertCurve-method html
hc_points-HilbertCurve-method html
hc_points-dispatch html
hc_polygon-GenomicHilbertCurve-method html
hc_polygon-HilbertCurve-method html
hc_polygon-dispatch html
hc_rect-GenomicHilbertCurve-method html
hc_rect-HilbertCurve-method html
hc_rect-dispatch html
hc_segmented_points-HilbertCurve-method
html
hc_segments-GenomicHilbertCurve-method
html
hc_segments-HilbertCurve-method html
hc_segments-dispatch html
hc_text-GenomicHilbertCurve-method html
hc_text-HilbertCurve-method html
hc_text-dispatch html
is_white html
show-HilbertCurve-method html
unzoom-HilbertCurve-method html
zoom-HilbertCurve-method html
** building package indices
** installing vignettes
'HilbertCurve.Rmd' using 'UTF-8'
** testing if installed package can be loaded from temporary location
** testing if installed package can be loaded from final location
** testing if installed package keeps a record of temporary installation path
install for x64
* installing *source* package 'HilbertCurve' ...
** testing if installed package can be loaded
* MD5 sums
packaged installation of 'HilbertCurve' as HilbertCurve_1.24.0.zip
* DONE (HilbertCurve)
* installing to library 'C:/Users/biocbuild/bbs-3.14-bioc/R/library'
package 'HilbertCurve' successfully unpacked and MD5 sums checked