| Back to Multiple platform build/check report for BioC 3.14 |
|
This page was generated on 2022-04-13 12:08:09 -0400 (Wed, 13 Apr 2022).
| Hostname | OS | Arch (*) | R version | Installed pkgs |
|---|---|---|---|---|
| nebbiolo2 | Linux (Ubuntu 20.04.4 LTS) | x86_64 | 4.1.3 (2022-03-10) -- "One Push-Up" | 4324 |
| tokay2 | Windows Server 2012 R2 Standard | x64 | 4.1.3 (2022-03-10) -- "One Push-Up" | 4077 |
| machv2 | macOS 10.14.6 Mojave | x86_64 | 4.1.3 (2022-03-10) -- "One Push-Up" | 4137 |
| Click on any hostname to see more info about the system (e.g. compilers) (*) as reported by 'uname -p', except on Windows and Mac OS X | ||||
|
To the developers/maintainers of the HiLDA package: - Please allow up to 24 hours (and sometimes 48 hours) for your latest push to git@git.bioconductor.org:packages/HiLDA.git to reflect on this report. See How and When does the builder pull? When will my changes propagate? for more information. - Make sure to use the following settings in order to reproduce any error or warning you see on this page. |
| Package 874/2083 | Hostname | OS / Arch | INSTALL | BUILD | CHECK | BUILD BIN | ||||||||
| HiLDA 1.8.0 (landing page) Zhi Yang
| nebbiolo2 | Linux (Ubuntu 20.04.4 LTS) / x86_64 | OK | OK | OK | |||||||||
| tokay2 | Windows Server 2012 R2 Standard / x64 | OK | OK | OK | OK | |||||||||
| machv2 | macOS 10.14.6 Mojave / x86_64 | OK | OK | OK | OK | |||||||||
| Package: HiLDA |
| Version: 1.8.0 |
| Command: /Library/Frameworks/R.framework/Resources/bin/R CMD check --install=check:HiLDA.install-out.txt --library=/Library/Frameworks/R.framework/Resources/library --no-vignettes --timings HiLDA_1.8.0.tar.gz |
| StartedAt: 2022-04-12 14:16:19 -0400 (Tue, 12 Apr 2022) |
| EndedAt: 2022-04-12 14:22:19 -0400 (Tue, 12 Apr 2022) |
| EllapsedTime: 360.1 seconds |
| RetCode: 0 |
| Status: OK |
| CheckDir: HiLDA.Rcheck |
| Warnings: 0 |
##############################################################################
##############################################################################
###
### Running command:
###
### /Library/Frameworks/R.framework/Resources/bin/R CMD check --install=check:HiLDA.install-out.txt --library=/Library/Frameworks/R.framework/Resources/library --no-vignettes --timings HiLDA_1.8.0.tar.gz
###
##############################################################################
##############################################################################
* using log directory ‘/Users/biocbuild/bbs-3.14-bioc/meat/HiLDA.Rcheck’
* using R version 4.1.3 (2022-03-10)
* using platform: x86_64-apple-darwin17.0 (64-bit)
* using session charset: UTF-8
* using option ‘--no-vignettes’
* checking for file ‘HiLDA/DESCRIPTION’ ... OK
* checking extension type ... Package
* this is package ‘HiLDA’ version ‘1.8.0’
* package encoding: UTF-8
* checking package namespace information ... OK
* checking package dependencies ... OK
* checking if this is a source package ... OK
* checking if there is a namespace ... OK
* checking for hidden files and directories ... OK
* checking for portable file names ... OK
* checking for sufficient/correct file permissions ... OK
* checking whether package ‘HiLDA’ can be installed ... OK
* checking installed package size ... OK
* checking package directory ... OK
* checking ‘build’ directory ... OK
* checking DESCRIPTION meta-information ... OK
* checking top-level files ... OK
* checking for left-over files ... OK
* checking index information ... OK
* checking package subdirectories ... OK
* checking R files for non-ASCII characters ... OK
* checking R files for syntax errors ... OK
* checking whether the package can be loaded ... OK
* checking whether the package can be loaded with stated dependencies ... OK
* checking whether the package can be unloaded cleanly ... OK
* checking whether the namespace can be loaded with stated dependencies ... OK
* checking whether the namespace can be unloaded cleanly ... OK
* checking dependencies in R code ... OK
* checking S3 generic/method consistency ... OK
* checking replacement functions ... OK
* checking foreign function calls ... OK
* checking R code for possible problems ... OK
* checking Rd files ... OK
* checking Rd metadata ... OK
* checking Rd cross-references ... OK
* checking for missing documentation entries ... OK
* checking for code/documentation mismatches ... OK
* checking Rd \usage sections ... OK
* checking Rd contents ... OK
* checking for unstated dependencies in examples ... OK
* checking line endings in C/C++/Fortran sources/headers ... OK
* checking compiled code ... NOTE
Note: information on .o files is not available
* checking files in ‘vignettes’ ... OK
* checking examples ... OK
Examples with CPU (user + system) or elapsed time > 5s
user system elapsed
hildaTest 157.857 0.454 171.142
hildaGlobalResult 74.578 0.218 74.858
hildaReadMPFile 19.874 1.208 22.393
* checking for unstated dependencies in ‘tests’ ... OK
* checking tests ...
Running ‘testthat.R’
OK
* checking for unstated dependencies in vignettes ... OK
* checking package vignettes in ‘inst/doc’ ... OK
* checking running R code from vignettes ... SKIPPED
* checking re-building of vignette outputs ... SKIPPED
* checking PDF version of manual ... OK
* DONE
Status: 1 NOTE
See
‘/Users/biocbuild/bbs-3.14-bioc/meat/HiLDA.Rcheck/00check.log’
for details.
HiLDA.Rcheck/00install.out
############################################################################## ############################################################################## ### ### Running command: ### ### /Library/Frameworks/R.framework/Resources/bin/R CMD INSTALL HiLDA ### ############################################################################## ############################################################################## * installing to library ‘/Library/Frameworks/R.framework/Versions/4.1/Resources/library’ * installing *source* package ‘HiLDA’ ... ** using staged installation ** libs clang++ -mmacosx-version-min=10.13 -std=gnu++14 -I"/Library/Frameworks/R.framework/Resources/include" -DNDEBUG -I'/Library/Frameworks/R.framework/Versions/4.1/Resources/library/Rcpp/include' -I/usr/local/include -fPIC -Wall -g -O2 -c EMalgorithm.cpp -o EMalgorithm.o clang++ -mmacosx-version-min=10.13 -std=gnu++14 -I"/Library/Frameworks/R.framework/Resources/include" -DNDEBUG -I'/Library/Frameworks/R.framework/Versions/4.1/Resources/library/Rcpp/include' -I/usr/local/include -fPIC -Wall -g -O2 -c RcppExports.cpp -o RcppExports.o clang++ -mmacosx-version-min=10.13 -std=gnu++14 -I"/Library/Frameworks/R.framework/Resources/include" -DNDEBUG -I'/Library/Frameworks/R.framework/Versions/4.1/Resources/library/Rcpp/include' -I/usr/local/include -fPIC -Wall -g -O2 -c checkBoundary.cpp -o checkBoundary.o clang++ -mmacosx-version-min=10.13 -std=gnu++14 -I"/Library/Frameworks/R.framework/Resources/include" -DNDEBUG -I'/Library/Frameworks/R.framework/Versions/4.1/Resources/library/Rcpp/include' -I/usr/local/include -fPIC -Wall -g -O2 -c convertFromToVector.cpp -o convertFromToVector.o clang++ -mmacosx-version-min=10.13 -std=gnu++14 -dynamiclib -Wl,-headerpad_max_install_names -undefined dynamic_lookup -single_module -multiply_defined suppress -L/Library/Frameworks/R.framework/Resources/lib -L/usr/local/lib -o HiLDA.so EMalgorithm.o RcppExports.o checkBoundary.o convertFromToVector.o -F/Library/Frameworks/R.framework/.. -framework R -Wl,-framework -Wl,CoreFoundation installing to /Library/Frameworks/R.framework/Versions/4.1/Resources/library/00LOCK-HiLDA/00new/HiLDA/libs ** R ** inst ** byte-compile and prepare package for lazy loading ** help *** installing help indices ** building package indices ** installing vignettes ** testing if installed package can be loaded from temporary location ** checking absolute paths in shared objects and dynamic libraries ** testing if installed package can be loaded from final location ** testing if installed package keeps a record of temporary installation path * DONE (HiLDA)
HiLDA.Rcheck/tests/testthat.Rout
R version 4.1.3 (2022-03-10) -- "One Push-Up"
Copyright (C) 2022 The R Foundation for Statistical Computing
Platform: x86_64-apple-darwin17.0 (64-bit)
R is free software and comes with ABSOLUTELY NO WARRANTY.
You are welcome to redistribute it under certain conditions.
Type 'license()' or 'licence()' for distribution details.
R is a collaborative project with many contributors.
Type 'contributors()' for more information and
'citation()' on how to cite R or R packages in publications.
Type 'demo()' for some demos, 'help()' for on-line help, or
'help.start()' for an HTML browser interface to help.
Type 'q()' to quit R.
> library(testthat)
> library(HiLDA)
Loading required package: ggplot2
>
> test_check("HiLDA")
#trial: 1; #iteration: 25; time(s): 0.08; convergence: TRUE; loglikelihood: -8202.3184
#trial: 2; #iteration: 32; time(s): 0.08; convergence: TRUE; loglikelihood: -8202.3187
#trial: 3; #iteration: 16; time(s): 0.06; convergence: TRUE; loglikelihood: -8202.3185
#trial: 4; #iteration: 14; time(s): 0.03; convergence: TRUE; loglikelihood: -8202.3188
#trial: 5; #iteration: 28; time(s): 0.09; convergence: TRUE; loglikelihood: -8202.3184
#trial: 6; #iteration: 21; time(s): 0.06; convergence: TRUE; loglikelihood: -8202.3184
#trial: 7; #iteration: 18; time(s): 0.05; convergence: TRUE; loglikelihood: -8202.3334
#trial: 8; #iteration: 22; time(s): 0.06; convergence: TRUE; loglikelihood: -8202.3188
#trial: 9; #iteration: 52; time(s): 0.10; convergence: TRUE; loglikelihood: -8202.3201
#trial: 10; #iteration: 19; time(s): 0.06; convergence: TRUE; loglikelihood: -8202.3186
[ FAIL 0 | WARN 1 | SKIP 0 | PASS 4 ]
[ FAIL 0 | WARN 1 | SKIP 0 | PASS 4 ]
>
> proc.time()
user system elapsed
3.499 0.266 3.750
HiLDA.Rcheck/HiLDA-Ex.timings
| name | user | system | elapsed | |
| hildaBarplot | 1.254 | 0.020 | 1.277 | |
| hildaDiffPlot | 0.977 | 0.008 | 0.985 | |
| hildaGlobalResult | 74.578 | 0.218 | 74.858 | |
| hildaLocalResult | 0.023 | 0.002 | 0.025 | |
| hildaPlotSignature | 0.605 | 0.004 | 0.610 | |
| hildaReadMPFile | 19.874 | 1.208 | 22.393 | |
| hildaRhat | 0.027 | 0.002 | 0.029 | |
| hildaTest | 157.857 | 0.454 | 171.142 | |
| pmBarplot | 1.441 | 0.049 | 1.492 | |
| pmMultiBarplot | 1.270 | 0.030 | 1.302 | |
| pmPlotSignature | 0.996 | 0.022 | 1.020 | |
| pmgetSignature | 0.428 | 0.023 | 0.452 | |
| visPMS | 0.584 | 0.034 | 0.619 | |