| Back to Multiple platform build/check report for BioC 3.14 |
|
This page was generated on 2022-04-13 12:05:24 -0400 (Wed, 13 Apr 2022).
| Hostname | OS | Arch (*) | R version | Installed pkgs |
|---|---|---|---|---|
| nebbiolo2 | Linux (Ubuntu 20.04.4 LTS) | x86_64 | 4.1.3 (2022-03-10) -- "One Push-Up" | 4324 |
| tokay2 | Windows Server 2012 R2 Standard | x64 | 4.1.3 (2022-03-10) -- "One Push-Up" | 4077 |
| machv2 | macOS 10.14.6 Mojave | x86_64 | 4.1.3 (2022-03-10) -- "One Push-Up" | 4137 |
| Click on any hostname to see more info about the system (e.g. compilers) (*) as reported by 'uname -p', except on Windows and Mac OS X | ||||
|
To the developers/maintainers of the GenomicSuperSignature package: - Please allow up to 24 hours (and sometimes 48 hours) for your latest push to git@git.bioconductor.org:packages/GenomicSuperSignature.git to reflect on this report. See How and When does the builder pull? When will my changes propagate? for more information. - Make sure to use the following settings in order to reproduce any error or warning you see on this page. |
| Package 758/2083 | Hostname | OS / Arch | INSTALL | BUILD | CHECK | BUILD BIN | ||||||||
| GenomicSuperSignature 1.2.1 (landing page) Sehyun Oh
| nebbiolo2 | Linux (Ubuntu 20.04.4 LTS) / x86_64 | OK | OK | OK | |||||||||
| tokay2 | Windows Server 2012 R2 Standard / x64 | OK | OK | OK | OK | |||||||||
| machv2 | macOS 10.14.6 Mojave / x86_64 | OK | OK | OK | OK | |||||||||
| Package: GenomicSuperSignature |
| Version: 1.2.1 |
| Command: /home/biocbuild/bbs-3.14-bioc/R/bin/R CMD check --install=check:GenomicSuperSignature.install-out.txt --library=/home/biocbuild/bbs-3.14-bioc/R/library --no-vignettes --timings GenomicSuperSignature_1.2.1.tar.gz |
| StartedAt: 2022-04-12 07:34:30 -0400 (Tue, 12 Apr 2022) |
| EndedAt: 2022-04-12 07:38:32 -0400 (Tue, 12 Apr 2022) |
| EllapsedTime: 242.4 seconds |
| RetCode: 0 |
| Status: OK |
| CheckDir: GenomicSuperSignature.Rcheck |
| Warnings: 0 |
##############################################################################
##############################################################################
###
### Running command:
###
### /home/biocbuild/bbs-3.14-bioc/R/bin/R CMD check --install=check:GenomicSuperSignature.install-out.txt --library=/home/biocbuild/bbs-3.14-bioc/R/library --no-vignettes --timings GenomicSuperSignature_1.2.1.tar.gz
###
##############################################################################
##############################################################################
* using log directory ‘/home/biocbuild/bbs-3.14-bioc/meat/GenomicSuperSignature.Rcheck’
* using R version 4.1.3 (2022-03-10)
* using platform: x86_64-pc-linux-gnu (64-bit)
* using session charset: UTF-8
* using option ‘--no-vignettes’
* checking for file ‘GenomicSuperSignature/DESCRIPTION’ ... OK
* this is package ‘GenomicSuperSignature’ version ‘1.2.1’
* package encoding: UTF-8
* checking package namespace information ... OK
* checking package dependencies ... OK
* checking if this is a source package ... OK
* checking if there is a namespace ... OK
* checking for hidden files and directories ... OK
* checking for portable file names ... OK
* checking for sufficient/correct file permissions ... OK
* checking whether package ‘GenomicSuperSignature’ can be installed ... OK
* checking installed package size ... OK
* checking package directory ... OK
* checking ‘build’ directory ... OK
* checking DESCRIPTION meta-information ... OK
* checking top-level files ... OK
* checking for left-over files ... OK
* checking index information ... OK
* checking package subdirectories ... OK
* checking R files for non-ASCII characters ... OK
* checking R files for syntax errors ... OK
* checking whether the package can be loaded ... OK
* checking whether the package can be loaded with stated dependencies ... OK
* checking whether the package can be unloaded cleanly ... OK
* checking whether the namespace can be loaded with stated dependencies ... OK
* checking whether the namespace can be unloaded cleanly ... OK
* checking dependencies in R code ... OK
* checking S3 generic/method consistency ... OK
* checking replacement functions ... OK
* checking foreign function calls ... OK
* checking R code for possible problems ... NOTE
drawWordcloud: no visible global function definition for ‘data’
Undefined global functions or variables:
data
Consider adding
importFrom("utils", "data")
to your NAMESPACE file.
* checking Rd files ... OK
* checking Rd metadata ... OK
* checking Rd cross-references ... OK
* checking for missing documentation entries ... OK
* checking for code/documentation mismatches ... OK
* checking Rd \usage sections ... OK
* checking Rd contents ... OK
* checking for unstated dependencies in examples ... OK
* checking contents of ‘data’ directory ... OK
* checking data for non-ASCII characters ... OK
* checking LazyData ... OK
* checking data for ASCII and uncompressed saves ... OK
* checking files in ‘vignettes’ ... OK
* checking examples ... OK
Examples with CPU (user + system) or elapsed time > 5s
user system elapsed
getModel 7.146 2.724 39.235
* checking for unstated dependencies in ‘tests’ ... OK
* checking tests ...
Running ‘testthat.R’
OK
* checking for unstated dependencies in vignettes ... OK
* checking package vignettes in ‘inst/doc’ ... OK
* checking running R code from vignettes ... SKIPPED
* checking re-building of vignette outputs ... SKIPPED
* checking PDF version of manual ... OK
* DONE
Status: 1 NOTE
See
‘/home/biocbuild/bbs-3.14-bioc/meat/GenomicSuperSignature.Rcheck/00check.log’
for details.
GenomicSuperSignature.Rcheck/00install.out
############################################################################## ############################################################################## ### ### Running command: ### ### /home/biocbuild/bbs-3.14-bioc/R/bin/R CMD INSTALL GenomicSuperSignature ### ############################################################################## ############################################################################## * installing to library ‘/home/biocbuild/bbs-3.14-bioc/R/library’ * installing *source* package ‘GenomicSuperSignature’ ... ** using staged installation ** R ** data *** moving datasets to lazyload DB ** inst ** byte-compile and prepare package for lazy loading ** help *** installing help indices ** building package indices ** installing vignettes ** testing if installed package can be loaded from temporary location ** testing if installed package can be loaded from final location ** testing if installed package keeps a record of temporary installation path * DONE (GenomicSuperSignature)
GenomicSuperSignature.Rcheck/tests/testthat.Rout
R version 4.1.3 (2022-03-10) -- "One Push-Up"
Copyright (C) 2022 The R Foundation for Statistical Computing
Platform: x86_64-pc-linux-gnu (64-bit)
R is free software and comes with ABSOLUTELY NO WARRANTY.
You are welcome to redistribute it under certain conditions.
Type 'license()' or 'licence()' for distribution details.
R is a collaborative project with many contributors.
Type 'contributors()' for more information and
'citation()' on how to cite R or R packages in publications.
Type 'demo()' for some demos, 'help()' for on-line help, or
'help.start()' for an HTML browser interface to help.
Type 'q()' to quit R.
> library(testthat)
> library(GenomicSuperSignature)
Loading required package: SummarizedExperiment
Loading required package: MatrixGenerics
Loading required package: matrixStats
Attaching package: 'MatrixGenerics'
The following objects are masked from 'package:matrixStats':
colAlls, colAnyNAs, colAnys, colAvgsPerRowSet, colCollapse,
colCounts, colCummaxs, colCummins, colCumprods, colCumsums,
colDiffs, colIQRDiffs, colIQRs, colLogSumExps, colMadDiffs,
colMads, colMaxs, colMeans2, colMedians, colMins, colOrderStats,
colProds, colQuantiles, colRanges, colRanks, colSdDiffs, colSds,
colSums2, colTabulates, colVarDiffs, colVars, colWeightedMads,
colWeightedMeans, colWeightedMedians, colWeightedSds,
colWeightedVars, rowAlls, rowAnyNAs, rowAnys, rowAvgsPerColSet,
rowCollapse, rowCounts, rowCummaxs, rowCummins, rowCumprods,
rowCumsums, rowDiffs, rowIQRDiffs, rowIQRs, rowLogSumExps,
rowMadDiffs, rowMads, rowMaxs, rowMeans2, rowMedians, rowMins,
rowOrderStats, rowProds, rowQuantiles, rowRanges, rowRanks,
rowSdDiffs, rowSds, rowSums2, rowTabulates, rowVarDiffs, rowVars,
rowWeightedMads, rowWeightedMeans, rowWeightedMedians,
rowWeightedSds, rowWeightedVars
Loading required package: GenomicRanges
Loading required package: stats4
Loading required package: BiocGenerics
Attaching package: 'BiocGenerics'
The following objects are masked from 'package:stats':
IQR, mad, sd, var, xtabs
The following objects are masked from 'package:base':
Filter, Find, Map, Position, Reduce, anyDuplicated, append,
as.data.frame, basename, cbind, colnames, dirname, do.call,
duplicated, eval, evalq, get, grep, grepl, intersect, is.unsorted,
lapply, mapply, match, mget, order, paste, pmax, pmax.int, pmin,
pmin.int, rank, rbind, rownames, sapply, setdiff, sort, table,
tapply, union, unique, unsplit, which.max, which.min
Loading required package: S4Vectors
Attaching package: 'S4Vectors'
The following objects are masked from 'package:base':
I, expand.grid, unname
Loading required package: IRanges
Loading required package: GenomeInfoDb
Loading required package: Biobase
Welcome to Bioconductor
Vignettes contain introductory material; view with
'browseVignettes()'. To cite Bioconductor, see
'citation("Biobase")', and for packages 'citation("pkgname")'.
Attaching package: 'Biobase'
The following object is masked from 'package:MatrixGenerics':
rowMedians
The following objects are masked from 'package:matrixStats':
anyMissing, rowMedians
>
> test_check("GenomicSuperSignature")
[ FAIL 0 | WARN 0 | SKIP 0 | PASS 57 ]
>
> proc.time()
user system elapsed
21.177 0.903 22.060
GenomicSuperSignature.Rcheck/GenomicSuperSignature-Ex.timings
| name | user | system | elapsed | |
| GenomicSignatures-methods | 0.074 | 0.012 | 0.086 | |
| PCAGenomicSignatures-class | 0.053 | 0.008 | 0.061 | |
| PCAGenomicSignatures-methods | 0.076 | 0.008 | 0.084 | |
| PCAGenomicSignatures | 0.054 | 0.012 | 0.066 | |
| PCinRAV | 0.055 | 0.004 | 0.059 | |
| annotatePC | 3.238 | 0.184 | 3.422 | |
| annotateRAV | 0.051 | 0.000 | 0.051 | |
| buildAvgLoading | 0.012 | 0.000 | 0.012 | |
| calculateScore | 2.868 | 0.044 | 2.912 | |
| drawWordcloud | 0.252 | 0.064 | 0.316 | |
| extractPC | 0.001 | 0.000 | 0.001 | |
| findKeywordInRAV | 0.054 | 0.004 | 0.058 | |
| findSignature | 0.076 | 0.004 | 0.080 | |
| findStudiesInCluster | 0.061 | 0.000 | 0.061 | |
| getModel | 7.146 | 2.724 | 39.235 | |
| heatmapTable | 2.595 | 0.127 | 2.723 | |
| meshTable | 0.224 | 0.023 | 0.248 | |
| plotAnnotatedPCA | 1.147 | 0.017 | 1.165 | |
| plotValidate | 2.946 | 0.237 | 3.183 | |
| rmNaInf | 0 | 0 | 0 | |
| rowNorm | 0.001 | 0.000 | 0.001 | |
| sampleScoreHeatmap | 4.529 | 0.252 | 4.780 | |
| subsetEnrichedPathways | 0.090 | 0.004 | 0.093 | |
| validate | 2.735 | 0.065 | 2.800 | |
| validatedSignatures | 1.995 | 0.090 | 2.085 | |