| Back to Multiple platform build/check report for BioC 3.14 |
|
This page was generated on 2022-04-13 12:05:24 -0400 (Wed, 13 Apr 2022).
| Hostname | OS | Arch (*) | R version | Installed pkgs |
|---|---|---|---|---|
| nebbiolo2 | Linux (Ubuntu 20.04.4 LTS) | x86_64 | 4.1.3 (2022-03-10) -- "One Push-Up" | 4324 |
| tokay2 | Windows Server 2012 R2 Standard | x64 | 4.1.3 (2022-03-10) -- "One Push-Up" | 4077 |
| machv2 | macOS 10.14.6 Mojave | x86_64 | 4.1.3 (2022-03-10) -- "One Push-Up" | 4137 |
| Click on any hostname to see more info about the system (e.g. compilers) (*) as reported by 'uname -p', except on Windows and Mac OS X | ||||
|
To the developers/maintainers of the GenomicDistributions package: - Please allow up to 24 hours (and sometimes 48 hours) for your latest push to git@git.bioconductor.org:packages/GenomicDistributions.git to reflect on this report. See How and When does the builder pull? When will my changes propagate? for more information. - Make sure to use the following settings in order to reproduce any error or warning you see on this page. |
| Package 750/2083 | Hostname | OS / Arch | INSTALL | BUILD | CHECK | BUILD BIN | ||||||||
| GenomicDistributions 1.2.0 (landing page) Kristyna Kupkova
| nebbiolo2 | Linux (Ubuntu 20.04.4 LTS) / x86_64 | OK | OK | OK | |||||||||
| tokay2 | Windows Server 2012 R2 Standard / x64 | OK | OK | OK | OK | |||||||||
| machv2 | macOS 10.14.6 Mojave / x86_64 | OK | OK | OK | OK | |||||||||
| Package: GenomicDistributions |
| Version: 1.2.0 |
| Command: /home/biocbuild/bbs-3.14-bioc/R/bin/R CMD check --install=check:GenomicDistributions.install-out.txt --library=/home/biocbuild/bbs-3.14-bioc/R/library --no-vignettes --timings GenomicDistributions_1.2.0.tar.gz |
| StartedAt: 2022-04-12 07:34:07 -0400 (Tue, 12 Apr 2022) |
| EndedAt: 2022-04-12 07:39:37 -0400 (Tue, 12 Apr 2022) |
| EllapsedTime: 329.5 seconds |
| RetCode: 0 |
| Status: OK |
| CheckDir: GenomicDistributions.Rcheck |
| Warnings: 0 |
##############################################################################
##############################################################################
###
### Running command:
###
### /home/biocbuild/bbs-3.14-bioc/R/bin/R CMD check --install=check:GenomicDistributions.install-out.txt --library=/home/biocbuild/bbs-3.14-bioc/R/library --no-vignettes --timings GenomicDistributions_1.2.0.tar.gz
###
##############################################################################
##############################################################################
* using log directory ‘/home/biocbuild/bbs-3.14-bioc/meat/GenomicDistributions.Rcheck’
* using R version 4.1.3 (2022-03-10)
* using platform: x86_64-pc-linux-gnu (64-bit)
* using session charset: UTF-8
* using option ‘--no-vignettes’
* checking for file ‘GenomicDistributions/DESCRIPTION’ ... OK
* this is package ‘GenomicDistributions’ version ‘1.2.0’
* package encoding: UTF-8
* checking package namespace information ... OK
* checking package dependencies ... OK
* checking if this is a source package ... OK
* checking if there is a namespace ... OK
* checking for hidden files and directories ... OK
* checking for portable file names ... OK
* checking for sufficient/correct file permissions ... OK
* checking whether package ‘GenomicDistributions’ can be installed ... OK
* checking installed package size ... OK
* checking package directory ... OK
* checking ‘build’ directory ... OK
* checking DESCRIPTION meta-information ... OK
* checking top-level files ... OK
* checking for left-over files ... OK
* checking index information ... OK
* checking package subdirectories ... OK
* checking R files for non-ASCII characters ... OK
* checking R files for syntax errors ... OK
* checking whether the package can be loaded ... OK
* checking whether the package can be loaded with stated dependencies ... OK
* checking whether the package can be unloaded cleanly ... OK
* checking whether the namespace can be loaded with stated dependencies ... OK
* checking whether the namespace can be unloaded cleanly ... OK
* checking dependencies in R code ... OK
* checking S3 generic/method consistency ... OK
* checking replacement functions ... OK
* checking foreign function calls ... OK
* checking R code for possible problems ... OK
* checking Rd files ... OK
* checking Rd metadata ... OK
* checking Rd cross-references ... OK
* checking for missing documentation entries ... OK
* checking for code/documentation mismatches ... OK
* checking Rd \usage sections ... OK
* checking Rd contents ... OK
* checking for unstated dependencies in examples ... OK
* checking contents of ‘data’ directory ... OK
* checking data for non-ASCII characters ... OK
* checking LazyData ... OK
* checking data for ASCII and uncompressed saves ... OK
* checking files in ‘vignettes’ ... OK
* checking examples ... OK
Examples with CPU (user + system) or elapsed time > 5s
user system elapsed
getGeneModelsFromGTF 14.887 1.251 47.675
getTssFromGTF 6.329 0.207 6.537
getChromSizesFromFasta 2.259 0.348 121.506
* checking for unstated dependencies in ‘tests’ ... OK
* checking tests ...
Running ‘testthat.R’
OK
* checking for unstated dependencies in vignettes ... OK
* checking package vignettes in ‘inst/doc’ ... OK
* checking running R code from vignettes ... SKIPPED
* checking re-building of vignette outputs ... SKIPPED
* checking PDF version of manual ... OK
* DONE
Status: OK
GenomicDistributions.Rcheck/00install.out
############################################################################## ############################################################################## ### ### Running command: ### ### /home/biocbuild/bbs-3.14-bioc/R/bin/R CMD INSTALL GenomicDistributions ### ############################################################################## ############################################################################## * installing to library ‘/home/biocbuild/bbs-3.14-bioc/R/library’ * installing *source* package ‘GenomicDistributions’ ... ** using staged installation ** R ** data *** moving datasets to lazyload DB ** inst ** byte-compile and prepare package for lazy loading ** help *** installing help indices ** building package indices ** installing vignettes ** testing if installed package can be loaded from temporary location ** testing if installed package can be loaded from final location ** testing if installed package keeps a record of temporary installation path * DONE (GenomicDistributions)
GenomicDistributions.Rcheck/tests/testthat.Rout
R version 4.1.3 (2022-03-10) -- "One Push-Up"
Copyright (C) 2022 The R Foundation for Statistical Computing
Platform: x86_64-pc-linux-gnu (64-bit)
R is free software and comes with ABSOLUTELY NO WARRANTY.
You are welcome to redistribute it under certain conditions.
Type 'license()' or 'licence()' for distribution details.
R is a collaborative project with many contributors.
Type 'contributors()' for more information and
'citation()' on how to cite R or R packages in publications.
Type 'demo()' for some demos, 'help()' for on-line help, or
'help.start()' for an HTML browser interface to help.
Type 'q()' to quit R.
> library(testthat)
> library("GenomicDistributions")
Loading required package: IRanges
Loading required package: BiocGenerics
Attaching package: 'BiocGenerics'
The following objects are masked from 'package:stats':
IQR, mad, sd, var, xtabs
The following objects are masked from 'package:base':
Filter, Find, Map, Position, Reduce, anyDuplicated, append,
as.data.frame, basename, cbind, colnames, dirname, do.call,
duplicated, eval, evalq, get, grep, grepl, intersect, is.unsorted,
lapply, mapply, match, mget, order, paste, pmax, pmax.int, pmin,
pmin.int, rank, rbind, rownames, sapply, setdiff, sort, table,
tapply, union, unique, unsplit, which.max, which.min
Loading required package: S4Vectors
Loading required package: stats4
Attaching package: 'S4Vectors'
The following objects are masked from 'package:base':
I, expand.grid, unname
Loading required package: GenomicRanges
Loading required package: GenomeInfoDb
>
> test_check("GenomicDistributions")
[ FAIL 0 | WARN 0 | SKIP 1 | PASS 2652 ]
══ Skipped tests ═══════════════════════════════════════════════════════════════
• empty test (1)
[ FAIL 0 | WARN 0 | SKIP 1 | PASS 2652 ]
>
> proc.time()
user system elapsed
30.832 0.776 31.216
GenomicDistributions.Rcheck/GenomicDistributions-Ex.timings
| name | user | system | elapsed | |
| binBSGenome | 0 | 0 | 0 | |
| binChroms | 0.014 | 0.000 | 0.014 | |
| binRegion | 0.001 | 0.000 | 0.001 | |
| calcChromBins | 2.425 | 0.040 | 2.400 | |
| calcChromBinsRef | 1.938 | 0.003 | 1.907 | |
| calcCumulativePartitions | 2.683 | 0.128 | 2.807 | |
| calcCumulativePartitionsRef | 1.830 | 0.044 | 1.875 | |
| calcDinuclFreq | 0 | 0 | 0 | |
| calcDinuclFreqRef | 0 | 0 | 0 | |
| calcExpectedPartitions | 1.842 | 0.056 | 1.898 | |
| calcExpectedPartitionsRef | 1.589 | 0.004 | 1.594 | |
| calcFeatureDist | 0.112 | 0.004 | 0.116 | |
| calcFeatureDistRefTSS | 0.218 | 0.000 | 0.164 | |
| calcGCContent | 0 | 0 | 0 | |
| calcGCContentRef | 0 | 0 | 0 | |
| calcNeighborDist | 0.031 | 0.000 | 0.032 | |
| calcOpenSignal | 0.030 | 0.004 | 0.024 | |
| calcPartitions | 1.970 | 0.052 | 2.016 | |
| calcPartitionsRef | 1.535 | 0.028 | 1.562 | |
| calcWidth | 0.469 | 0.016 | 0.437 | |
| dot-validateInputs | 0 | 0 | 0 | |
| dtToGr | 0.018 | 0.000 | 0.018 | |
| genomePartitionList | 1.444 | 0.008 | 1.452 | |
| getChromSizes | 0.002 | 0.000 | 0.002 | |
| getChromSizesFromFasta | 2.259 | 0.348 | 121.506 | |
| getGeneModels | 0.089 | 0.013 | 0.101 | |
| getGeneModelsFromGTF | 14.887 | 1.251 | 47.675 | |
| getGenomeBins | 1.590 | 0.136 | 1.721 | |
| getTssFromGTF | 6.329 | 0.207 | 6.537 | |
| loadBSgenome | 0 | 0 | 0 | |
| loadEnsDb | 0 | 0 | 0 | |
| nlist | 0 | 0 | 0 | |
| plotChromBins | 0.015 | 0.003 | 0.018 | |
| plotCumulativePartitions | 2.631 | 0.152 | 2.774 | |
| plotDinuclFreq | 0.011 | 0.000 | 0.011 | |
| plotExpectedPartitions | 1.441 | 0.008 | 1.448 | |
| plotFeatureDist | 0.219 | 0.000 | 0.167 | |
| plotGCContent | 0.021 | 0.000 | 0.021 | |
| plotNeighborDist | 0.007 | 0.000 | 0.007 | |
| plotOpenSignal | 0.080 | 0.000 | 0.066 | |
| plotPartitions | 1.477 | 0.020 | 1.497 | |
| plotQTHist | 0.31 | 0.00 | 0.31 | |
| retrieveFile | 0.000 | 0.000 | 0.001 | |