| Back to Multiple platform build/check report for BioC 3.14 |
|
This page was generated on 2022-04-13 12:06:36 -0400 (Wed, 13 Apr 2022).
| Hostname | OS | Arch (*) | R version | Installed pkgs |
|---|---|---|---|---|
| nebbiolo2 | Linux (Ubuntu 20.04.4 LTS) | x86_64 | 4.1.3 (2022-03-10) -- "One Push-Up" | 4324 |
| tokay2 | Windows Server 2012 R2 Standard | x64 | 4.1.3 (2022-03-10) -- "One Push-Up" | 4077 |
| machv2 | macOS 10.14.6 Mojave | x86_64 | 4.1.3 (2022-03-10) -- "One Push-Up" | 4137 |
| Click on any hostname to see more info about the system (e.g. compilers) (*) as reported by 'uname -p', except on Windows and Mac OS X | ||||
|
To the developers/maintainers of the GeneMeta package: - Please allow up to 24 hours (and sometimes 48 hours) for your latest push to git@git.bioconductor.org:packages/GeneMeta.git to reflect on this report. See How and When does the builder pull? When will my changes propagate? for more information. - Make sure to use the following settings in order to reproduce any error or warning you see on this page. |
| Package 726/2083 | Hostname | OS / Arch | INSTALL | BUILD | CHECK | BUILD BIN | ||||||||
| GeneMeta 1.66.0 (landing page) Bioconductor Package Maintainer
| nebbiolo2 | Linux (Ubuntu 20.04.4 LTS) / x86_64 | OK | OK | OK | |||||||||
| tokay2 | Windows Server 2012 R2 Standard / x64 | OK | OK | OK | OK | |||||||||
| machv2 | macOS 10.14.6 Mojave / x86_64 | OK | OK | OK | OK | |||||||||
| Package: GeneMeta |
| Version: 1.66.0 |
| Command: C:\Users\biocbuild\bbs-3.14-bioc\R\bin\R.exe CMD check --force-multiarch --install=check:GeneMeta.install-out.txt --library=C:\Users\biocbuild\bbs-3.14-bioc\R\library --no-vignettes --timings GeneMeta_1.66.0.tar.gz |
| StartedAt: 2022-04-12 20:08:44 -0400 (Tue, 12 Apr 2022) |
| EndedAt: 2022-04-12 20:11:10 -0400 (Tue, 12 Apr 2022) |
| EllapsedTime: 146.2 seconds |
| RetCode: 0 |
| Status: OK |
| CheckDir: GeneMeta.Rcheck |
| Warnings: 0 |
##############################################################################
##############################################################################
###
### Running command:
###
### C:\Users\biocbuild\bbs-3.14-bioc\R\bin\R.exe CMD check --force-multiarch --install=check:GeneMeta.install-out.txt --library=C:\Users\biocbuild\bbs-3.14-bioc\R\library --no-vignettes --timings GeneMeta_1.66.0.tar.gz
###
##############################################################################
##############################################################################
* using log directory 'C:/Users/biocbuild/bbs-3.14-bioc/meat/GeneMeta.Rcheck'
* using R version 4.1.3 (2022-03-10)
* using platform: x86_64-w64-mingw32 (64-bit)
* using session charset: ISO8859-1
* using option '--no-vignettes'
* checking for file 'GeneMeta/DESCRIPTION' ... OK
* this is package 'GeneMeta' version '1.66.0'
* checking package namespace information ... OK
* checking package dependencies ... OK
* checking if this is a source package ... OK
* checking if there is a namespace ... OK
* checking for hidden files and directories ... OK
* checking for portable file names ... OK
* checking whether package 'GeneMeta' can be installed ... OK
* checking installed package size ... OK
* checking package directory ... OK
* checking 'build' directory ... OK
* checking DESCRIPTION meta-information ... NOTE
Malformed Description field: should contain one or more complete sentences.
Packages listed in more than one of Depends, Imports, Suggests, Enhances:
'methods' 'Biobase'
A package should be listed in only one of these fields.
* checking top-level files ... OK
* checking for left-over files ... OK
* checking index information ... OK
* checking package subdirectories ... OK
* checking R files for non-ASCII characters ... OK
* checking R files for syntax errors ... OK
* loading checks for arch 'i386'
** checking whether the package can be loaded ... OK
** checking whether the package can be loaded with stated dependencies ... OK
** checking whether the package can be unloaded cleanly ... OK
** checking whether the namespace can be loaded with stated dependencies ... OK
** checking whether the namespace can be unloaded cleanly ... OK
* loading checks for arch 'x64'
** checking whether the package can be loaded ... OK
** checking whether the package can be loaded with stated dependencies ... OK
** checking whether the package can be unloaded cleanly ... OK
** checking whether the namespace can be loaded with stated dependencies ... OK
** checking whether the namespace can be unloaded cleanly ... OK
* checking dependencies in R code ... NOTE
'library' or 'require' call to 'methods' which was already attached by Depends.
Please remove these calls from your code.
Package in Depends field not imported from: 'genefilter'
These packages need to be imported from (in the NAMESPACE file)
for when this namespace is loaded but not attached.
* checking S3 generic/method consistency ... OK
* checking replacement functions ... OK
* checking foreign function calls ... OK
* checking R code for possible problems ... NOTE
File 'GeneMeta/R/meta1.R':
.onLoad calls:
require("methods")
Package startup functions should not change the search path.
See section 'Good practice' in '?.onAttach'.
CountPlot: no visible global function definition for 'points'
IDRplot: no visible global function definition for 'lines'
getdF_matrix: no visible global function definition for 'rowttests'
zScores: no visible global function definition for 'pchisq'
Undefined global functions or variables:
lines pchisq points rowttests
Consider adding
importFrom("graphics", "lines", "points")
importFrom("stats", "pchisq")
to your NAMESPACE file.
* checking Rd files ... NOTE
prepare_Rd: CountPlot.Rd:39: Dropping empty section \keyword
prepare_Rd: CountPlot.Rd:30: Dropping empty section \value
prepare_Rd: CountPlot.Rd:38: Dropping empty section \examples
prepare_Rd: tau.Rd:25: Dropping empty section \details
prepare_Rd: tau.Rd:26: Dropping empty section \value
* checking Rd metadata ... OK
* checking Rd cross-references ... OK
* checking for missing documentation entries ... OK
* checking for code/documentation mismatches ... OK
* checking Rd \usage sections ... OK
* checking Rd contents ... OK
* checking for unstated dependencies in examples ... OK
* checking contents of 'data' directory ... OK
* checking data for non-ASCII characters ... OK
* checking data for ASCII and uncompressed saves ... OK
* checking files in 'vignettes' ... OK
* checking examples ...
** running examples for arch 'i386' ... OK
** running examples for arch 'x64' ... OK
* checking for unstated dependencies in vignettes ... OK
* checking package vignettes in 'inst/doc' ... OK
* checking running R code from vignettes ... SKIPPED
* checking re-building of vignette outputs ... SKIPPED
* checking PDF version of manual ... OK
* DONE
Status: 4 NOTEs
See
'C:/Users/biocbuild/bbs-3.14-bioc/meat/GeneMeta.Rcheck/00check.log'
for details.
GeneMeta.Rcheck/00install.out
##############################################################################
##############################################################################
###
### Running command:
###
### C:\cygwin\bin\curl.exe -O http://155.52.207.166/BBS/3.14/bioc/src/contrib/GeneMeta_1.66.0.tar.gz && rm -rf GeneMeta.buildbin-libdir && mkdir GeneMeta.buildbin-libdir && C:\Users\biocbuild\bbs-3.14-bioc\R\bin\R.exe CMD INSTALL --merge-multiarch --build --library=GeneMeta.buildbin-libdir GeneMeta_1.66.0.tar.gz && C:\Users\biocbuild\bbs-3.14-bioc\R\bin\R.exe CMD INSTALL GeneMeta_1.66.0.zip && rm GeneMeta_1.66.0.tar.gz GeneMeta_1.66.0.zip
###
##############################################################################
##############################################################################
% Total % Received % Xferd Average Speed Time Time Time Current
Dload Upload Total Spent Left Speed
0 0 0 0 0 0 0 0 --:--:-- --:--:-- --:--:-- 0
0 0 0 0 0 0 0 0 --:--:-- --:--:-- --:--:-- 0
67 2222k 67 1502k 0 0 1436k 0 0:00:01 0:00:01 --:--:-- 1436k
100 2222k 100 2222k 0 0 1650k 0 0:00:01 0:00:01 --:--:-- 1651k
install for i386
* installing *source* package 'GeneMeta' ...
** using staged installation
** R
** data
** byte-compile and prepare package for lazy loading
** help
*** installing help indices
converting help for package 'GeneMeta'
finding HTML links ... done
CountPlot html
Nevins html
dstar html
f.Q html
tau html
zscore html
** building package indices
** installing vignettes
** testing if installed package can be loaded from temporary location
** testing if installed package can be loaded from final location
** testing if installed package keeps a record of temporary installation path
install for x64
* installing *source* package 'GeneMeta' ...
** testing if installed package can be loaded
* MD5 sums
packaged installation of 'GeneMeta' as GeneMeta_1.66.0.zip
* DONE (GeneMeta)
* installing to library 'C:/Users/biocbuild/bbs-3.14-bioc/R/library'
package 'GeneMeta' successfully unpacked and MD5 sums checked
|
GeneMeta.Rcheck/examples_i386/GeneMeta-Ex.timings
|
GeneMeta.Rcheck/examples_x64/GeneMeta-Ex.timings
|