| Back to Multiple platform build/check report for BioC 3.14 |
|
This page was generated on 2022-04-13 12:05:23 -0400 (Wed, 13 Apr 2022).
| Hostname | OS | Arch (*) | R version | Installed pkgs |
|---|---|---|---|---|
| nebbiolo2 | Linux (Ubuntu 20.04.4 LTS) | x86_64 | 4.1.3 (2022-03-10) -- "One Push-Up" | 4324 |
| tokay2 | Windows Server 2012 R2 Standard | x64 | 4.1.3 (2022-03-10) -- "One Push-Up" | 4077 |
| machv2 | macOS 10.14.6 Mojave | x86_64 | 4.1.3 (2022-03-10) -- "One Push-Up" | 4137 |
| Click on any hostname to see more info about the system (e.g. compilers) (*) as reported by 'uname -p', except on Windows and Mac OS X | ||||
|
To the developers/maintainers of the GeneAccord package: - Please allow up to 24 hours (and sometimes 48 hours) for your latest push to git@git.bioconductor.org:packages/GeneAccord.git to reflect on this report. See How and When does the builder pull? When will my changes propagate? for more information. - Make sure to use the following settings in order to reproduce any error or warning you see on this page. |
| Package 716/2083 | Hostname | OS / Arch | INSTALL | BUILD | CHECK | BUILD BIN | ||||||||
| GeneAccord 1.12.0 (landing page) Ariane L. Moore
| nebbiolo2 | Linux (Ubuntu 20.04.4 LTS) / x86_64 | OK | OK | OK | |||||||||
| tokay2 | Windows Server 2012 R2 Standard / x64 | OK | OK | OK | OK | |||||||||
| machv2 | macOS 10.14.6 Mojave / x86_64 | OK | OK | OK | OK | |||||||||
| Package: GeneAccord |
| Version: 1.12.0 |
| Command: /home/biocbuild/bbs-3.14-bioc/R/bin/R CMD check --install=check:GeneAccord.install-out.txt --library=/home/biocbuild/bbs-3.14-bioc/R/library --no-vignettes --timings GeneAccord_1.12.0.tar.gz |
| StartedAt: 2022-04-12 07:31:31 -0400 (Tue, 12 Apr 2022) |
| EndedAt: 2022-04-12 07:33:52 -0400 (Tue, 12 Apr 2022) |
| EllapsedTime: 141.5 seconds |
| RetCode: 0 |
| Status: OK |
| CheckDir: GeneAccord.Rcheck |
| Warnings: 0 |
##############################################################################
##############################################################################
###
### Running command:
###
### /home/biocbuild/bbs-3.14-bioc/R/bin/R CMD check --install=check:GeneAccord.install-out.txt --library=/home/biocbuild/bbs-3.14-bioc/R/library --no-vignettes --timings GeneAccord_1.12.0.tar.gz
###
##############################################################################
##############################################################################
* using log directory ‘/home/biocbuild/bbs-3.14-bioc/meat/GeneAccord.Rcheck’
* using R version 4.1.3 (2022-03-10)
* using platform: x86_64-pc-linux-gnu (64-bit)
* using session charset: UTF-8
* using option ‘--no-vignettes’
* checking for file ‘GeneAccord/DESCRIPTION’ ... OK
* checking extension type ... Package
* this is package ‘GeneAccord’ version ‘1.12.0’
* package encoding: UTF-8
* checking package namespace information ... OK
* checking package dependencies ... OK
* checking if this is a source package ... OK
* checking if there is a namespace ... OK
* checking for hidden files and directories ... OK
* checking for portable file names ... OK
* checking for sufficient/correct file permissions ... OK
* checking whether package ‘GeneAccord’ can be installed ... OK
* checking installed package size ... NOTE
installed size is 10.0Mb
sub-directories of 1Mb or more:
data 3.0Mb
extdata 6.6Mb
* checking package directory ... OK
* checking ‘build’ directory ... OK
* checking DESCRIPTION meta-information ... OK
* checking top-level files ... OK
* checking for left-over files ... OK
* checking index information ... OK
* checking package subdirectories ... OK
* checking R files for non-ASCII characters ... OK
* checking R files for syntax errors ... OK
* checking whether the package can be loaded ... OK
* checking whether the package can be loaded with stated dependencies ... OK
* checking whether the package can be unloaded cleanly ... OK
* checking whether the namespace can be loaded with stated dependencies ... OK
* checking whether the namespace can be unloaded cleanly ... OK
* checking dependencies in R code ... OK
* checking S3 generic/method consistency ... OK
* checking replacement functions ... OK
* checking foreign function calls ... OK
* checking R code for possible problems ... OK
* checking Rd files ... OK
* checking Rd metadata ... OK
* checking Rd cross-references ... OK
* checking for missing documentation entries ... OK
* checking for code/documentation mismatches ... OK
* checking Rd \usage sections ... OK
* checking Rd contents ... OK
* checking for unstated dependencies in examples ... OK
* checking contents of ‘data’ directory ... OK
* checking data for non-ASCII characters ... OK
* checking LazyData ... OK
* checking data for ASCII and uncompressed saves ... OK
* checking files in ‘vignettes’ ... OK
* checking examples ... OK
* checking for unstated dependencies in ‘tests’ ... OK
* checking tests ...
Running ‘testthat.R’
OK
* checking for unstated dependencies in vignettes ... OK
* checking package vignettes in ‘inst/doc’ ... OK
* checking running R code from vignettes ... SKIPPED
* checking re-building of vignette outputs ... SKIPPED
* checking PDF version of manual ... OK
* DONE
Status: 1 NOTE
See
‘/home/biocbuild/bbs-3.14-bioc/meat/GeneAccord.Rcheck/00check.log’
for details.
GeneAccord.Rcheck/00install.out
############################################################################## ############################################################################## ### ### Running command: ### ### /home/biocbuild/bbs-3.14-bioc/R/bin/R CMD INSTALL GeneAccord ### ############################################################################## ############################################################################## * installing to library ‘/home/biocbuild/bbs-3.14-bioc/R/library’ * installing *source* package ‘GeneAccord’ ... ** using staged installation ** R ** data *** moving datasets to lazyload DB ** inst ** byte-compile and prepare package for lazy loading ** help *** installing help indices ** building package indices ** installing vignettes ** testing if installed package can be loaded from temporary location ** testing if installed package can be loaded from final location ** testing if installed package keeps a record of temporary installation path * DONE (GeneAccord)
GeneAccord.Rcheck/tests/testthat.Rout
R version 4.1.3 (2022-03-10) -- "One Push-Up"
Copyright (C) 2022 The R Foundation for Statistical Computing
Platform: x86_64-pc-linux-gnu (64-bit)
R is free software and comes with ABSOLUTELY NO WARRANTY.
You are welcome to redistribute it under certain conditions.
Type 'license()' or 'licence()' for distribution details.
R is a collaborative project with many contributors.
Type 'contributors()' for more information and
'citation()' on how to cite R or R packages in publications.
Type 'demo()' for some demos, 'help()' for on-line help, or
'help.start()' for an HTML browser interface to help.
Type 'q()' to quit R.
> library("testthat")
> library("assertthat")
>
> library("GeneAccord")
> # "When R CMD check runs tests, it sets R_TESTS. When the tests
> # themeselves run R CMD xxxx, as is the case with the tests in
> # devtools, having R_TESTS set causes errors because it confuses
> # the R subprocesses. Unsetting it here avoids those problems.
> #"R_TESTS" = "" "
> Sys.setenv("R_TESTS" = "")
>
> test_check("GeneAccord")
[ FAIL 0 | WARN 1 | SKIP 15 | PASS 27 ]
══ Skipped tests ═══════════════════════════════════════════════════════════════
• empty test (15)
[ FAIL 0 | WARN 1 | SKIP 15 | PASS 27 ]
>
>
> proc.time()
user system elapsed
18.744 0.581 19.312
GeneAccord.Rcheck/GeneAccord-Ex.timings
| name | user | system | elapsed | |
| GeneAccord | 3.397 | 0.128 | 3.526 | |
| build_null_test_statistic | 1.195 | 0.004 | 1.199 | |
| compute_rates_clon_excl | 0.383 | 0.000 | 0.382 | |
| compute_test_stat_avg_rate | 0.024 | 0.000 | 0.023 | |
| convert_ensembl_to_reactome_pw_tbl | 0.602 | 0.028 | 0.630 | |
| create_ensembl_gene_tbl_hg | 0 | 0 | 0 | |
| create_tbl_ent_clones | 0.053 | 0.000 | 0.054 | |
| create_tbl_tree_collection | 0.342 | 0.004 | 0.348 | |
| ecdf_lr_test_clon_excl_avg_rate | 0.961 | 0.020 | 0.981 | |
| ensembl_to_hgnc | 0 | 0 | 0 | |
| ensembl_to_reactome | 0.027 | 0.000 | 0.027 | |
| extract_num_clones_tbl | 0.032 | 0.000 | 0.032 | |
| generate_ecdf_test_stat | 0.821 | 0.032 | 0.853 | |
| generate_test_stat_hist | 0.919 | 0.000 | 0.919 | |
| get_hist_clon_excl | 1.117 | 0.000 | 1.117 | |
| get_hist_clon_excl_this_pat_this_pair | 0.036 | 0.000 | 0.036 | |
| get_rate_diff_branch_ent_pair | 0.798 | 0.000 | 0.798 | |
| heatmap_clones_gene_pat | 0.560 | 0.024 | 0.584 | |
| hgnc_to_ensembl | 0 | 0 | 0 | |
| is_diff_branch_ent_pair | 0.020 | 0.000 | 0.021 | |
| map_pairs_to_hgnc_symbols | 0 | 0 | 0 | |
| merge_clones_identical_ents | 0.063 | 0.000 | 0.063 | |
| pairs_in_patients_hist | 0.058 | 0.000 | 0.057 | |
| plot_ecdf_test_stat | 0.169 | 0.008 | 0.177 | |
| plot_rates_clon_excl | 0.186 | 0.000 | 0.185 | |
| take_pairs_and_get_patients | 0.361 | 0.000 | 0.361 | |
| vis_pval_distr_num_pat | 0.04 | 0.00 | 0.04 | |
| write_res_pairs_to_disk | 0.007 | 0.000 | 0.007 | |