| Back to Multiple platform build/check report for BioC 3.14 | 
  | 
This page was generated on 2022-04-13 12:05:27 -0400 (Wed, 13 Apr 2022).
| Hostname | OS | Arch (*) | R version | Installed pkgs | 
|---|---|---|---|---|
| nebbiolo2 | Linux (Ubuntu 20.04.4 LTS) | x86_64 | 4.1.3 (2022-03-10) -- "One Push-Up" | 4324 | 
| tokay2 | Windows Server 2012 R2 Standard | x64 | 4.1.3 (2022-03-10) -- "One Push-Up" | 4077 | 
| machv2 | macOS 10.14.6 Mojave | x86_64 | 4.1.3 (2022-03-10) -- "One Push-Up" | 4137 | 
| Click on any hostname to see more info about the system (e.g. compilers) (*) as reported by 'uname -p', except on Windows and Mac OS X | ||||
| 
To the developers/maintainers of the GSgalgoR package: - Please allow up to 24 hours (and sometimes 48 hours) for your latest push to git@git.bioconductor.org:packages/GSgalgoR.git to reflect on this report. See How and When does the builder pull? When will my changes propagate? for more information. - Make sure to use the following settings in order to reproduce any error or warning you see on this page.  | 
| Package 837/2083 | Hostname | OS / Arch | INSTALL | BUILD | CHECK | BUILD BIN | ||||||||
| GSgalgoR 1.4.0  (landing page) Carlos Catania 
  | nebbiolo2 | Linux (Ubuntu 20.04.4 LTS) / x86_64 | OK | OK | OK | |||||||||
| tokay2 | Windows Server 2012 R2 Standard / x64 | OK | OK | OK | OK | |||||||||
| machv2 | macOS 10.14.6 Mojave / x86_64 | OK | OK | OK | OK | |||||||||
| Package: GSgalgoR | 
| Version: 1.4.0 | 
| Command: /home/biocbuild/bbs-3.14-bioc/R/bin/R CMD check --install=check:GSgalgoR.install-out.txt --library=/home/biocbuild/bbs-3.14-bioc/R/library --no-vignettes --timings GSgalgoR_1.4.0.tar.gz | 
| StartedAt: 2022-04-12 07:43:27 -0400 (Tue, 12 Apr 2022) | 
| EndedAt: 2022-04-12 07:46:25 -0400 (Tue, 12 Apr 2022) | 
| EllapsedTime: 177.6 seconds | 
| RetCode: 0 | 
| Status: OK | 
| CheckDir: GSgalgoR.Rcheck | 
| Warnings: 0 | 
##############################################################################
##############################################################################
###
### Running command:
###
###   /home/biocbuild/bbs-3.14-bioc/R/bin/R CMD check --install=check:GSgalgoR.install-out.txt --library=/home/biocbuild/bbs-3.14-bioc/R/library --no-vignettes --timings GSgalgoR_1.4.0.tar.gz
###
##############################################################################
##############################################################################
* using log directory ‘/home/biocbuild/bbs-3.14-bioc/meat/GSgalgoR.Rcheck’
* using R version 4.1.3 (2022-03-10)
* using platform: x86_64-pc-linux-gnu (64-bit)
* using session charset: UTF-8
* using option ‘--no-vignettes’
* checking for file ‘GSgalgoR/DESCRIPTION’ ... OK
* checking extension type ... Package
* this is package ‘GSgalgoR’ version ‘1.4.0’
* package encoding: UTF-8
* checking package namespace information ... OK
* checking package dependencies ... OK
* checking if this is a source package ... OK
* checking if there is a namespace ... OK
* checking for hidden files and directories ... OK
* checking for portable file names ... OK
* checking for sufficient/correct file permissions ... OK
* checking whether package ‘GSgalgoR’ can be installed ... OK
* checking installed package size ... OK
* checking package directory ... OK
* checking ‘build’ directory ... OK
* checking DESCRIPTION meta-information ... OK
* checking top-level files ... OK
* checking for left-over files ... OK
* checking index information ... OK
* checking package subdirectories ... OK
* checking R files for non-ASCII characters ... OK
* checking R files for syntax errors ... OK
* checking whether the package can be loaded ... OK
* checking whether the package can be loaded with stated dependencies ... OK
* checking whether the package can be unloaded cleanly ... OK
* checking whether the namespace can be loaded with stated dependencies ... OK
* checking whether the namespace can be unloaded cleanly ... OK
* checking dependencies in R code ... OK
* checking S3 generic/method consistency ... OK
* checking replacement functions ... OK
* checking foreign function calls ... OK
* checking R code for possible problems ... OK
* checking Rd files ... OK
* checking Rd metadata ... OK
* checking Rd cross-references ... OK
* checking for missing documentation entries ... OK
* checking for code/documentation mismatches ... OK
* checking Rd \usage sections ... OK
* checking Rd contents ... OK
* checking for unstated dependencies in examples ... OK
* checking files in ‘vignettes’ ... OK
* checking examples ... OK
Examples with CPU (user + system) or elapsed time > 5s
                          user system elapsed
callback_base_report     2.647  0.191   8.107
classify_multiple        2.557  0.170   7.921
plot_pareto              2.508  0.053   5.507
callback_base_return_pop 2.125  0.171   7.771
callback_no_report       2.031  0.190   7.275
non_dominated_summary    2.157  0.024   5.194
create_centroids         2.093  0.010   5.010
callback_default         1.882  0.179   7.307
to_list                  2.014  0.044   5.065
* checking for unstated dependencies in ‘tests’ ... OK
* checking tests ...
  Running ‘testthat.R’
 OK
* checking for unstated dependencies in vignettes ... OK
* checking package vignettes in ‘inst/doc’ ... OK
* checking running R code from vignettes ... SKIPPED
* checking re-building of vignette outputs ... SKIPPED
* checking PDF version of manual ... OK
* DONE
Status: OK
GSgalgoR.Rcheck/00install.out
############################################################################## ############################################################################## ### ### Running command: ### ### /home/biocbuild/bbs-3.14-bioc/R/bin/R CMD INSTALL GSgalgoR ### ############################################################################## ############################################################################## * installing to library ‘/home/biocbuild/bbs-3.14-bioc/R/library’ * installing *source* package ‘GSgalgoR’ ... ** using staged installation ** R ** inst ** byte-compile and prepare package for lazy loading ** help *** installing help indices ** building package indices ** installing vignettes ** testing if installed package can be loaded from temporary location ** testing if installed package can be loaded from final location ** testing if installed package keeps a record of temporary installation path * DONE (GSgalgoR)
GSgalgoR.Rcheck/tests/testthat.Rout
R version 4.1.3 (2022-03-10) -- "One Push-Up"
Copyright (C) 2022 The R Foundation for Statistical Computing
Platform: x86_64-pc-linux-gnu (64-bit)
R is free software and comes with ABSOLUTELY NO WARRANTY.
You are welcome to redistribute it under certain conditions.
Type 'license()' or 'licence()' for distribution details.
R is a collaborative project with many contributors.
Type 'contributors()' for more information and
'citation()' on how to cite R or R packages in publications.
Type 'demo()' for some demos, 'help()' for on-line help, or
'help.start()' for an HTML browser interface to help.
Type 'q()' to quit R.
> library(testthat)
> library(GSgalgoR)
> 
> test_check("GSgalgoR")
..........         k                      rnkIndex   CrowD
result.1 8 0.02212350 201.10126        1     Inf
result.3 9 0.02402496 160.41638        1 1.37352
result.4 8 0.03651880  48.37265        1     Inf
         k                      rnkIndex    CrowD
result.1 8 0.02212350 201.10126        1      Inf
result.3 2 0.11803624  30.01863        1      Inf
result.4 4 0.04509859 173.43985        1 1.798893
......[ FAIL 0 | WARN 0 | SKIP 0 | PASS 13 ]
> 
> proc.time()
   user  system elapsed 
 18.901   1.903  84.222 
GSgalgoR.Rcheck/GSgalgoR-Ex.timings
| name | user | system | elapsed | |
| calculate_distance | 2.325 | 0.040 | 2.365 | |
| callback_base_report | 2.647 | 0.191 | 8.107 | |
| callback_base_return_pop | 2.125 | 0.171 | 7.771 | |
| callback_default | 1.882 | 0.179 | 7.307 | |
| callback_no_report | 2.031 | 0.190 | 7.275 | |
| classify_multiple | 2.557 | 0.170 | 7.921 | |
| cluster_algorithm | 1.207 | 0.024 | 1.230 | |
| cluster_classify | 0.532 | 0.012 | 0.544 | |
| cosine_similarity | 0 | 0 | 0 | |
| create_centroids | 2.093 | 0.010 | 5.010 | |
| galgo | 1.720 | 0.029 | 4.828 | |
| k_centroids | 1.208 | 0.016 | 1.224 | |
| non_dominated_summary | 2.157 | 0.024 | 5.194 | |
| plot_pareto | 2.508 | 0.053 | 5.507 | |
| surv_fitness | 0.567 | 0.032 | 0.599 | |
| to_dataframe | 1.914 | 0.057 | 4.961 | |
| to_list | 2.014 | 0.044 | 5.065 | |