| Back to Multiple platform build/check report for BioC 3.14 |
|
This page was generated on 2022-04-13 12:06:41 -0400 (Wed, 13 Apr 2022).
| Hostname | OS | Arch (*) | R version | Installed pkgs |
|---|---|---|---|---|
| nebbiolo2 | Linux (Ubuntu 20.04.4 LTS) | x86_64 | 4.1.3 (2022-03-10) -- "One Push-Up" | 4324 |
| tokay2 | Windows Server 2012 R2 Standard | x64 | 4.1.3 (2022-03-10) -- "One Push-Up" | 4077 |
| machv2 | macOS 10.14.6 Mojave | x86_64 | 4.1.3 (2022-03-10) -- "One Push-Up" | 4137 |
| Click on any hostname to see more info about the system (e.g. compilers) (*) as reported by 'uname -p', except on Windows and Mac OS X | ||||
|
To the developers/maintainers of the GSVA package: - Please allow up to 24 hours (and sometimes 48 hours) for your latest push to git@git.bioconductor.org:packages/GSVA.git to reflect on this report. See How and When does the builder pull? When will my changes propagate? for more information. - Make sure to use the following settings in order to reproduce any error or warning you see on this page. |
| Package 840/2083 | Hostname | OS / Arch | INSTALL | BUILD | CHECK | BUILD BIN | ||||||||
| GSVA 1.42.0 (landing page) Justin Guinney
| nebbiolo2 | Linux (Ubuntu 20.04.4 LTS) / x86_64 | OK | OK | OK | |||||||||
| tokay2 | Windows Server 2012 R2 Standard / x64 | OK | OK | OK | OK | |||||||||
| machv2 | macOS 10.14.6 Mojave / x86_64 | OK | OK | OK | OK | |||||||||
| Package: GSVA |
| Version: 1.42.0 |
| Command: C:\cygwin\bin\curl.exe -O http://155.52.207.166/BBS/3.14/bioc/src/contrib/GSVA_1.42.0.tar.gz && rm -rf GSVA.buildbin-libdir && mkdir GSVA.buildbin-libdir && C:\Users\biocbuild\bbs-3.14-bioc\R\bin\R.exe CMD INSTALL --merge-multiarch --build --library=GSVA.buildbin-libdir GSVA_1.42.0.tar.gz && C:\Users\biocbuild\bbs-3.14-bioc\R\bin\R.exe CMD INSTALL GSVA_1.42.0.zip && rm GSVA_1.42.0.tar.gz GSVA_1.42.0.zip |
| StartedAt: 2022-04-12 05:53:00 -0400 (Tue, 12 Apr 2022) |
| EndedAt: 2022-04-12 05:54:41 -0400 (Tue, 12 Apr 2022) |
| EllapsedTime: 101.0 seconds |
| RetCode: 0 |
| Status: OK |
##############################################################################
##############################################################################
###
### Running command:
###
### C:\cygwin\bin\curl.exe -O http://155.52.207.166/BBS/3.14/bioc/src/contrib/GSVA_1.42.0.tar.gz && rm -rf GSVA.buildbin-libdir && mkdir GSVA.buildbin-libdir && C:\Users\biocbuild\bbs-3.14-bioc\R\bin\R.exe CMD INSTALL --merge-multiarch --build --library=GSVA.buildbin-libdir GSVA_1.42.0.tar.gz && C:\Users\biocbuild\bbs-3.14-bioc\R\bin\R.exe CMD INSTALL GSVA_1.42.0.zip && rm GSVA_1.42.0.tar.gz GSVA_1.42.0.zip
###
##############################################################################
##############################################################################
% Total % Received % Xferd Average Speed Time Time Time Current
Dload Upload Total Spent Left Speed
0 0 0 0 0 0 0 0 --:--:-- --:--:-- --:--:-- 0
33 1230k 33 408k 0 0 781k 0 0:00:01 --:--:-- 0:00:01 781k
100 1230k 100 1230k 0 0 1138k 0 0:00:01 0:00:01 --:--:-- 1139k
install for i386
* installing *source* package 'GSVA' ...
** using staged installation
** libs
"C:/rtools40/mingw32/bin/"gcc -I"C:/Users/BIOCBU~1/BBS-3~1.14-/R/include" -DNDEBUG -I"C:/extsoft/include" -O2 -Wall -std=gnu99 -mfpmath=sse -msse2 -mstackrealign -c kernel_estimation.c -o kernel_estimation.o
"C:/rtools40/mingw32/bin/"gcc -I"C:/Users/BIOCBU~1/BBS-3~1.14-/R/include" -DNDEBUG -I"C:/extsoft/include" -O2 -Wall -std=gnu99 -mfpmath=sse -msse2 -mstackrealign -c ks_test.c -o ks_test.o
ks_test.c: In function 'ks_sample':
ks_test.c:24:9: warning: unused variable 'mx_value' [-Wunused-variable]
double mx_value = 0.0;
^~~~~~~~
"C:/rtools40/mingw32/bin/"gcc -I"C:/Users/BIOCBU~1/BBS-3~1.14-/R/include" -DNDEBUG -I"C:/extsoft/include" -O2 -Wall -std=gnu99 -mfpmath=sse -msse2 -mstackrealign -c register_cmethods.c -o register_cmethods.o
C:/rtools40/mingw32/bin/gcc -shared -s -static-libgcc -o GSVA.dll tmp.def kernel_estimation.o ks_test.o register_cmethods.o -LC:/extsoft/lib/i386 -LC:/extsoft/lib -LC:/Users/BIOCBU~1/BBS-3~1.14-/R/bin/i386 -lR
installing to C:/Users/biocbuild/bbs-3.14-bioc/meat/GSVA.buildbin-libdir/00LOCK-GSVA/00new/GSVA/libs/i386
** R
** inst
** byte-compile and prepare package for lazy loading
** help
*** installing help indices
converting help for package 'GSVA'
finding HTML links ... done
computeGeneSetsOverlap html
filterGeneSets html
gsva html
finding level-2 HTML links ... done
igsva html
** building package indices
** installing vignettes
** testing if installed package can be loaded from temporary location
** testing if installed package can be loaded from final location
** testing if installed package keeps a record of temporary installation path
install for x64
* installing *source* package 'GSVA' ...
** libs
"C:/rtools40/mingw64/bin/"gcc -I"C:/Users/BIOCBU~1/BBS-3~1.14-/R/include" -DNDEBUG -I"C:/extsoft/include" -O2 -Wall -std=gnu99 -mfpmath=sse -msse2 -mstackrealign -c kernel_estimation.c -o kernel_estimation.o
"C:/rtools40/mingw64/bin/"gcc -I"C:/Users/BIOCBU~1/BBS-3~1.14-/R/include" -DNDEBUG -I"C:/extsoft/include" -O2 -Wall -std=gnu99 -mfpmath=sse -msse2 -mstackrealign -c ks_test.c -o ks_test.o
ks_test.c: In function 'ks_sample':
ks_test.c:24:9: warning: unused variable 'mx_value' [-Wunused-variable]
double mx_value = 0.0;
^~~~~~~~
"C:/rtools40/mingw64/bin/"gcc -I"C:/Users/BIOCBU~1/BBS-3~1.14-/R/include" -DNDEBUG -I"C:/extsoft/include" -O2 -Wall -std=gnu99 -mfpmath=sse -msse2 -mstackrealign -c register_cmethods.c -o register_cmethods.o
C:/rtools40/mingw64/bin/gcc -shared -s -static-libgcc -o GSVA.dll tmp.def kernel_estimation.o ks_test.o register_cmethods.o -LC:/extsoft/lib/x64 -LC:/extsoft/lib -LC:/Users/BIOCBU~1/BBS-3~1.14-/R/bin/x64 -lR
installing to C:/Users/biocbuild/bbs-3.14-bioc/meat/GSVA.buildbin-libdir/GSVA/libs/x64
** testing if installed package can be loaded
* MD5 sums
packaged installation of 'GSVA' as GSVA_1.42.0.zip
* DONE (GSVA)
* installing to library 'C:/Users/biocbuild/bbs-3.14-bioc/R/library'
package 'GSVA' successfully unpacked and MD5 sums checked