| Back to Multiple platform build/check report for BioC 3.14 |
|
This page was generated on 2022-04-13 12:06:38 -0400 (Wed, 13 Apr 2022).
| Hostname | OS | Arch (*) | R version | Installed pkgs |
|---|---|---|---|---|
| nebbiolo2 | Linux (Ubuntu 20.04.4 LTS) | x86_64 | 4.1.3 (2022-03-10) -- "One Push-Up" | 4324 |
| tokay2 | Windows Server 2012 R2 Standard | x64 | 4.1.3 (2022-03-10) -- "One Push-Up" | 4077 |
| machv2 | macOS 10.14.6 Mojave | x86_64 | 4.1.3 (2022-03-10) -- "One Push-Up" | 4137 |
| Click on any hostname to see more info about the system (e.g. compilers) (*) as reported by 'uname -p', except on Windows and Mac OS X | ||||
|
To the developers/maintainers of the GEOfastq package: - Please allow up to 24 hours (and sometimes 48 hours) for your latest push to git@git.bioconductor.org:packages/GEOfastq.git to reflect on this report. See How and When does the builder pull? When will my changes propagate? for more information. - Make sure to use the following settings in order to reproduce any error or warning you see on this page. |
| Package 765/2083 | Hostname | OS / Arch | INSTALL | BUILD | CHECK | BUILD BIN | ||||||||
| GEOfastq 1.2.0 (landing page) Alex Pickering
| nebbiolo2 | Linux (Ubuntu 20.04.4 LTS) / x86_64 | OK | OK | OK | |||||||||
| tokay2 | Windows Server 2012 R2 Standard / x64 | OK | OK | OK | OK | |||||||||
| machv2 | macOS 10.14.6 Mojave / x86_64 | OK | OK | OK | OK | |||||||||
| Package: GEOfastq |
| Version: 1.2.0 |
| Command: C:\cygwin\bin\curl.exe -O http://155.52.207.166/BBS/3.14/bioc/src/contrib/GEOfastq_1.2.0.tar.gz && rm -rf GEOfastq.buildbin-libdir && mkdir GEOfastq.buildbin-libdir && C:\Users\biocbuild\bbs-3.14-bioc\R\bin\R.exe CMD INSTALL --merge-multiarch --build --library=GEOfastq.buildbin-libdir GEOfastq_1.2.0.tar.gz && C:\Users\biocbuild\bbs-3.14-bioc\R\bin\R.exe CMD INSTALL GEOfastq_1.2.0.zip && rm GEOfastq_1.2.0.tar.gz GEOfastq_1.2.0.zip |
| StartedAt: 2022-04-12 04:35:04 -0400 (Tue, 12 Apr 2022) |
| EndedAt: 2022-04-12 04:35:32 -0400 (Tue, 12 Apr 2022) |
| EllapsedTime: 28.6 seconds |
| RetCode: 0 |
| Status: OK |
##############################################################################
##############################################################################
###
### Running command:
###
### C:\cygwin\bin\curl.exe -O http://155.52.207.166/BBS/3.14/bioc/src/contrib/GEOfastq_1.2.0.tar.gz && rm -rf GEOfastq.buildbin-libdir && mkdir GEOfastq.buildbin-libdir && C:\Users\biocbuild\bbs-3.14-bioc\R\bin\R.exe CMD INSTALL --merge-multiarch --build --library=GEOfastq.buildbin-libdir GEOfastq_1.2.0.tar.gz && C:\Users\biocbuild\bbs-3.14-bioc\R\bin\R.exe CMD INSTALL GEOfastq_1.2.0.zip && rm GEOfastq_1.2.0.tar.gz GEOfastq_1.2.0.zip
###
##############################################################################
##############################################################################
% Total % Received % Xferd Average Speed Time Time Time Current
Dload Upload Total Spent Left Speed
0 0 0 0 0 0 0 0 --:--:-- --:--:-- --:--:-- 0
100 8463 100 8463 0 0 19603 0 --:--:-- --:--:-- --:--:-- 19635
install for i386
* installing *source* package 'GEOfastq' ...
** using staged installation
** R
** byte-compile and prepare package for lazy loading
** help
*** installing help indices
converting help for package 'GEOfastq'
finding HTML links ... done
ascpR html
crawl_gse html
crawl_gsms html
extract_gsms html
get_dldir html
get_ebi_fastqs html
get_fastqs html
** building package indices
** installing vignettes
** testing if installed package can be loaded from temporary location
** testing if installed package can be loaded from final location
** testing if installed package keeps a record of temporary installation path
install for x64
* installing *source* package 'GEOfastq' ...
** testing if installed package can be loaded
* MD5 sums
packaged installation of 'GEOfastq' as GEOfastq_1.2.0.zip
* DONE (GEOfastq)
* installing to library 'C:/Users/biocbuild/bbs-3.14-bioc/R/library'
package 'GEOfastq' successfully unpacked and MD5 sums checked