| Back to Multiple platform build/check report for BioC 3.14 |
|
This page was generated on 2022-04-13 12:06:36 -0400 (Wed, 13 Apr 2022).
| Hostname | OS | Arch (*) | R version | Installed pkgs |
|---|---|---|---|---|
| nebbiolo2 | Linux (Ubuntu 20.04.4 LTS) | x86_64 | 4.1.3 (2022-03-10) -- "One Push-Up" | 4324 |
| tokay2 | Windows Server 2012 R2 Standard | x64 | 4.1.3 (2022-03-10) -- "One Push-Up" | 4077 |
| machv2 | macOS 10.14.6 Mojave | x86_64 | 4.1.3 (2022-03-10) -- "One Push-Up" | 4137 |
| Click on any hostname to see more info about the system (e.g. compilers) (*) as reported by 'uname -p', except on Windows and Mac OS X | ||||
|
To the developers/maintainers of the GENESIS package: - Please allow up to 24 hours (and sometimes 48 hours) for your latest push to git@git.bioconductor.org:packages/GENESIS.git to reflect on this report. See How and When does the builder pull? When will my changes propagate? for more information. - Make sure to use the following settings in order to reproduce any error or warning you see on this page. |
| Package 735/2083 | Hostname | OS / Arch | INSTALL | BUILD | CHECK | BUILD BIN | ||||||||
| GENESIS 2.24.2 (landing page) Stephanie M. Gogarten
| nebbiolo2 | Linux (Ubuntu 20.04.4 LTS) / x86_64 | OK | OK | OK | |||||||||
| tokay2 | Windows Server 2012 R2 Standard / x64 | OK | OK | OK | OK | |||||||||
| machv2 | macOS 10.14.6 Mojave / x86_64 | OK | OK | OK | OK | |||||||||
| Package: GENESIS |
| Version: 2.24.2 |
| Command: rm -rf GENESIS.buildbin-libdir && mkdir GENESIS.buildbin-libdir && C:\Users\biocbuild\bbs-3.14-bioc\R\bin\R.exe CMD INSTALL --merge-multiarch --build --library=GENESIS.buildbin-libdir GENESIS_2.24.2.tar.gz |
| StartedAt: 2022-04-13 06:17:48 -0400 (Wed, 13 Apr 2022) |
| EndedAt: 2022-04-13 06:18:53 -0400 (Wed, 13 Apr 2022) |
| EllapsedTime: 64.7 seconds |
| RetCode: 0 |
| Status: OK |
| PackageFile: GENESIS_2.24.2.zip |
| PackageFileSize: 3.274 MiB |
##############################################################################
##############################################################################
###
### Running command:
###
### rm -rf GENESIS.buildbin-libdir && mkdir GENESIS.buildbin-libdir && C:\Users\biocbuild\bbs-3.14-bioc\R\bin\R.exe CMD INSTALL --merge-multiarch --build --library=GENESIS.buildbin-libdir GENESIS_2.24.2.tar.gz
###
##############################################################################
##############################################################################
install for i386
* installing *source* package 'GENESIS' ...
** using staged installation
** libs
"C:/rtools40/mingw32/bin/"gcc -I"C:/Users/BIOCBU~1/BBS-3~1.14-/R/include" -DNDEBUG -I"C:/extsoft/include" -O2 -Wall -std=gnu99 -mfpmath=sse -msse2 -mstackrealign -c fht.c -o fht.o
C:/rtools40/mingw32/bin/gcc -shared -s -static-libgcc -o GENESIS.dll tmp.def fht.o -LC:/extsoft/lib/i386 -LC:/extsoft/lib -LC:/Users/BIOCBU~1/BBS-3~1.14-/R/bin/i386 -lR
installing to C:/Users/biocbuild/bbs-3.14-bioc/meat/GENESIS.buildbin-libdir/00LOCK-GENESIS/00new/GENESIS/libs/i386
** R
** data
** inst
** byte-compile and prepare package for lazy loading
** help
*** installing help indices
converting help for package 'GENESIS'
finding HTML links ... done
GENESIS-package html
HapMap_ASW_MXL_KINGmat html
admixMap html
finding level-2 HTML links ... done
assocTestAggregate html
assocTestSingle html
computeVSIF html
defunct html
effectAllele html
fitNullModel html
jointScoreTest html
kin2gds html
kingToMatrix html
makeSparseMatrix html
REDIRECT:topic Previous alias or file overwritten by alias: C:/Users/biocbuild/bbs-3.14-bioc/meat/GENESIS.buildbin-libdir/00LOCK-GENESIS/00new/GENESIS/help/makeSparseMatrix+2CMatrix-method.html
pcair html
pcairPartition html
pcrelate html
pcrelateToMatrix html
plot.pcair html
print.pcair html
sample_annotation_1KG html
varCompCI html
** building package indices
** installing vignettes
** testing if installed package can be loaded from temporary location
** testing if installed package can be loaded from final location
** testing if installed package keeps a record of temporary installation path
install for x64
* installing *source* package 'GENESIS' ...
** libs
"C:/rtools40/mingw64/bin/"gcc -I"C:/Users/BIOCBU~1/BBS-3~1.14-/R/include" -DNDEBUG -I"C:/extsoft/include" -O2 -Wall -std=gnu99 -mfpmath=sse -msse2 -mstackrealign -c fht.c -o fht.o
C:/rtools40/mingw64/bin/gcc -shared -s -static-libgcc -o GENESIS.dll tmp.def fht.o -LC:/extsoft/lib/x64 -LC:/extsoft/lib -LC:/Users/BIOCBU~1/BBS-3~1.14-/R/bin/x64 -lR
installing to C:/Users/biocbuild/bbs-3.14-bioc/meat/GENESIS.buildbin-libdir/GENESIS/libs/x64
** testing if installed package can be loaded
* MD5 sums
packaged installation of 'GENESIS' as GENESIS_2.24.2.zip
* DONE (GENESIS)