| Back to Multiple platform build/check report for BioC 3.14 |
|
This page was generated on 2022-03-23 12:06:38 -0400 (Wed, 23 Mar 2022).
| Hostname | OS | Arch (*) | R version | Installed pkgs |
|---|---|---|---|---|
| nebbiolo2 | Linux (Ubuntu 20.04.4 LTS) | x86_64 | 4.1.3 (2022-03-10) -- "One Push-Up" | 4148 |
| tokay2 | Windows Server 2012 R2 Standard | x64 | 4.1.3 (2022-03-10) -- "One Push-Up" | 4075 |
| machv2 | macOS 10.14.6 Mojave | x86_64 | 4.1.3 (2022-03-10) -- "One Push-Up" | 4135 |
| Click on any hostname to see more info about the system (e.g. compilers) (*) as reported by 'uname -p', except on Windows and Mac OS X | ||||
|
To the developers/maintainers of the GDCRNATools package: - Please allow up to 24 hours (and sometimes 48 hours) for your latest push to git@git.bioconductor.org:packages/GDCRNATools.git to reflect on this report. See How and When does the builder pull? When will my changes propagate? here for more information. - Make sure to use the following settings in order to reproduce any error or warning you see on this page. |
| Package 709/2083 | Hostname | OS / Arch | INSTALL | BUILD | CHECK | BUILD BIN | ||||||||
| GDCRNATools 1.14.0 (landing page) Ruidong Li
| nebbiolo2 | Linux (Ubuntu 20.04.4 LTS) / x86_64 | OK | OK | ERROR | |||||||||
| tokay2 | Windows Server 2012 R2 Standard / x64 | OK | OK | OK | OK | |||||||||
| machv2 | macOS 10.14.6 Mojave / x86_64 | OK | ERROR | skipped | skipped | |||||||||
| Package: GDCRNATools |
| Version: 1.14.0 |
| Command: rm -rf GDCRNATools.buildbin-libdir && mkdir GDCRNATools.buildbin-libdir && C:\Users\biocbuild\bbs-3.14-bioc\R\bin\R.exe CMD INSTALL --merge-multiarch --build --library=GDCRNATools.buildbin-libdir GDCRNATools_1.14.0.tar.gz |
| StartedAt: 2022-03-23 05:43:54 -0400 (Wed, 23 Mar 2022) |
| EndedAt: 2022-03-23 05:45:33 -0400 (Wed, 23 Mar 2022) |
| EllapsedTime: 99.2 seconds |
| RetCode: 0 |
| Status: OK |
| PackageFile: GDCRNATools_1.14.0.zip |
| PackageFileSize: 4.803 MiB |
##############################################################################
##############################################################################
###
### Running command:
###
### rm -rf GDCRNATools.buildbin-libdir && mkdir GDCRNATools.buildbin-libdir && C:\Users\biocbuild\bbs-3.14-bioc\R\bin\R.exe CMD INSTALL --merge-multiarch --build --library=GDCRNATools.buildbin-libdir GDCRNATools_1.14.0.tar.gz
###
##############################################################################
##############################################################################
install for i386
* installing *source* package 'GDCRNATools' ...
** using staged installation
** R
** data
** inst
** byte-compile and prepare package for lazy loading
** help
*** installing help indices
converting help for package 'GDCRNATools'
finding HTML links ... done
DEGAll html
GDCRNATools-package html
enrichOutput html
gdcBarPlot html
gdcCEAnalysis html
gdcClinicalDownload html
gdcClinicalMerge html
gdcCorPlot html
gdcDEAnalysis html
gdcDEReport html
gdcEnrichAnalysis html
gdcEnrichPlot html
gdcExportNetwork html
gdcFilterDuplicate html
gdcFilterSampleType html
gdcHeatmap html
gdcKMPlot html
gdcMatchSamples html
gdcParseMetadata html
gdcRNADownload html
gdcRNAMerge html
gdcSurvivalAnalysis html
gdcVolcanoPlot html
gdcVoomNormalization html
lncTarget html
mirCounts html
pcTarget html
rnaCounts html
shinyCorPlot html
shinyKMPlot html
shinyPathview html
** building package indices
** installing vignettes
** testing if installed package can be loaded from temporary location
** testing if installed package can be loaded from final location
** testing if installed package keeps a record of temporary installation path
install for x64
* installing *source* package 'GDCRNATools' ...
** testing if installed package can be loaded
* MD5 sums
packaged installation of 'GDCRNATools' as GDCRNATools_1.14.0.zip
* DONE (GDCRNATools)