| Back to Multiple platform build/check report for BioC 3.14 |
|
This page was generated on 2022-04-13 12:08:02 -0400 (Wed, 13 Apr 2022).
| Hostname | OS | Arch (*) | R version | Installed pkgs |
|---|---|---|---|---|
| nebbiolo2 | Linux (Ubuntu 20.04.4 LTS) | x86_64 | 4.1.3 (2022-03-10) -- "One Push-Up" | 4324 |
| tokay2 | Windows Server 2012 R2 Standard | x64 | 4.1.3 (2022-03-10) -- "One Push-Up" | 4077 |
| machv2 | macOS 10.14.6 Mojave | x86_64 | 4.1.3 (2022-03-10) -- "One Push-Up" | 4137 |
| Click on any hostname to see more info about the system (e.g. compilers) (*) as reported by 'uname -p', except on Windows and Mac OS X | ||||
|
To the developers/maintainers of the GAPGOM package: - Please allow up to 24 hours (and sometimes 48 hours) for your latest push to git@git.bioconductor.org:packages/GAPGOM.git to reflect on this report. See How and When does the builder pull? When will my changes propagate? for more information. - Make sure to use the following settings in order to reproduce any error or warning you see on this page. |
| Package 697/2083 | Hostname | OS / Arch | INSTALL | BUILD | CHECK | BUILD BIN | ||||||||
| GAPGOM 1.10.0 (landing page) Rezvan Ehsani
| nebbiolo2 | Linux (Ubuntu 20.04.4 LTS) / x86_64 | OK | OK | OK | |||||||||
| tokay2 | Windows Server 2012 R2 Standard / x64 | OK | OK | OK | OK | |||||||||
| machv2 | macOS 10.14.6 Mojave / x86_64 | OK | OK | OK | OK | |||||||||
| Package: GAPGOM |
| Version: 1.10.0 |
| Command: /Library/Frameworks/R.framework/Resources/bin/R CMD check --install=check:GAPGOM.install-out.txt --library=/Library/Frameworks/R.framework/Resources/library --no-vignettes --timings GAPGOM_1.10.0.tar.gz |
| StartedAt: 2022-04-12 13:28:34 -0400 (Tue, 12 Apr 2022) |
| EndedAt: 2022-04-12 13:35:59 -0400 (Tue, 12 Apr 2022) |
| EllapsedTime: 444.9 seconds |
| RetCode: 0 |
| Status: OK |
| CheckDir: GAPGOM.Rcheck |
| Warnings: 0 |
##############################################################################
##############################################################################
###
### Running command:
###
### /Library/Frameworks/R.framework/Resources/bin/R CMD check --install=check:GAPGOM.install-out.txt --library=/Library/Frameworks/R.framework/Resources/library --no-vignettes --timings GAPGOM_1.10.0.tar.gz
###
##############################################################################
##############################################################################
* using log directory ‘/Users/biocbuild/bbs-3.14-bioc/meat/GAPGOM.Rcheck’
* using R version 4.1.3 (2022-03-10)
* using platform: x86_64-apple-darwin17.0 (64-bit)
* using session charset: UTF-8
* using option ‘--no-vignettes’
* checking for file ‘GAPGOM/DESCRIPTION’ ... OK
* checking extension type ... Package
* this is package ‘GAPGOM’ version ‘1.10.0’
* package encoding: UTF-8
* checking package namespace information ... OK
* checking package dependencies ... OK
* checking if this is a source package ... OK
* checking if there is a namespace ... OK
* checking for hidden files and directories ... OK
* checking for portable file names ... OK
* checking for sufficient/correct file permissions ... OK
* checking whether package ‘GAPGOM’ can be installed ... OK
* checking installed package size ... OK
* checking package directory ... OK
* checking ‘build’ directory ... OK
* checking DESCRIPTION meta-information ... OK
* checking top-level files ... OK
* checking for left-over files ... OK
* checking index information ... OK
* checking package subdirectories ... OK
* checking R files for non-ASCII characters ... OK
* checking R files for syntax errors ... OK
* checking whether the package can be loaded ... OK
* checking whether the package can be loaded with stated dependencies ... OK
* checking whether the package can be unloaded cleanly ... OK
* checking whether the namespace can be loaded with stated dependencies ... OK
* checking whether the namespace can be unloaded cleanly ... OK
* checking dependencies in R code ... OK
* checking S3 generic/method consistency ... OK
* checking replacement functions ... OK
* checking foreign function calls ... OK
* checking R code for possible problems ... OK
* checking Rd files ... OK
* checking Rd metadata ... OK
* checking Rd cross-references ... OK
* checking for missing documentation entries ... OK
* checking for code/documentation mismatches ... OK
* checking Rd \usage sections ... OK
* checking Rd contents ... OK
* checking for unstated dependencies in examples ... OK
* checking contents of ‘data’ directory ... OK
* checking data for non-ASCII characters ... OK
* checking LazyData ... OK
* checking data for ASCII and uncompressed saves ... OK
* checking R/sysdata.rda ... OK
* checking files in ‘vignettes’ ... OK
* checking examples ... OK
Examples with CPU (user + system) or elapsed time > 5s
user system elapsed
topo_ic_sim_genes 112.778 3.072 116.069
topo_ic_sim_term 36.976 0.736 37.748
set_go_data 34.245 0.926 35.260
fantom_load_raw 6.366 0.043 6.416
fantom_to_expset 6.314 0.036 6.353
* checking for unstated dependencies in ‘tests’ ... OK
* checking tests ...
Running ‘testthat.R’
OK
* checking for unstated dependencies in vignettes ... OK
* checking package vignettes in ‘inst/doc’ ... OK
* checking running R code from vignettes ... SKIPPED
* checking re-building of vignette outputs ... SKIPPED
* checking PDF version of manual ... OK
* DONE
Status: OK
GAPGOM.Rcheck/00install.out
############################################################################## ############################################################################## ### ### Running command: ### ### /Library/Frameworks/R.framework/Resources/bin/R CMD INSTALL GAPGOM ### ############################################################################## ############################################################################## * installing to library ‘/Library/Frameworks/R.framework/Versions/4.1/Resources/library’ * installing *source* package ‘GAPGOM’ ... ** using staged installation ** R ** data *** moving datasets to lazyload DB ** inst ** byte-compile and prepare package for lazy loading ** help *** installing help indices ** building package indices ** installing vignettes ** testing if installed package can be loaded from temporary location ** testing if installed package can be loaded from final location ** testing if installed package keeps a record of temporary installation path * DONE (GAPGOM)
GAPGOM.Rcheck/tests/testthat.Rout
R version 4.1.3 (2022-03-10) -- "One Push-Up"
Copyright (C) 2022 The R Foundation for Statistical Computing
Platform: x86_64-apple-darwin17.0 (64-bit)
R is free software and comes with ABSOLUTELY NO WARRANTY.
You are welcome to redistribute it under certain conditions.
Type 'license()' or 'licence()' for distribution details.
R is a collaborative project with many contributors.
Type 'contributors()' for more information and
'citation()' on how to cite R or R packages in publications.
Type 'demo()' for some demos, 'help()' for on-line help, or
'help.start()' for an HTML browser interface to help.
Type 'q()' to quit R.
> library(testthat)
> library(GAPGOM)
Setting options('download.file.method.GEOquery'='auto')
Setting options('GEOquery.inmemory.gpl'=FALSE)
GAPGOM v1.10.0
For help/issues, refer to the readme FAQ or report an issue on the issue page: https://github.com/Berghopper/GAPGOM/issues
If you use GAPGOM in any sort of publication, please cite:
[1] Ehsani R, Drabløs F: TopoICSim: a new semantic similarity measure based on gene ontology. BMC Bioinformatics 2016, 17(1):296
[2] Ehsani R, Drabløs F: Measures of co-expression for improved function prediction of long non-coding RNAs, 2018. BMC Bioinformatics, 2018 Accepted.
>
> test_check("GAPGOM")
[ FAIL 0 | WARN 0 | SKIP 3 | PASS 7 ]
══ Skipped tests ═══════════════════════════════════════════════════════════════
• R cmd check time constraints (3)
[ FAIL 0 | WARN 0 | SKIP 3 | PASS 7 ]
>
> proc.time()
user system elapsed
12.506 0.560 13.054
GAPGOM.Rcheck/GAPGOM-Ex.timings
| name | user | system | elapsed | |
| expression_prediction | 0.574 | 0.020 | 0.594 | |
| expression_semantic_scoring | 0.541 | 0.012 | 0.554 | |
| fantom_download | 1.147 | 0.021 | 1.170 | |
| fantom_load_raw | 6.366 | 0.043 | 6.416 | |
| fantom_to_expset | 6.314 | 0.036 | 6.353 | |
| set_go_data | 34.245 | 0.926 | 35.260 | |
| topo_ic_sim_genes | 112.778 | 3.072 | 116.069 | |
| topo_ic_sim_term | 36.976 | 0.736 | 37.748 | |