| Back to Multiple platform build/check report for BioC 3.14 |
|
This page was generated on 2022-04-13 12:05:21 -0400 (Wed, 13 Apr 2022).
| Hostname | OS | Arch (*) | R version | Installed pkgs |
|---|---|---|---|---|
| nebbiolo2 | Linux (Ubuntu 20.04.4 LTS) | x86_64 | 4.1.3 (2022-03-10) -- "One Push-Up" | 4324 |
| tokay2 | Windows Server 2012 R2 Standard | x64 | 4.1.3 (2022-03-10) -- "One Push-Up" | 4077 |
| machv2 | macOS 10.14.6 Mojave | x86_64 | 4.1.3 (2022-03-10) -- "One Push-Up" | 4137 |
| Click on any hostname to see more info about the system (e.g. compilers) (*) as reported by 'uname -p', except on Windows and Mac OS X | ||||
|
To the developers/maintainers of the FindIT2 package: - Please allow up to 24 hours (and sometimes 48 hours) for your latest push to git@git.bioconductor.org:packages/FindIT2.git to reflect on this report. See How and When does the builder pull? When will my changes propagate? for more information. - Make sure to use the following settings in order to reproduce any error or warning you see on this page. |
| Package 642/2083 | Hostname | OS / Arch | INSTALL | BUILD | CHECK | BUILD BIN | ||||||||
| FindIT2 1.0.3 (landing page) Guandong Shang
| nebbiolo2 | Linux (Ubuntu 20.04.4 LTS) / x86_64 | OK | OK | OK | |||||||||
| tokay2 | Windows Server 2012 R2 Standard / x64 | OK | OK | OK | OK | |||||||||
| machv2 | macOS 10.14.6 Mojave / x86_64 | OK | OK | OK | OK | |||||||||
| Package: FindIT2 |
| Version: 1.0.3 |
| Command: /home/biocbuild/bbs-3.14-bioc/R/bin/R CMD check --install=check:FindIT2.install-out.txt --library=/home/biocbuild/bbs-3.14-bioc/R/library --no-vignettes --timings FindIT2_1.0.3.tar.gz |
| StartedAt: 2022-04-12 07:26:10 -0400 (Tue, 12 Apr 2022) |
| EndedAt: 2022-04-12 07:31:30 -0400 (Tue, 12 Apr 2022) |
| EllapsedTime: 320.1 seconds |
| RetCode: 0 |
| Status: OK |
| CheckDir: FindIT2.Rcheck |
| Warnings: 0 |
##############################################################################
##############################################################################
###
### Running command:
###
### /home/biocbuild/bbs-3.14-bioc/R/bin/R CMD check --install=check:FindIT2.install-out.txt --library=/home/biocbuild/bbs-3.14-bioc/R/library --no-vignettes --timings FindIT2_1.0.3.tar.gz
###
##############################################################################
##############################################################################
* using log directory ‘/home/biocbuild/bbs-3.14-bioc/meat/FindIT2.Rcheck’
* using R version 4.1.3 (2022-03-10)
* using platform: x86_64-pc-linux-gnu (64-bit)
* using session charset: UTF-8
* using option ‘--no-vignettes’
* checking for file ‘FindIT2/DESCRIPTION’ ... OK
* this is package ‘FindIT2’ version ‘1.0.3’
* package encoding: UTF-8
* checking package namespace information ... OK
* checking package dependencies ... OK
* checking if this is a source package ... OK
* checking if there is a namespace ... OK
* checking for hidden files and directories ... OK
* checking for portable file names ... OK
* checking for sufficient/correct file permissions ... OK
* checking whether package ‘FindIT2’ can be installed ... OK
* checking installed package size ... OK
* checking package directory ... OK
* checking ‘build’ directory ... OK
* checking DESCRIPTION meta-information ... OK
* checking top-level files ... OK
* checking for left-over files ... OK
* checking index information ... OK
* checking package subdirectories ... OK
* checking R files for non-ASCII characters ... OK
* checking R files for syntax errors ... OK
* checking whether the package can be loaded ... OK
* checking whether the package can be loaded with stated dependencies ... OK
* checking whether the package can be unloaded cleanly ... OK
* checking whether the namespace can be loaded with stated dependencies ... OK
* checking whether the namespace can be unloaded cleanly ... OK
* checking dependencies in R code ... OK
* checking S3 generic/method consistency ... OK
* checking replacement functions ... OK
* checking foreign function calls ... OK
* checking R code for possible problems ... OK
* checking Rd files ... OK
* checking Rd metadata ... OK
* checking Rd cross-references ... OK
* checking for missing documentation entries ... OK
* checking for code/documentation mismatches ... OK
* checking Rd \usage sections ... OK
* checking Rd contents ... OK
* checking for unstated dependencies in examples ... OK
* checking contents of ‘data’ directory ... OK
* checking data for non-ASCII characters ... OK
* checking data for ASCII and uncompressed saves ... OK
* checking files in ‘vignettes’ ... OK
* checking examples ... OK
Examples with CPU (user + system) or elapsed time > 5s
user system elapsed
findIT_regionRP 6.226 0.052 6.278
calcRP_coverage 4.487 1.136 5.623
calcRP_region 4.942 0.128 5.070
* checking for unstated dependencies in ‘tests’ ... OK
* checking tests ...
Running ‘testthat.R’
OK
* checking for unstated dependencies in vignettes ... OK
* checking package vignettes in ‘inst/doc’ ... OK
* checking running R code from vignettes ... SKIPPED
* checking re-building of vignette outputs ... SKIPPED
* checking PDF version of manual ... OK
* DONE
Status: OK
FindIT2.Rcheck/00install.out
############################################################################## ############################################################################## ### ### Running command: ### ### /home/biocbuild/bbs-3.14-bioc/R/bin/R CMD INSTALL FindIT2 ### ############################################################################## ############################################################################## * installing to library ‘/home/biocbuild/bbs-3.14-bioc/R/library’ * installing *source* package ‘FindIT2’ ... ** using staged installation ** R ** data ** inst ** byte-compile and prepare package for lazy loading ** help *** installing help indices ** building package indices ** installing vignettes ** testing if installed package can be loaded from temporary location ** testing if installed package can be loaded from final location ** testing if installed package keeps a record of temporary installation path * DONE (FindIT2)
FindIT2.Rcheck/tests/testthat.Rout
R version 4.1.3 (2022-03-10) -- "One Push-Up"
Copyright (C) 2022 The R Foundation for Statistical Computing
Platform: x86_64-pc-linux-gnu (64-bit)
R is free software and comes with ABSOLUTELY NO WARRANTY.
You are welcome to redistribute it under certain conditions.
Type 'license()' or 'licence()' for distribution details.
R is a collaborative project with many contributors.
Type 'contributors()' for more information and
'citation()' on how to cite R or R packages in publications.
Type 'demo()' for some demos, 'help()' for on-line help, or
'help.start()' for an HTML browser interface to help.
Type 'q()' to quit R.
> library(testthat)
> library(FindIT2)
Loading required package: GenomicRanges
Loading required package: stats4
Loading required package: BiocGenerics
Attaching package: 'BiocGenerics'
The following objects are masked from 'package:stats':
IQR, mad, sd, var, xtabs
The following objects are masked from 'package:base':
Filter, Find, Map, Position, Reduce, anyDuplicated, append,
as.data.frame, basename, cbind, colnames, dirname, do.call,
duplicated, eval, evalq, get, grep, grepl, intersect, is.unsorted,
lapply, mapply, match, mget, order, paste, pmax, pmax.int, pmin,
pmin.int, rank, rbind, rownames, sapply, setdiff, sort, table,
tapply, union, unique, unsplit, which.max, which.min
Loading required package: S4Vectors
Attaching package: 'S4Vectors'
The following objects are masked from 'package:base':
I, expand.grid, unname
Loading required package: IRanges
Loading required package: GenomeInfoDb
> if (!requireNamespace("TxDb.Athaliana.BioMart.plantsmart28")) {
+ stop("unable to load TxDb.Athaliana.BioMart.plantsmart28")
+ }
Loading required namespace: TxDb.Athaliana.BioMart.plantsmart28
>
> test_check("FindIT2")
>> preparing gene features information... 2022-04-12 07:30:30
>> some scan range may cross Chr bound, trimming... 2022-04-12 07:30:31
>> preparing weight info... 2022-04-12 07:30:31
>> loading E50h_sampleChr5.bw info... 2022-04-12 07:30:31
------------
>> extracting and calcluating Chr5 signal... 2022-04-12 07:30:31
>> dealing with Chr5 left gene signal... 2022-04-12 07:30:36
>> norming Chr5RP accoring to the whole Chr RP... 2022-04-12 07:30:36
>> merging all Chr RP together... 2022-04-12 07:30:36
>> done 2022-04-12 07:30:36
>> checking seqlevels match... 2022-04-12 07:30:36
>> your peak_GR seqlevel:Chr5...
>> your Txdb seqlevel:Chr1 Chr2 Chr3 Chr4 Chr5 ChrM ChrC...
Good, your Chrs in peak_GR is all in Txdb
------------
annotatePeak using geneScan mode begins
>> preparing gene features information and scan region... 2022-04-12 07:30:36
>> some scan range may cross Chr bound, trimming... 2022-04-12 07:30:37
>> finding overlap peak in gene scan region... 2022-04-12 07:30:37
>> dealing with left peak not your gene scan region... 2022-04-12 07:30:37
>> merging two set peaks... 2022-04-12 07:30:37
>> calculating distance and dealing with gene strand... 2022-04-12 07:30:37
>> merging all info together ... 2022-04-12 07:30:37
>> done 2022-04-12 07:30:37
>> calculating peakCenter to TSS using peak-gene pair... 2022-04-12 07:30:37
>> pre-filling 1356 noAssoc peak gene's RP with 0... 2022-04-12 07:30:38
>> calculating RP using centerToTSS and peak score2022-04-12 07:30:38
>> merging all info together 2022-04-12 07:30:40
>> done 2022-04-12 07:30:41
>> calculating peakCenter to TSS using peak-gene pair... 2022-04-12 07:30:41
>> pre-filling 1356 noAssoc peak gene's RP with 0... 2022-04-12 07:30:42
>> calculating RP using centerToTSS and peak score2022-04-12 07:30:42
>> merging all info together 2022-04-12 07:30:45
>> done 2022-04-12 07:30:45
>> checking seqlevels match... 2022-04-12 07:30:45
>> your peak_GR seqlevel:Chr5...
>> your Txdb seqlevel:Chr1 Chr2 Chr3 Chr4 Chr5 ChrM ChrC...
Good, your Chrs in peak_GR is all in Txdb
------------
annotatePeak using geneScan mode begins
>> preparing gene features information and scan region... 2022-04-12 07:30:45
>> some scan range may cross Chr bound, trimming... 2022-04-12 07:30:46
>> finding overlap peak in gene scan region... 2022-04-12 07:30:46
>> dealing with left peak not your gene scan region... 2022-04-12 07:30:46
>> merging two set peaks... 2022-04-12 07:30:46
>> calculating distance and dealing with gene strand... 2022-04-12 07:30:46
>> merging all info together ... 2022-04-12 07:30:46
>> done 2022-04-12 07:30:46
>> calculating peakCenter to TSS using peak-gene pair... 2022-04-12 07:30:46
>> calculating RP using centerToTSS and TF hit 2022-04-12 07:30:47
>> merging all info together 2022-04-12 07:30:47
>> done 2022-04-12 07:30:47
>> calculating peakCenter to TSS using peak-gene pair... 2022-04-12 07:30:47
>> calculating RP using centerToTSS and TF hit 2022-04-12 07:30:48
>> merging all info together 2022-04-12 07:30:48
>> done 2022-04-12 07:30:48
>> checking seqlevels match... 2022-04-12 07:30:49
>> your peak_GR seqlevel:Chr5...
>> your Txdb seqlevel:Chr1 Chr2 Chr3 Chr4 Chr5 ChrM ChrC...
Good, your Chrs in peak_GR is all in Txdb
------------
annotatePeak using geneScan mode begins
>> preparing gene features information and scan region... 2022-04-12 07:30:49
>> some scan range may cross Chr bound, trimming... 2022-04-12 07:30:50
>> finding overlap peak in gene scan region... 2022-04-12 07:30:50
>> dealing with left peak not your gene scan region... 2022-04-12 07:30:50
>> merging two set peaks... 2022-04-12 07:30:50
>> calculating distance and dealing with gene strand... 2022-04-12 07:30:50
>> merging all info together ... 2022-04-12 07:30:50
>> done 2022-04-12 07:30:50
>> calculating peakCenter to TSS using peak-gene pair... 2022-04-12 07:30:50
>> pre-filling 1356 noAssoc peak gene's RP with 0... 2022-04-12 07:30:51
>> calculating RP using centerToTSS and peak score2022-04-12 07:30:51
>> merging all info together 2022-04-12 07:30:53
>> done 2022-04-12 07:30:53
>> extracting RP info from regionRP... 2022-04-12 07:30:54
>> dealing with TF_GR_databse... 2022-04-12 07:30:54
>> calculating percent and p-value... 2022-04-12 07:30:54
>> dealing withE5_0h_R1... 2022-04-12 07:30:54
>> dealing withE5_0h_R2... 2022-04-12 07:30:54
>> dealing withE5_4h_R1... 2022-04-12 07:30:54
>> dealing withE5_4h_R2... 2022-04-12 07:30:54
>> dealing withE5_8h_R1... 2022-04-12 07:30:54
>> dealing withE5_8h_R2... 2022-04-12 07:30:55
>> dealing withE5_16h_R1... 2022-04-12 07:30:55
>> dealing withE5_16h_R2... 2022-04-12 07:30:55
>> dealing withE5_24h_R1... 2022-04-12 07:30:55
>> dealing withE5_24h_R2... 2022-04-12 07:30:55
>> dealing withE5_48h_R1... 2022-04-12 07:30:55
>> dealing withE5_48h_R2... 2022-04-12 07:30:55
>> dealing withE5_48h_R3... 2022-04-12 07:30:55
>> dealing withE5_72h_R1... 2022-04-12 07:30:55
>> dealing withE5_72h_R2... 2022-04-12 07:30:55
>> dealing withE5_72h_R3... 2022-04-12 07:30:55
>> merging all info together... 2022-04-12 07:30:55
>> done 2022-04-12 07:30:55
>> preparing gene features information... 2022-04-12 07:30:55
>> some scan range may cross Chr bound, trimming... 2022-04-12 07:30:56
>> calculating p-value for each TF, which may be time consuming... 2022-04-12 07:30:56
>> merging all info together... 2022-04-12 07:30:56
>> done 2022-04-12 07:30:56
>> dealing with TF_GR_database... 2022-04-12 07:30:56
>> calculating coef and converting into z-score using INT... 2022-04-12 07:30:57
>> dealing withE5_0h_R1... 2022-04-12 07:30:57
>> dealing withE5_0h_R2... 2022-04-12 07:30:57
>> dealing withE5_4h_R1... 2022-04-12 07:30:57
>> dealing withE5_4h_R2... 2022-04-12 07:30:57
>> dealing withE5_8h_R1... 2022-04-12 07:30:57
>> dealing withE5_8h_R2... 2022-04-12 07:30:57
>> dealing withE5_16h_R1... 2022-04-12 07:30:57
>> dealing withE5_16h_R2... 2022-04-12 07:30:57
>> dealing withE5_24h_R1... 2022-04-12 07:30:57
>> dealing withE5_24h_R2... 2022-04-12 07:30:58
>> dealing withE5_48h_R1... 2022-04-12 07:30:58
>> dealing withE5_48h_R2... 2022-04-12 07:30:58
>> dealing withE5_48h_R3... 2022-04-12 07:30:58
>> dealing withE5_72h_R1... 2022-04-12 07:30:58
>> dealing withE5_72h_R2... 2022-04-12 07:30:58
>> dealing withE5_72h_R3... 2022-04-12 07:30:58
>> merging all info together... 2022-04-12 07:30:58
>> done 2022-04-12 07:30:58
>> checking seqlevels match... 2022-04-12 07:30:58
>> your peak_GR seqlevel:Chr5...
>> your Txdb seqlevel:Chr1 Chr2 Chr3 Chr4 Chr5 ChrM ChrC...
Good, your Chrs in peak_GR is all in Txdb
------------
annotatePeak using geneScan mode begins
>> preparing gene features information and scan region... 2022-04-12 07:30:58
>> some scan range may cross Chr bound, trimming... 2022-04-12 07:30:59
>> finding overlap peak in gene scan region... 2022-04-12 07:30:59
>> dealing with left peak not your gene scan region... 2022-04-12 07:30:59
>> merging two set peaks... 2022-04-12 07:30:59
>> calculating distance and dealing with gene strand... 2022-04-12 07:31:00
>> merging all info together ... 2022-04-12 07:31:00
>> done 2022-04-12 07:31:00
>> calculating peakCenter to TSS using peak-gene pair... 2022-04-12 07:31:00
>> calculating RP using centerToTSS and TF hit 2022-04-12 07:31:01
>> merging all info together 2022-04-12 07:31:01
>> done 2022-04-12 07:31:02
>> checking seqlevels match... 2022-04-12 07:31:02
>> your peak_GR seqlevel:5...
>> your Txdb seqlevel:Chr1 Chr2 Chr3 Chr4 Chr5 ChrM ChrC...
>> checking seqlevels match... 2022-04-12 07:31:02
>> your peak_GR seqlevel:Chr5 Chr6...
>> your Txdb seqlevel:Chr1 Chr2 Chr3 Chr4 Chr5 ChrM ChrC...
>> checking seqlevels match... 2022-04-12 07:31:05
>> your peak_GR seqlevel:Chr5...
>> your Txdb seqlevel:Chr1 Chr2 Chr3 Chr4 Chr5 ChrM ChrC...
Good, your Chrs in peak_GR is all in Txdb
>> checking seqlevels match... 2022-04-12 07:31:05
>> your peak_GR seqlevel:Chr5...
>> your Txdb seqlevel:Chr1 Chr2 Chr3 Chr4 Chr5 ChrM ChrC...
Good, your Chrs in peak_GR is all in Txdb
------------
annotating Peak using nearest gene mode begins
>> preparing gene features information... 2022-04-12 07:31:05
>> finding nearest gene and calculating distance... 2022-04-12 07:31:06
>> dealing with gene strand ... 2022-04-12 07:31:06
>> merging all info together ... 2022-04-12 07:31:06
>> done 2022-04-12 07:31:06
>> checking seqlevels match... 2022-04-12 07:31:06
>> your peak_GR seqlevel:Chr5...
>> your Txdb seqlevel:Chr1 Chr2 Chr3 Chr4 Chr5 ChrM ChrC...
Good, your Chrs in peak_GR is all in Txdb
>> checking seqlevels match... 2022-04-12 07:31:06
>> your peak_GR seqlevel:Chr5...
>> your Txdb seqlevel:Chr1 Chr2 Chr3 Chr4 Chr5 ChrM ChrC...
Good, your Chrs in peak_GR is all in Txdb
------------
annotating Peak using nearest gene mode begins
>> preparing gene features information... 2022-04-12 07:31:06
>> finding nearest gene and calculating distance... 2022-04-12 07:31:07
>> dealing with gene strand ... 2022-04-12 07:31:07
>> merging all info together ... 2022-04-12 07:31:07
>> done 2022-04-12 07:31:07
>> checking seqlevels match... 2022-04-12 07:31:08
>> your peak_GR seqlevel:Chr5...
>> your Txdb seqlevel:Chr1 Chr2 Chr3 Chr4 Chr5 ChrM ChrC...
Good, your Chrs in peak_GR is all in Txdb
>> checking seqlevels match... 2022-04-12 07:31:08
>> your peak_GR seqlevel:Chr5...
>> your Txdb seqlevel:Chr1 Chr2 Chr3 Chr4 Chr5 ChrM ChrC...
Good, your Chrs in peak_GR is all in Txdb
------------
annotating Peak using nearest gene mode begins
>> preparing gene features information... 2022-04-12 07:31:08
>> finding nearest gene and calculating distance... 2022-04-12 07:31:09
>> dealing with gene strand ... 2022-04-12 07:31:09
>> merging all info together ... 2022-04-12 07:31:09
>> done 2022-04-12 07:31:09
>> checking seqlevels match... 2022-04-12 07:31:10
>> your peak_GR seqlevel:Chr5...
>> your Txdb seqlevel:Chr1 Chr2 Chr3 Chr4 Chr5 ChrM ChrC...
Good, your Chrs in peak_GR is all in Txdb
>> checking seqlevels match... 2022-04-12 07:31:10
>> your peak_GR seqlevel:Chr5...
>> your Txdb seqlevel:Chr1 Chr2 Chr3 Chr4 Chr5 ChrM ChrC...
Good, your Chrs in peak_GR is all in Txdb
------------
annotating Peak using nearest gene mode begins
>> preparing gene features information... 2022-04-12 07:31:10
>> finding nearest gene and calculating distance... 2022-04-12 07:31:11
>> dealing with gene strand ... 2022-04-12 07:31:11
>> merging all info together ... 2022-04-12 07:31:11
>> done 2022-04-12 07:31:11
It seems that there 1 genes have not been annotated by nearestGene mode
>> checking seqlevels match... 2022-04-12 07:31:12
>> your peak_GR seqlevel:Chr5...
>> your Txdb seqlevel:Chr1 Chr2 Chr3 Chr4 Chr5 ChrM ChrC...
Good, your Chrs in peak_GR is all in Txdb
>> checking seqlevels match... 2022-04-12 07:31:12
>> your peak_GR seqlevel:Chr5...
>> your Txdb seqlevel:Chr1 Chr2 Chr3 Chr4 Chr5 ChrM ChrC...
Good, your Chrs in peak_GR is all in Txdb
------------
annotating Peak using nearest gene mode begins
>> preparing gene features information... 2022-04-12 07:31:12
>> finding nearest gene and calculating distance... 2022-04-12 07:31:13
>> dealing with gene strand ... 2022-04-12 07:31:13
>> merging all info together ... 2022-04-12 07:31:13
>> done 2022-04-12 07:31:13
It seems that there 1 genes have not been annotated by nearestGene mode
>> checking seqlevels match... 2022-04-12 07:31:14
>> your peak_GR seqlevel:Chr5...
>> your Txdb seqlevel:Chr1 Chr2 Chr3 Chr4 Chr5 ChrM ChrC...
Good, your Chrs in peak_GR is all in Txdb
>> checking seqlevels match... 2022-04-12 07:31:15
>> your peak_GR seqlevel:Chr5...
>> your Txdb seqlevel:Chr1 Chr2 Chr3 Chr4 Chr5 ChrM ChrC...
Good, your Chrs in peak_GR is all in Txdb
>> some scan range may cross Chr bound, trimming... 2022-04-12 07:31:16
>> checking seqlevels match... 2022-04-12 07:31:16
>> your peak_GR seqlevel:Chr5...
>> your Txdb seqlevel:Chr1 Chr2 Chr3 Chr4 Chr5 ChrM ChrC...
Good, your Chrs in peak_GR is all in Txdb
>> some scan range may cross Chr bound, trimming... 2022-04-12 07:31:17
Good, your two matrix colnames matchs
>> calculating cor and pvalue, which may be time consuming... 2022-04-12 07:31:18
>> merging all info together... 2022-04-12 07:31:18
>> done 2022-04-12 07:31:18
>> checking seqlevels match... 2022-04-12 07:31:18
>> your peak_GR seqlevel:Chr5...
>> your Txdb seqlevel:Chr1 Chr2 Chr3 Chr4 Chr5 ChrM ChrC...
Good, your Chrs in peak_GR is all in Txdb
>> using scanPromoter parameter to scan promoter for each gene... 2022-04-12 07:31:18
>> checking seqlevels match... 2022-04-12 07:31:18
>> your peak_GR seqlevel:Chr5...
>> your Txdb seqlevel:Chr1 Chr2 Chr3 Chr4 Chr5 ChrM ChrC...
Good, your Chrs in peak_GR is all in Txdb
>> some scan range may cross Chr bound, trimming... 2022-04-12 07:31:19
>> there are 85 gene have scaned promoter
>> using scanEnhancer parameter to scan Enhancer for each gene... 2022-04-12 07:31:20
>> checking seqlevels match... 2022-04-12 07:31:20
>> your peak_GR seqlevel:Chr5...
>> your Txdb seqlevel:Chr1 Chr2 Chr3 Chr4 Chr5 ChrM ChrC...
Good, your Chrs in peak_GR is all in Txdb
>> some scan range may cross Chr bound, trimming... 2022-04-12 07:31:20
>> calculating cor and pvalue, which may be time consuming... 2022-04-12 07:31:21
>> merging all info together... 2022-04-12 07:31:21
>> done 2022-04-12 07:31:21
Good, your two matrix colnames matchs
>> calculating cor and pvalue, which may be time consuming... 2022-04-12 07:31:21
>> merging all info together... 2022-04-12 07:31:21
>> done 2022-04-12 07:31:21
>> checking seqlevels match... 2022-04-12 07:31:21
>> your peak_GR seqlevel:Chr5...
>> your Txdb seqlevel:Chr1 Chr2 Chr3 Chr4 Chr5 ChrM ChrC...
Good, your Chrs in peak_GR is all in Txdb
------------
annotatePeak using geneScan mode begins
>> preparing gene features information and scan region... 2022-04-12 07:31:21
>> some scan range may cross Chr bound, trimming... 2022-04-12 07:31:23
>> finding overlap peak in gene scan region... 2022-04-12 07:31:23
>> dealing with left peak not your gene scan region... 2022-04-12 07:31:23
>> merging two set peaks... 2022-04-12 07:31:23
>> calculating distance and dealing with gene strand... 2022-04-12 07:31:23
>> merging all info together ... 2022-04-12 07:31:23
>> done 2022-04-12 07:31:23
Good, your two matrix colnames matchs
>> calculating cor and pvalue, which may be time consuming... 2022-04-12 07:31:24
>> merging all info together... 2022-04-12 07:31:24
>> done 2022-04-12 07:31:24
>> checking seqlevels match... 2022-04-12 07:31:24
>> your peak_GR seqlevel:Chr5...
>> your Txdb seqlevel:Chr1 Chr2 Chr3 Chr4 Chr5 ChrM ChrC...
Good, your Chrs in peak_GR is all in Txdb
>> using scanPromoter parameter to scan promoter for each gene... 2022-04-12 07:31:24
>> checking seqlevels match... 2022-04-12 07:31:24
>> your peak_GR seqlevel:Chr5...
>> your Txdb seqlevel:Chr1 Chr2 Chr3 Chr4 Chr5 ChrM ChrC...
Good, your Chrs in peak_GR is all in Txdb
>> some scan range may cross Chr bound, trimming... 2022-04-12 07:31:25
>> there are 85 gene have scaned promoter
>> using scanEnhancer parameter to scan Enhancer for each gene... 2022-04-12 07:31:25
>> checking seqlevels match... 2022-04-12 07:31:25
>> your peak_GR seqlevel:Chr5...
>> your Txdb seqlevel:Chr1 Chr2 Chr3 Chr4 Chr5 ChrM ChrC...
Good, your Chrs in peak_GR is all in Txdb
>> some scan range may cross Chr bound, trimming... 2022-04-12 07:31:26
>> calculating cor and pvalue, which may be time consuming... 2022-04-12 07:31:26
>> merging all info together... 2022-04-12 07:31:26
>> done 2022-04-12 07:31:27
Joining, by = "feature_id"
Joining, by = "feature_id"
`geom_smooth()` using formula 'y ~ x'
Joining, by = "feature_id"
Joining, by = "feature_id"
`geom_smooth()` using formula 'y ~ x'
[ FAIL 0 | WARN 0 | SKIP 0 | PASS 65 ]
>
> proc.time()
user system elapsed
66.626 2.234 68.849
FindIT2.Rcheck/FindIT2-Ex.timings
| name | user | system | elapsed | |
| TF_target_database | 0 | 0 | 0 | |
| calcRP_TFHit | 4.198 | 0.132 | 4.391 | |
| calcRP_coverage | 4.487 | 1.136 | 5.623 | |
| calcRP_region | 4.942 | 0.128 | 5.070 | |
| enhancerPromoterCor | 2.841 | 0.100 | 2.941 | |
| findIT_MARA | 0.466 | 0.012 | 0.478 | |
| findIT_TFHit | 1.016 | 0.016 | 1.032 | |
| findIT_TTPair | 0.088 | 0.004 | 0.092 | |
| findIT_enrichFisher | 0.171 | 0.008 | 0.179 | |
| findIT_enrichWilcox | 0.207 | 0.000 | 0.207 | |
| findIT_regionRP | 6.226 | 0.052 | 6.278 | |
| getAssocPairNumber | 1.310 | 0.008 | 1.317 | |
| integrate_ChIP_RNA | 2.227 | 0.048 | 2.275 | |
| integrate_replicates | 0.002 | 0.000 | 0.002 | |
| jaccard_findIT_TTpair | 0.123 | 0.004 | 0.127 | |
| jaccard_findIT_enrichFisher | 0.237 | 0.004 | 0.241 | |
| loadPeakFile | 0.066 | 0.000 | 0.066 | |
| mm_geneBound | 2.054 | 0.156 | 2.210 | |
| mm_geneScan | 1.133 | 0.008 | 1.141 | |
| mm_nearestGene | 1.056 | 0.004 | 1.060 | |
| peakGeneCor | 2.060 | 0.004 | 2.064 | |
| plot_annoDistance | 1.373 | 0.020 | 1.393 | |
| plot_peakGeneAlias_summary | 1.362 | 0.004 | 1.366 | |
| plot_peakGeneCor | 2.704 | 0.012 | 2.717 | |
| test_geneSet | 0 | 0 | 0 | |