| Back to Multiple platform build/check report for BioC 3.14 |
|
This page was generated on 2022-04-13 12:05:21 -0400 (Wed, 13 Apr 2022).
| Hostname | OS | Arch (*) | R version | Installed pkgs |
|---|---|---|---|---|
| nebbiolo2 | Linux (Ubuntu 20.04.4 LTS) | x86_64 | 4.1.3 (2022-03-10) -- "One Push-Up" | 4324 |
| tokay2 | Windows Server 2012 R2 Standard | x64 | 4.1.3 (2022-03-10) -- "One Push-Up" | 4077 |
| machv2 | macOS 10.14.6 Mojave | x86_64 | 4.1.3 (2022-03-10) -- "One Push-Up" | 4137 |
| Click on any hostname to see more info about the system (e.g. compilers) (*) as reported by 'uname -p', except on Windows and Mac OS X | ||||
|
To the developers/maintainers of the FLAMES package: - Please allow up to 24 hours (and sometimes 48 hours) for your latest push to git@git.bioconductor.org:packages/FLAMES.git to reflect on this report. See How and When does the builder pull? When will my changes propagate? for more information. - Make sure to use the following settings in order to reproduce any error or warning you see on this page. |
| Package 648/2083 | Hostname | OS / Arch | INSTALL | BUILD | CHECK | BUILD BIN | ||||||||
| FLAMES 1.0.2 (landing page) Voogd Oliver
| nebbiolo2 | Linux (Ubuntu 20.04.4 LTS) / x86_64 | OK | OK | OK | |||||||||
| tokay2 | Windows Server 2012 R2 Standard / x64 | OK | OK | OK | OK | |||||||||
| machv2 | macOS 10.14.6 Mojave / x86_64 | OK | OK | OK | OK | |||||||||
| Package: FLAMES |
| Version: 1.0.2 |
| Command: /home/biocbuild/bbs-3.14-bioc/R/bin/R CMD INSTALL FLAMES |
| StartedAt: 2022-04-12 03:28:52 -0400 (Tue, 12 Apr 2022) |
| EndedAt: 2022-04-12 03:29:44 -0400 (Tue, 12 Apr 2022) |
| EllapsedTime: 52.2 seconds |
| RetCode: 0 |
| Status: OK |
##############################################################################
##############################################################################
###
### Running command:
###
### /home/biocbuild/bbs-3.14-bioc/R/bin/R CMD INSTALL FLAMES
###
##############################################################################
##############################################################################
* installing to library ‘/home/biocbuild/bbs-3.14-bioc/R/library’
* installing *source* package ‘FLAMES’ ...
** using staged installation
** libs
g++ -std=gnu++17 -I"/home/biocbuild/bbs-3.14-bioc/R/include" -DNDEBUG -D_FILE_OFFSET_BITS=64 -I'/home/biocbuild/bbs-3.14-bioc/R/library/Rcpp/include' -I'/home/biocbuild/bbs-3.14-bioc/R/library/Rhtslib/include' -I'/home/biocbuild/bbs-3.14-bioc/R/library/zlibbioc/include' -I/usr/local/include -fpic -g -O2 -c RcppExports.cpp -o RcppExports.o
gcc -I"/home/biocbuild/bbs-3.14-bioc/R/include" -DNDEBUG -D_FILE_OFFSET_BITS=64 -I'/home/biocbuild/bbs-3.14-bioc/R/library/Rcpp/include' -I'/home/biocbuild/bbs-3.14-bioc/R/library/Rhtslib/include' -I'/home/biocbuild/bbs-3.14-bioc/R/library/zlibbioc/include' -I/usr/local/include -fpic -g -O2 -Wall -c bam.c -o bam.o
bam.c: In function ‘bam_remove_B’:
bam.c:163:2: warning: this ‘for’ clause does not guard... [-Wmisleading-indentation]
163 | for (k = 0; k < b->core.n_cigar; ++k)
| ^~~
bam.c:165:3: note: ...this statement, but the latter is misleadingly indented as if it were guarded by the ‘for’
165 | if (k == b->core.n_cigar) return 0; // no 'B'
| ^~
bam.c:226:3: warning: this ‘for’ clause does not guard... [-Wmisleading-indentation]
226 | for (k = 1; k < l; ++k)
| ^~~
bam.c:230:4: note: ...this statement, but the latter is misleadingly indented as if it were guarded by the ‘for’
230 | for (k = i = 0; k < l; ++k)
| ^~~
bam.c:230:4: warning: this ‘for’ clause does not guard... [-Wmisleading-indentation]
bam.c:233:5: note: ...this statement, but the latter is misleadingly indented as if it were guarded by the ‘for’
233 | l = i;
| ^
g++ -std=gnu++17 -I"/home/biocbuild/bbs-3.14-bioc/R/include" -DNDEBUG -D_FILE_OFFSET_BITS=64 -I'/home/biocbuild/bbs-3.14-bioc/R/library/Rcpp/include' -I'/home/biocbuild/bbs-3.14-bioc/R/library/Rhtslib/include' -I'/home/biocbuild/bbs-3.14-bioc/R/library/zlibbioc/include' -I/usr/local/include -fpic -g -O2 -c edit_dist.cpp -o edit_dist.o
g++ -std=gnu++17 -I"/home/biocbuild/bbs-3.14-bioc/R/include" -DNDEBUG -D_FILE_OFFSET_BITS=64 -I'/home/biocbuild/bbs-3.14-bioc/R/library/Rcpp/include' -I'/home/biocbuild/bbs-3.14-bioc/R/library/Rhtslib/include' -I'/home/biocbuild/bbs-3.14-bioc/R/library/zlibbioc/include' -I/usr/local/include -fpic -g -O2 -c fastq_utils.cpp -o fastq_utils.o
g++ -std=gnu++17 -I"/home/biocbuild/bbs-3.14-bioc/R/include" -DNDEBUG -D_FILE_OFFSET_BITS=64 -I'/home/biocbuild/bbs-3.14-bioc/R/library/Rcpp/include' -I'/home/biocbuild/bbs-3.14-bioc/R/library/Rhtslib/include' -I'/home/biocbuild/bbs-3.14-bioc/R/library/zlibbioc/include' -I/usr/local/include -fpic -g -O2 -c match_cell_barcode.cpp -o match_cell_barcode.o
g++ -std=gnu++17 -I"/home/biocbuild/bbs-3.14-bioc/R/include" -DNDEBUG -D_FILE_OFFSET_BITS=64 -I'/home/biocbuild/bbs-3.14-bioc/R/library/Rcpp/include' -I'/home/biocbuild/bbs-3.14-bioc/R/library/Rhtslib/include' -I'/home/biocbuild/bbs-3.14-bioc/R/library/zlibbioc/include' -I/usr/local/include -fpic -g -O2 -c merge_bulk.cpp -o merge_bulk.o
gcc -I"/home/biocbuild/bbs-3.14-bioc/R/include" -DNDEBUG -D_FILE_OFFSET_BITS=64 -I'/home/biocbuild/bbs-3.14-bioc/R/library/Rcpp/include' -I'/home/biocbuild/bbs-3.14-bioc/R/library/Rhtslib/include' -I'/home/biocbuild/bbs-3.14-bioc/R/library/zlibbioc/include' -I/usr/local/include -fpic -g -O2 -Wall -c ssw.c -o ssw.o
g++ -std=gnu++17 -I"/home/biocbuild/bbs-3.14-bioc/R/include" -DNDEBUG -D_FILE_OFFSET_BITS=64 -I'/home/biocbuild/bbs-3.14-bioc/R/library/Rcpp/include' -I'/home/biocbuild/bbs-3.14-bioc/R/library/Rhtslib/include' -I'/home/biocbuild/bbs-3.14-bioc/R/library/zlibbioc/include' -I/usr/local/include -fpic -g -O2 -c ssw_cpp.cpp -o ssw_cpp.o
g++ -std=gnu++17 -shared -L/home/biocbuild/bbs-3.14-bioc/R/lib -L/usr/local/lib -o FLAMES.so RcppExports.o bam.o edit_dist.o fastq_utils.o match_cell_barcode.o merge_bulk.o ssw.o ssw_cpp.o /home/biocbuild/bbs-3.14-bioc/R/library/Rhtslib/usrlib/libhts.a -lcurl -L/home/biocbuild/bbs-3.14-bioc/R/lib -lR
installing to /home/biocbuild/bbs-3.14-bioc/R/library/00LOCK-FLAMES/00new/FLAMES/libs
** R
** inst
** byte-compile and prepare package for lazy loading
** help
*** installing help indices
** building package indices
** installing vignettes
** testing if installed package can be loaded from temporary location
** checking absolute paths in shared objects and dynamic libraries
** testing if installed package can be loaded from final location
** testing if installed package keeps a record of temporary installation path
* DONE (FLAMES)