| Back to Multiple platform build/check report for BioC 3.14 |
|
This page was generated on 2022-04-13 12:06:30 -0400 (Wed, 13 Apr 2022).
| Hostname | OS | Arch (*) | R version | Installed pkgs |
|---|---|---|---|---|
| nebbiolo2 | Linux (Ubuntu 20.04.4 LTS) | x86_64 | 4.1.3 (2022-03-10) -- "One Push-Up" | 4324 |
| tokay2 | Windows Server 2012 R2 Standard | x64 | 4.1.3 (2022-03-10) -- "One Push-Up" | 4077 |
| machv2 | macOS 10.14.6 Mojave | x86_64 | 4.1.3 (2022-03-10) -- "One Push-Up" | 4137 |
| Click on any hostname to see more info about the system (e.g. compilers) (*) as reported by 'uname -p', except on Windows and Mac OS X | ||||
|
To the developers/maintainers of the ENmix package: - Please allow up to 24 hours (and sometimes 48 hours) for your latest push to git@git.bioconductor.org:packages/ENmix.git to reflect on this report. See How and When does the builder pull? When will my changes propagate? for more information. - Make sure to use the following settings in order to reproduce any error or warning you see on this page. |
| Package 579/2083 | Hostname | OS / Arch | INSTALL | BUILD | CHECK | BUILD BIN | ||||||||
| ENmix 1.30.03 (landing page) Zongli Xu
| nebbiolo2 | Linux (Ubuntu 20.04.4 LTS) / x86_64 | OK | OK | OK | |||||||||
| tokay2 | Windows Server 2012 R2 Standard / x64 | OK | OK | OK | OK | |||||||||
| machv2 | macOS 10.14.6 Mojave / x86_64 | OK | OK | OK | OK | |||||||||
| Package: ENmix |
| Version: 1.30.03 |
| Command: rm -rf ENmix.buildbin-libdir && mkdir ENmix.buildbin-libdir && C:\Users\biocbuild\bbs-3.14-bioc\R\bin\R.exe CMD INSTALL --merge-multiarch --build --library=ENmix.buildbin-libdir ENmix_1.30.03.tar.gz |
| StartedAt: 2022-04-13 06:08:28 -0400 (Wed, 13 Apr 2022) |
| EndedAt: 2022-04-13 06:11:03 -0400 (Wed, 13 Apr 2022) |
| EllapsedTime: 155.8 seconds |
| RetCode: 0 |
| Status: OK |
| PackageFile: ENmix_1.30.03.zip |
| PackageFileSize: 1.914 MiB |
##############################################################################
##############################################################################
###
### Running command:
###
### rm -rf ENmix.buildbin-libdir && mkdir ENmix.buildbin-libdir && C:\Users\biocbuild\bbs-3.14-bioc\R\bin\R.exe CMD INSTALL --merge-multiarch --build --library=ENmix.buildbin-libdir ENmix_1.30.03.tar.gz
###
##############################################################################
##############################################################################
install for i386
* installing *source* package 'ENmix' ...
** using staged installation
** R
** inst
** byte-compile and prepare package for lazy loading
** help
*** installing help indices
converting help for package 'ENmix'
finding HTML links ... done
B2M html
M2B html
QCinfo html
calcdetP html
combp html
ctrlsva html
dupicc html
estimateCellProp html
freqpoly html
getB html
getCGinfo html
getmeth html
ipdmr html
methDataSet-class html
methyAge html
mhtplot html
mpreprocess html
finding level-2 HTML links ... done
multifreqpoly html
nmode html
norm.quantile html
oxBS.MLE html
p.qqplot html
pcrplot html
plotCtrl html
predSex html
preprocessENmix html
qcfilter html
rcp html
readidat html
readmanifest html
relic html
repicc html
rgDataSet-class html
simubed html
** building package indices
** installing vignettes
** testing if installed package can be loaded from temporary location
** testing if installed package can be loaded from final location
** testing if installed package keeps a record of temporary installation path
install for x64
* installing *source* package 'ENmix' ...
** testing if installed package can be loaded
* MD5 sums
packaged installation of 'ENmix' as ENmix_1.30.03.zip
* DONE (ENmix)