| Back to Multiple platform build/check report for BioC 3.14 |
|
This page was generated on 2022-04-13 12:06:30 -0400 (Wed, 13 Apr 2022).
| Hostname | OS | Arch (*) | R version | Installed pkgs |
|---|---|---|---|---|
| nebbiolo2 | Linux (Ubuntu 20.04.4 LTS) | x86_64 | 4.1.3 (2022-03-10) -- "One Push-Up" | 4324 |
| tokay2 | Windows Server 2012 R2 Standard | x64 | 4.1.3 (2022-03-10) -- "One Push-Up" | 4077 |
| machv2 | macOS 10.14.6 Mojave | x86_64 | 4.1.3 (2022-03-10) -- "One Push-Up" | 4137 |
| Click on any hostname to see more info about the system (e.g. compilers) (*) as reported by 'uname -p', except on Windows and Mac OS X | ||||
|
To the developers/maintainers of the ENVISIONQuery package: - Please allow up to 24 hours (and sometimes 48 hours) for your latest push to git@git.bioconductor.org:packages/ENVISIONQuery.git to reflect on this report. See How and When does the builder pull? When will my changes propagate? for more information. - Make sure to use the following settings in order to reproduce any error or warning you see on this page. |
| Package 586/2083 | Hostname | OS / Arch | INSTALL | BUILD | CHECK | BUILD BIN | ||||||||
Alex Lisovich
| nebbiolo2 | Linux (Ubuntu 20.04.4 LTS) / x86_64 | OK | ERROR | skipped | |||||||||
| tokay2 | Windows Server 2012 R2 Standard / x64 | OK | OK | WARNINGS | OK | |||||||||
| machv2 | macOS 10.14.6 Mojave / x86_64 | OK | ERROR | skipped | skipped | |||||||||
| Package: ENVISIONQuery |
| Version: 1.42.0 |
| Command: C:\Users\biocbuild\bbs-3.14-bioc\R\bin\R.exe --arch x64 CMD INSTALL --no-multiarch ENVISIONQuery |
| StartedAt: 2022-04-12 04:03:24 -0400 (Tue, 12 Apr 2022) |
| EndedAt: 2022-04-12 04:04:20 -0400 (Tue, 12 Apr 2022) |
| EllapsedTime: 56.0 seconds |
| RetCode: 0 |
| Status: OK |
##############################################################################
##############################################################################
###
### Running command:
###
### C:\Users\biocbuild\bbs-3.14-bioc\R\bin\R.exe --arch x64 CMD INSTALL --no-multiarch ENVISIONQuery
###
##############################################################################
##############################################################################
* installing to library 'C:/Users/biocbuild/bbs-3.14-bioc/R/library'
* installing *source* package 'ENVISIONQuery' ...
** using staged installation
** R
** inst
** byte-compile and prepare package for lazy loading
** help
*** installing help indices
converting help for package 'ENVISIONQuery'
finding HTML links ... done
ENVISIONQuery-package html
ENVISIONQuery html
ENVISIONQuery.chunk html
ENVISIONQuery.loop html
ENVISIONServices html
formatIdMap html
formatIntact html
formatPicr html
formatReactome html
getFormatter html
getIdEntries html
getIdMatchInfo html
getInputIdEntries html
getInputTypes html
getIntactMatchInfo html
getMerger html
getPicrMatchInfo html
getPositiveResultSetIDs html
getReactomeMatchInfo html
getService html
getServiceClient html
getServiceNames html
getServiceOptions html
getServices html
getTool html
getToolNames html
jgetOptions html
mergeFrameList html
mergeMatchRows html
progressMsg html
registerServices html
toChunks html
** building package indices
** installing vignettes
** testing if installed package can be loaded from temporary location
Warning: Package 'ENVISIONQuery' is deprecated and will be removed from
Bioconductor version 3.15
This is ENVISIONQuery 1.42.0 2020-09-01
** testing if installed package can be loaded from final location
Warning: Package 'ENVISIONQuery' is deprecated and will be removed from
Bioconductor version 3.15
This is ENVISIONQuery 1.42.0 2020-09-01
** testing if installed package keeps a record of temporary installation path
* DONE (ENVISIONQuery)
Making 'packages.html' ... done