| Back to Multiple platform build/check report for BioC 3.14 |
|
This page was generated on 2022-04-13 12:06:30 -0400 (Wed, 13 Apr 2022).
| Hostname | OS | Arch (*) | R version | Installed pkgs |
|---|---|---|---|---|
| nebbiolo2 | Linux (Ubuntu 20.04.4 LTS) | x86_64 | 4.1.3 (2022-03-10) -- "One Push-Up" | 4324 |
| tokay2 | Windows Server 2012 R2 Standard | x64 | 4.1.3 (2022-03-10) -- "One Push-Up" | 4077 |
| machv2 | macOS 10.14.6 Mojave | x86_64 | 4.1.3 (2022-03-10) -- "One Push-Up" | 4137 |
| Click on any hostname to see more info about the system (e.g. compilers) (*) as reported by 'uname -p', except on Windows and Mac OS X | ||||
|
To the developers/maintainers of the EMDomics package: - Please allow up to 24 hours (and sometimes 48 hours) for your latest push to git@git.bioconductor.org:packages/EMDomics.git to reflect on this report. See How and When does the builder pull? When will my changes propagate? for more information. - Make sure to use the following settings in order to reproduce any error or warning you see on this page. |
| Package 573/2083 | Hostname | OS / Arch | INSTALL | BUILD | CHECK | BUILD BIN | ||||||||
| EMDomics 2.24.0 (landing page) Sadhika Malladi
| nebbiolo2 | Linux (Ubuntu 20.04.4 LTS) / x86_64 | OK | OK | OK | |||||||||
| tokay2 | Windows Server 2012 R2 Standard / x64 | OK | OK | OK | OK | |||||||||
| machv2 | macOS 10.14.6 Mojave / x86_64 | OK | OK | OK | OK | |||||||||
| Package: EMDomics |
| Version: 2.24.0 |
| Command: rm -rf EMDomics.buildbin-libdir && mkdir EMDomics.buildbin-libdir && C:\Users\biocbuild\bbs-3.14-bioc\R\bin\R.exe CMD INSTALL --merge-multiarch --build --library=EMDomics.buildbin-libdir EMDomics_2.24.0.tar.gz |
| StartedAt: 2022-04-13 06:08:01 -0400 (Wed, 13 Apr 2022) |
| EndedAt: 2022-04-13 06:08:28 -0400 (Wed, 13 Apr 2022) |
| EllapsedTime: 26.5 seconds |
| RetCode: 0 |
| Status: OK |
| PackageFile: EMDomics_2.24.0.zip |
| PackageFileSize: 211.2 KiB |
##############################################################################
##############################################################################
###
### Running command:
###
### rm -rf EMDomics.buildbin-libdir && mkdir EMDomics.buildbin-libdir && C:\Users\biocbuild\bbs-3.14-bioc\R\bin\R.exe CMD INSTALL --merge-multiarch --build --library=EMDomics.buildbin-libdir EMDomics_2.24.0.tar.gz
###
##############################################################################
##############################################################################
install for i386
* installing *source* package 'EMDomics' ...
** using staged installation
** R
** inst
** byte-compile and prepare package for lazy loading
** help
*** installing help indices
converting help for package 'EMDomics'
finding HTML links ... done
CVMomics html
EMDomics html
KSomics html
calculate_cvm html
calculate_cvm_gene html
calculate_emd html
calculate_emd_gene html
calculate_ks html
calculate_ks_gene html
emdomics-package html
plot_cvm_density html
plot_cvmnull html
plot_cvmperms html
plot_emd_density html
plot_emdnull html
plot_emdperms html
plot_ks_density html
plot_ksnull html
plot_ksperms html
** building package indices
** installing vignettes
** testing if installed package can be loaded from temporary location
** testing if installed package can be loaded from final location
** testing if installed package keeps a record of temporary installation path
install for x64
* installing *source* package 'EMDomics' ...
** testing if installed package can be loaded
* MD5 sums
packaged installation of 'EMDomics' as EMDomics_2.24.0.zip
* DONE (EMDomics)