| Back to Multiple platform build/check report for BioC 3.14 |
|
This page was generated on 2022-04-13 12:06:30 -0400 (Wed, 13 Apr 2022).
| Hostname | OS | Arch (*) | R version | Installed pkgs |
|---|---|---|---|---|
| nebbiolo2 | Linux (Ubuntu 20.04.4 LTS) | x86_64 | 4.1.3 (2022-03-10) -- "One Push-Up" | 4324 |
| tokay2 | Windows Server 2012 R2 Standard | x64 | 4.1.3 (2022-03-10) -- "One Push-Up" | 4077 |
| machv2 | macOS 10.14.6 Mojave | x86_64 | 4.1.3 (2022-03-10) -- "One Push-Up" | 4137 |
| Click on any hostname to see more info about the system (e.g. compilers) (*) as reported by 'uname -p', except on Windows and Mac OS X | ||||
|
To the developers/maintainers of the EGAD package: - Please allow up to 24 hours (and sometimes 48 hours) for your latest push to git@git.bioconductor.org:packages/EGAD.git to reflect on this report. See How and When does the builder pull? When will my changes propagate? for more information. - Make sure to use the following settings in order to reproduce any error or warning you see on this page. |
| Package 568/2083 | Hostname | OS / Arch | INSTALL | BUILD | CHECK | BUILD BIN | ||||||||
| EGAD 1.22.0 (landing page) Sara Ballouz
| nebbiolo2 | Linux (Ubuntu 20.04.4 LTS) / x86_64 | OK | OK | WARNINGS | |||||||||
| tokay2 | Windows Server 2012 R2 Standard / x64 | OK | OK | WARNINGS | OK | |||||||||
| machv2 | macOS 10.14.6 Mojave / x86_64 | OK | OK | WARNINGS | OK | |||||||||
| Package: EGAD |
| Version: 1.22.0 |
| Command: rm -rf EGAD.buildbin-libdir && mkdir EGAD.buildbin-libdir && C:\Users\biocbuild\bbs-3.14-bioc\R\bin\R.exe CMD INSTALL --merge-multiarch --build --library=EGAD.buildbin-libdir EGAD_1.22.0.tar.gz |
| StartedAt: 2022-04-13 06:07:40 -0400 (Wed, 13 Apr 2022) |
| EndedAt: 2022-04-13 06:08:44 -0400 (Wed, 13 Apr 2022) |
| EllapsedTime: 64.2 seconds |
| RetCode: 0 |
| Status: OK |
| PackageFile: EGAD_1.22.0.zip |
| PackageFileSize: 36.81 MiB |
##############################################################################
##############################################################################
###
### Running command:
###
### rm -rf EGAD.buildbin-libdir && mkdir EGAD.buildbin-libdir && C:\Users\biocbuild\bbs-3.14-bioc\R\bin\R.exe CMD INSTALL --merge-multiarch --build --library=EGAD.buildbin-libdir EGAD_1.22.0.tar.gz
###
##############################################################################
##############################################################################
install for i386
* installing *source* package 'EGAD' ...
** using staged installation
** R
** data
*** moving datasets to lazyload DB
** inst
** byte-compile and prepare package for lazy loading
** help
*** installing help indices
converting help for package 'EGAD'
finding HTML links ... done
GO.human html
GO.mouse html
GO.voc html
assortativity html
atrr.human html
attr.mouse html
auc_multifunc html
auprc html
auroc_analytic html
biogrid html
build_binary_network html
build_coexp_GEOID html
build_coexp_expressionSet html
build_coexp_network html
build_semantic_similarity_network html
build_weighted_network html
calculate_multifunc html
conv_smoother html
example_annotations html
example_binary_network html
example_coexpression html
example_neighbor_voting html
extend_network html
filter_network html
filter_network_cols html
filter_network_rows html
filter_orthologs html
fmeasure html
genes html
get_auc html
get_biogrid html
get_counts html
get_density html
get_expression_data_gemma html
get_expression_matrix_from_GEO html
get_phenocarta html
get_prc html
get_roc html
make_annotations html
make_gene_network html
make_genelist html
make_transparent html
neighbor_voting html
node_degree html
ortho html
pheno html
plot_densities html
plot_density_compare html
plot_distribution html
plot_network_heatmap html
plot_prc html
plot_roc html
plot_roc_overlay html
plot_value_compare html
predictions html
repmat html
run_GBA html
** building package indices
** installing vignettes
** testing if installed package can be loaded from temporary location
** testing if installed package can be loaded from final location
** testing if installed package keeps a record of temporary installation path
install for x64
* installing *source* package 'EGAD' ...
** testing if installed package can be loaded
* MD5 sums
packaged installation of 'EGAD' as EGAD_1.22.0.zip
* DONE (EGAD)