| Back to Multiple platform build/check report for BioC 3.14 |
|
This page was generated on 2022-04-13 12:05:17 -0400 (Wed, 13 Apr 2022).
| Hostname | OS | Arch (*) | R version | Installed pkgs |
|---|---|---|---|---|
| nebbiolo2 | Linux (Ubuntu 20.04.4 LTS) | x86_64 | 4.1.3 (2022-03-10) -- "One Push-Up" | 4324 |
| tokay2 | Windows Server 2012 R2 Standard | x64 | 4.1.3 (2022-03-10) -- "One Push-Up" | 4077 |
| machv2 | macOS 10.14.6 Mojave | x86_64 | 4.1.3 (2022-03-10) -- "One Push-Up" | 4137 |
| Click on any hostname to see more info about the system (e.g. compilers) (*) as reported by 'uname -p', except on Windows and Mac OS X | ||||
|
To the developers/maintainers of the Doscheda package: - Please allow up to 24 hours (and sometimes 48 hours) for your latest push to git@git.bioconductor.org:packages/Doscheda.git to reflect on this report. See How and When does the builder pull? When will my changes propagate? for more information. - Make sure to use the following settings in order to reproduce any error or warning you see on this page. |
| Package 536/2083 | Hostname | OS / Arch | INSTALL | BUILD | CHECK | BUILD BIN | ||||||||
| Doscheda 1.16.0 (landing page) Bruno Contrino
| nebbiolo2 | Linux (Ubuntu 20.04.4 LTS) / x86_64 | OK | OK | OK | |||||||||
| tokay2 | Windows Server 2012 R2 Standard / x64 | OK | OK | OK | OK | |||||||||
| machv2 | macOS 10.14.6 Mojave / x86_64 | OK | OK | OK | OK | |||||||||
| Package: Doscheda |
| Version: 1.16.0 |
| Command: /home/biocbuild/bbs-3.14-bioc/R/bin/R CMD check --install=check:Doscheda.install-out.txt --library=/home/biocbuild/bbs-3.14-bioc/R/library --no-vignettes --timings Doscheda_1.16.0.tar.gz |
| StartedAt: 2022-04-12 07:14:36 -0400 (Tue, 12 Apr 2022) |
| EndedAt: 2022-04-12 07:17:31 -0400 (Tue, 12 Apr 2022) |
| EllapsedTime: 175.3 seconds |
| RetCode: 0 |
| Status: OK |
| CheckDir: Doscheda.Rcheck |
| Warnings: 0 |
##############################################################################
##############################################################################
###
### Running command:
###
### /home/biocbuild/bbs-3.14-bioc/R/bin/R CMD check --install=check:Doscheda.install-out.txt --library=/home/biocbuild/bbs-3.14-bioc/R/library --no-vignettes --timings Doscheda_1.16.0.tar.gz
###
##############################################################################
##############################################################################
* using log directory ‘/home/biocbuild/bbs-3.14-bioc/meat/Doscheda.Rcheck’
* using R version 4.1.3 (2022-03-10)
* using platform: x86_64-pc-linux-gnu (64-bit)
* using session charset: UTF-8
* using option ‘--no-vignettes’
* checking for file ‘Doscheda/DESCRIPTION’ ... OK
* checking extension type ... Package
* this is package ‘Doscheda’ version ‘1.16.0’
* package encoding: UTF-8
* checking package namespace information ... OK
* checking package dependencies ... OK
* checking if this is a source package ... OK
* checking if there is a namespace ... OK
* checking for hidden files and directories ... OK
* checking for portable file names ... OK
* checking for sufficient/correct file permissions ... OK
* checking whether package ‘Doscheda’ can be installed ... OK
* checking installed package size ... OK
* checking package directory ... OK
* checking ‘build’ directory ... OK
* checking DESCRIPTION meta-information ... OK
* checking top-level files ... OK
* checking for left-over files ... OK
* checking index information ... OK
* checking package subdirectories ... OK
* checking R files for non-ASCII characters ... OK
* checking R files for syntax errors ... OK
* checking whether the package can be loaded ... OK
* checking whether the package can be loaded with stated dependencies ... OK
* checking whether the package can be unloaded cleanly ... OK
* checking whether the namespace can be loaded with stated dependencies ... OK
* checking whether the namespace can be unloaded cleanly ... OK
* checking dependencies in R code ... OK
* checking S3 generic/method consistency ... OK
* checking replacement functions ... OK
* checking foreign function calls ... OK
* checking R code for possible problems ... OK
* checking Rd files ... OK
* checking Rd metadata ... OK
* checking Rd cross-references ... OK
* checking for missing documentation entries ... OK
* checking for code/documentation mismatches ... OK
* checking Rd \usage sections ... OK
* checking Rd contents ... OK
* checking for unstated dependencies in examples ... OK
* checking contents of ‘data’ directory ... OK
* checking data for non-ASCII characters ... OK
* checking LazyData ... OK
* checking data for ASCII and uncompressed saves ... OK
* checking files in ‘vignettes’ ... OK
* checking examples ... OK
Examples with CPU (user + system) or elapsed time > 5s
user system elapsed
fitModel-methods 15.260 0.836 26.076
runDoscheda 12.996 0.299 17.133
pcaPlot-methods 4.108 0.250 11.237
corrPlot-methods 1.952 0.229 8.113
meanSdPlot-methods 2.025 0.142 5.653
runNormalisation-methods 1.842 0.265 5.582
densityPlot-methods 1.783 0.073 5.281
volcanoPlot-methods 1.717 0.128 5.257
replicatePlot-methods 1.725 0.089 5.871
* checking for unstated dependencies in ‘tests’ ... OK
* checking tests ...
Running ‘testthat.R’
OK
* checking for unstated dependencies in vignettes ... OK
* checking package vignettes in ‘inst/doc’ ... OK
* checking running R code from vignettes ... SKIPPED
* checking re-building of vignette outputs ... SKIPPED
* checking PDF version of manual ... OK
* DONE
Status: OK
Doscheda.Rcheck/00install.out
############################################################################## ############################################################################## ### ### Running command: ### ### /home/biocbuild/bbs-3.14-bioc/R/bin/R CMD INSTALL Doscheda ### ############################################################################## ############################################################################## * installing to library ‘/home/biocbuild/bbs-3.14-bioc/R/library’ * installing *source* package ‘Doscheda’ ... ** using staged installation ** R ** data *** moving datasets to lazyload DB ** inst ** byte-compile and prepare package for lazy loading in method for ‘getInput’ with signature ‘"ChemoProtSet"’: no definition for class “ChemoProtSet” in method for ‘getNorm’ with signature ‘"ChemoProtSet"’: no definition for class “ChemoProtSet” in method for ‘getFinal’ with signature ‘"ChemoProtSet"’: no definition for class “ChemoProtSet” in method for ‘getParameters’ with signature ‘"ChemoProtSet"’: no definition for class “ChemoProtSet” in method for ‘getDatasets’ with signature ‘"ChemoProtSet"’: no definition for class “ChemoProtSet” in method for ‘boxplot’ with signature ‘"ChemoProtSet"’: no definition for class “ChemoProtSet” in method for ‘corrPlot’ with signature ‘"ChemoProtSet"’: no definition for class “ChemoProtSet” in method for ‘densityPlot’ with signature ‘"ChemoProtSet"’: no definition for class “ChemoProtSet” Creating a new generic function for ‘meanSdPlot’ in package ‘Doscheda’ ** help *** installing help indices ** building package indices ** installing vignettes ** testing if installed package can be loaded from temporary location ** testing if installed package can be loaded from final location ** testing if installed package keeps a record of temporary installation path * DONE (Doscheda)
Doscheda.Rcheck/tests/testthat.Rout
R version 4.1.3 (2022-03-10) -- "One Push-Up"
Copyright (C) 2022 The R Foundation for Statistical Computing
Platform: x86_64-pc-linux-gnu (64-bit)
R is free software and comes with ABSOLUTELY NO WARRANTY.
You are welcome to redistribute it under certain conditions.
Type 'license()' or 'licence()' for distribution details.
R is a collaborative project with many contributors.
Type 'contributors()' for more information and
'citation()' on how to cite R or R packages in publications.
Type 'demo()' for some demos, 'help()' for on-line help, or
'help.start()' for an HTML browser interface to help.
Type 'q()' to quit R.
> library(testthat)
> library(Doscheda)
>
> test_check("Doscheda")
[ FAIL 0 | WARN 0 | SKIP 0 | PASS 1 ]
>
> proc.time()
user system elapsed
4.130 0.345 9.071
Doscheda.Rcheck/Doscheda-Ex.timings
| name | user | system | elapsed | |
| corrPlot-methods | 1.952 | 0.229 | 8.113 | |
| densityPlot-methods | 1.783 | 0.073 | 5.281 | |
| doschedaData | 0.047 | 0.000 | 0.048 | |
| fitModel-methods | 15.260 | 0.836 | 26.076 | |
| getDatasets-methods | 0 | 0 | 0 | |
| getFinal-methods | 0 | 0 | 0 | |
| getInput-methods | 0 | 0 | 0 | |
| getNorm-methods | 0 | 0 | 0 | |
| getParameters-methods | 0 | 0 | 0 | |
| makeReport | 0 | 0 | 0 | |
| meanSdPlot-methods | 2.025 | 0.142 | 5.653 | |
| pcaPlot-methods | 4.108 | 0.250 | 11.237 | |
| processedExample | 0.059 | 0.008 | 0.066 | |
| removePeptides-methods | 0 | 0 | 0 | |
| replicatePlot-methods | 1.725 | 0.089 | 5.871 | |
| runDoscheda | 12.996 | 0.299 | 17.133 | |
| runNormalisation-methods | 1.842 | 0.265 | 5.582 | |
| setData-methods | 0.272 | 0.113 | 0.385 | |
| setParameters-methods | 0.001 | 0.000 | 0.001 | |
| volcanoPlot-methods | 1.717 | 0.128 | 5.257 | |