| Back to Multiple platform build/check report for BioC 3.14 |
|
This page was generated on 2022-04-13 12:05:17 -0400 (Wed, 13 Apr 2022).
| Hostname | OS | Arch (*) | R version | Installed pkgs |
|---|---|---|---|---|
| nebbiolo2 | Linux (Ubuntu 20.04.4 LTS) | x86_64 | 4.1.3 (2022-03-10) -- "One Push-Up" | 4324 |
| tokay2 | Windows Server 2012 R2 Standard | x64 | 4.1.3 (2022-03-10) -- "One Push-Up" | 4077 |
| machv2 | macOS 10.14.6 Mojave | x86_64 | 4.1.3 (2022-03-10) -- "One Push-Up" | 4137 |
| Click on any hostname to see more info about the system (e.g. compilers) (*) as reported by 'uname -p', except on Windows and Mac OS X | ||||
|
To the developers/maintainers of the DirichletMultinomial package: - Please allow up to 24 hours (and sometimes 48 hours) for your latest push to git@git.bioconductor.org:packages/DirichletMultinomial.git to reflect on this report. See How and When does the builder pull? When will my changes propagate? for more information. - Make sure to use the following settings in order to reproduce any error or warning you see on this page. |
| Package 516/2083 | Hostname | OS / Arch | INSTALL | BUILD | CHECK | BUILD BIN | ||||||||
| DirichletMultinomial 1.36.0 (landing page) Martin Morgan
| nebbiolo2 | Linux (Ubuntu 20.04.4 LTS) / x86_64 | OK | OK | OK | |||||||||
| tokay2 | Windows Server 2012 R2 Standard / x64 | OK | OK | OK | OK | |||||||||
| machv2 | macOS 10.14.6 Mojave / x86_64 | OK | OK | OK | OK | |||||||||
| Package: DirichletMultinomial |
| Version: 1.36.0 |
| Command: /home/biocbuild/bbs-3.14-bioc/R/bin/R CMD INSTALL DirichletMultinomial |
| StartedAt: 2022-04-12 03:15:53 -0400 (Tue, 12 Apr 2022) |
| EndedAt: 2022-04-12 03:16:02 -0400 (Tue, 12 Apr 2022) |
| EllapsedTime: 8.8 seconds |
| RetCode: 0 |
| Status: OK |
##############################################################################
##############################################################################
###
### Running command:
###
### /home/biocbuild/bbs-3.14-bioc/R/bin/R CMD INSTALL DirichletMultinomial
###
##############################################################################
##############################################################################
* installing to library ‘/home/biocbuild/bbs-3.14-bioc/R/library’
* installing *source* package ‘DirichletMultinomial’ ...
** using staged installation
** libs
gcc -I"/home/biocbuild/bbs-3.14-bioc/R/include" -DNDEBUG -I/usr/local/include `gsl-config --cflags` -DR_DIRICHLETMULTINOMIAL -fpic -g -O2 -Wall -c R_init_DirichletMultinomial.c -o R_init_DirichletMultinomial.o
gcc -I"/home/biocbuild/bbs-3.14-bioc/R/include" -DNDEBUG -I/usr/local/include `gsl-config --cflags` -DR_DIRICHLETMULTINOMIAL -fpic -g -O2 -Wall -c dirichlet_fit.c -o dirichlet_fit.o
gcc -I"/home/biocbuild/bbs-3.14-bioc/R/include" -DNDEBUG -I/usr/local/include `gsl-config --cflags` -DR_DIRICHLETMULTINOMIAL -fpic -g -O2 -Wall -c dirichlet_fit_main.c -o dirichlet_fit_main.o
dirichlet_fit_main.c: In function ‘hessian’:
dirichlet_fit_main.c:391:34: warning: ‘*’ in boolean context, suggest ‘&&’ instead [-Wint-in-bool-context]
391 | adCJK0[j] += adPi[i] * n ? gsl_sf_psi(adAlpha[j] + n) : dPsiAlpha;
| ~~~~~~~~^~~
dirichlet_fit_main.c:393:33: warning: ‘*’ in boolean context, suggest ‘&&’ instead [-Wint-in-bool-context]
393 | adCJK[j] += adPi[i] * n ? gsl_sf_psi_1(adAlpha[j] + n): dPsi1Alpha;
| ~~~~~~~~^~~
dirichlet_fit_main.c: In function ‘dirichlet_fit_main’:
dirichlet_fit_main.c:542:17: warning: variable ‘status’ set but not used [-Wunused-but-set-variable]
542 | int signum, status;
| ^~~~~~
gcc -shared -L/home/biocbuild/bbs-3.14-bioc/R/lib -L/usr/local/lib -o DirichletMultinomial.so R_init_DirichletMultinomial.o dirichlet_fit.o dirichlet_fit_main.o -L/usr/lib/x86_64-linux-gnu -lgsl -lgslcblas -lm -L/home/biocbuild/bbs-3.14-bioc/R/lib -lR
installing to /home/biocbuild/bbs-3.14-bioc/R/library/00LOCK-DirichletMultinomial/00new/DirichletMultinomial/libs
** R
** data
** inst
** byte-compile and prepare package for lazy loading
** help
*** installing help indices
** building package indices
** installing vignettes
** testing if installed package can be loaded from temporary location
** checking absolute paths in shared objects and dynamic libraries
** testing if installed package can be loaded from final location
** testing if installed package keeps a record of temporary installation path
* DONE (DirichletMultinomial)