| Back to Multiple platform build/check report for BioC 3.14 |
|
This page was generated on 2022-04-13 12:06:26 -0400 (Wed, 13 Apr 2022).
| Hostname | OS | Arch (*) | R version | Installed pkgs |
|---|---|---|---|---|
| nebbiolo2 | Linux (Ubuntu 20.04.4 LTS) | x86_64 | 4.1.3 (2022-03-10) -- "One Push-Up" | 4324 |
| tokay2 | Windows Server 2012 R2 Standard | x64 | 4.1.3 (2022-03-10) -- "One Push-Up" | 4077 |
| machv2 | macOS 10.14.6 Mojave | x86_64 | 4.1.3 (2022-03-10) -- "One Push-Up" | 4137 |
| Click on any hostname to see more info about the system (e.g. compilers) (*) as reported by 'uname -p', except on Windows and Mac OS X | ||||
|
To the developers/maintainers of the DelayedTensor package: - Please allow up to 24 hours (and sometimes 48 hours) for your latest push to git@git.bioconductor.org:packages/DelayedTensor.git to reflect on this report. See How and When does the builder pull? When will my changes propagate? for more information. - Make sure to use the following settings in order to reproduce any error or warning you see on this page. |
| Package 481/2083 | Hostname | OS / Arch | INSTALL | BUILD | CHECK | BUILD BIN | ||||||||
| DelayedTensor 1.0.0 (landing page) Koki Tsuyuzaki
| nebbiolo2 | Linux (Ubuntu 20.04.4 LTS) / x86_64 | OK | OK | WARNINGS | |||||||||
| tokay2 | Windows Server 2012 R2 Standard / x64 | OK | OK | WARNINGS | OK | |||||||||
| machv2 | macOS 10.14.6 Mojave / x86_64 | OK | OK | WARNINGS | OK | |||||||||
| Package: DelayedTensor |
| Version: 1.0.0 |
| Command: rm -rf DelayedTensor.buildbin-libdir && mkdir DelayedTensor.buildbin-libdir && C:\Users\biocbuild\bbs-3.14-bioc\R\bin\R.exe CMD INSTALL --merge-multiarch --build --library=DelayedTensor.buildbin-libdir DelayedTensor_1.0.0.tar.gz |
| StartedAt: 2022-04-13 06:02:08 -0400 (Wed, 13 Apr 2022) |
| EndedAt: 2022-04-13 06:03:10 -0400 (Wed, 13 Apr 2022) |
| EllapsedTime: 62.2 seconds |
| RetCode: 0 |
| Status: OK |
| PackageFile: DelayedTensor_1.0.0.zip |
| PackageFileSize: 3.118 MiB |
##############################################################################
##############################################################################
###
### Running command:
###
### rm -rf DelayedTensor.buildbin-libdir && mkdir DelayedTensor.buildbin-libdir && C:\Users\biocbuild\bbs-3.14-bioc\R\bin\R.exe CMD INSTALL --merge-multiarch --build --library=DelayedTensor.buildbin-libdir DelayedTensor_1.0.0.tar.gz
###
##############################################################################
##############################################################################
install for i386
* installing *source* package 'DelayedTensor' ...
** using staged installation
** R
** data
*** moving datasets to lazyload DB
** inst
** byte-compile and prepare package for lazy loading
Creating a new generic function for 'kronecker' in package 'DelayedTensor'
Creating a new generic function for 'diag' in package 'DelayedTensor'
Creating a new generic function for 'diag<-' in package 'DelayedTensor'
** help
*** installing help indices
converting help for package 'DelayedTensor'
finding HTML links ... done
DelayedDiagonalArray html
DelayedTensor-package html
cbind_list html
cp html
cs_fold html
cs_unfold html
diag html
einsum html
fnorm html
fold html
getSparse html
getVerbose html
hadamard html
hadamard_list html
hosvd html
human_mid_brain html
innerProd html
k_fold html
k_unfold html
khatri_rao html
khatri_rao_list html
kronecker html
kronecker_list html
list_rep html
matvec html
modeMean html
modeSum html
modebind_list html
mouse_mid_brain html
mpca html
outerProd html
pvd html
rbind_list html
rs_fold html
rs_unfold html
setSparse html
setVerbose html
ttl html
ttm html
tucker html
unfold html
unmatvec html
vec html
** building package indices
** installing vignettes
** testing if installed package can be loaded from temporary location
** testing if installed package can be loaded from final location
** testing if installed package keeps a record of temporary installation path
install for x64
* installing *source* package 'DelayedTensor' ...
** testing if installed package can be loaded
* MD5 sums
packaged installation of 'DelayedTensor' as DelayedTensor_1.0.0.zip
* DONE (DelayedTensor)