| Back to Multiple platform build/check report for BioC 3.14 |
|
This page was generated on 2022-04-13 12:05:16 -0400 (Wed, 13 Apr 2022).
| Hostname | OS | Arch (*) | R version | Installed pkgs |
|---|---|---|---|---|
| nebbiolo2 | Linux (Ubuntu 20.04.4 LTS) | x86_64 | 4.1.3 (2022-03-10) -- "One Push-Up" | 4324 |
| tokay2 | Windows Server 2012 R2 Standard | x64 | 4.1.3 (2022-03-10) -- "One Push-Up" | 4077 |
| machv2 | macOS 10.14.6 Mojave | x86_64 | 4.1.3 (2022-03-10) -- "One Push-Up" | 4137 |
| Click on any hostname to see more info about the system (e.g. compilers) (*) as reported by 'uname -p', except on Windows and Mac OS X | ||||
|
To the developers/maintainers of the DelayedRandomArray package: - Please allow up to 24 hours (and sometimes 48 hours) for your latest push to git@git.bioconductor.org:packages/DelayedRandomArray.git to reflect on this report. See How and When does the builder pull? When will my changes propagate? for more information. - Make sure to use the following settings in order to reproduce any error or warning you see on this page. |
| Package 480/2083 | Hostname | OS / Arch | INSTALL | BUILD | CHECK | BUILD BIN | ||||||||
| DelayedRandomArray 1.2.0 (landing page) Aaron Lun
| nebbiolo2 | Linux (Ubuntu 20.04.4 LTS) / x86_64 | OK | OK | OK | |||||||||
| tokay2 | Windows Server 2012 R2 Standard / x64 | OK | OK | OK | OK | |||||||||
| machv2 | macOS 10.14.6 Mojave / x86_64 | OK | OK | OK | OK | |||||||||
| Package: DelayedRandomArray |
| Version: 1.2.0 |
| Command: /home/biocbuild/bbs-3.14-bioc/R/bin/R CMD INSTALL DelayedRandomArray |
| StartedAt: 2022-04-12 03:21:25 -0400 (Tue, 12 Apr 2022) |
| EndedAt: 2022-04-12 03:21:57 -0400 (Tue, 12 Apr 2022) |
| EllapsedTime: 32.2 seconds |
| RetCode: 0 |
| Status: OK |
##############################################################################
##############################################################################
###
### Running command:
###
### /home/biocbuild/bbs-3.14-bioc/R/bin/R CMD INSTALL DelayedRandomArray
###
##############################################################################
##############################################################################
* installing to library ‘/home/biocbuild/bbs-3.14-bioc/R/library’
* installing *source* package ‘DelayedRandomArray’ ...
** using staged installation
** libs
g++ -std=gnu++11 -I"/home/biocbuild/bbs-3.14-bioc/R/include" -DNDEBUG -I'/home/biocbuild/bbs-3.14-bioc/R/library/dqrng/include' -I'/home/biocbuild/bbs-3.14-bioc/R/library/BH/include' -I'/home/biocbuild/bbs-3.14-bioc/R/library/Rcpp/include' -I/usr/local/include -fpic -g -O2 -Wall -c RcppExports.cpp -o RcppExports.o
g++ -std=gnu++11 -I"/home/biocbuild/bbs-3.14-bioc/R/include" -DNDEBUG -I'/home/biocbuild/bbs-3.14-bioc/R/library/dqrng/include' -I'/home/biocbuild/bbs-3.14-bioc/R/library/BH/include' -I'/home/biocbuild/bbs-3.14-bioc/R/library/Rcpp/include' -I/usr/local/include -fpic -g -O2 -Wall -c index_server.cpp -o index_server.o
g++ -std=gnu++11 -I"/home/biocbuild/bbs-3.14-bioc/R/include" -DNDEBUG -I'/home/biocbuild/bbs-3.14-bioc/R/library/dqrng/include' -I'/home/biocbuild/bbs-3.14-bioc/R/library/BH/include' -I'/home/biocbuild/bbs-3.14-bioc/R/library/Rcpp/include' -I/usr/local/include -fpic -g -O2 -Wall -c recycle_vector.cpp -o recycle_vector.o
recycle_vector.cpp: In function ‘Rcpp::NumericVector recycle_vector(Rcpp::NumericVector, Rcpp::IntegerVector, Rcpp::List)’:
recycle_vector.cpp:12:23: warning: comparison of integer expressions of different signedness: ‘int’ and ‘size_t’ {aka ‘long unsigned int’} [-Wsign-compare]
12 | for (int i = 0; i < ndims; ++i){
| ~~^~~~~~~
recycle_vector.cpp:21:28: warning: comparison of integer expressions of different signedness: ‘size_t’ {aka ‘long unsigned int’} and ‘const int’ [-Wsign-compare]
21 | while (current_pos < limit) {
| ~~~~~~~~~~~~^~~~~~~
recycle_vector.cpp:37:23: warning: comparison of integer expressions of different signedness: ‘int’ and ‘size_t’ {aka ‘long unsigned int’} [-Wsign-compare]
37 | for (int i = 0; i < ndims; ++i) {
| ~~^~~~~~~
recycle_vector.cpp:48:27: warning: comparison of integer expressions of different signedness: ‘int’ and ‘size_t’ {aka ‘long unsigned int’} [-Wsign-compare]
48 | for (int i = 0; i < ndims; ++i) {
| ~~^~~~~~~
g++ -std=gnu++11 -I"/home/biocbuild/bbs-3.14-bioc/R/include" -DNDEBUG -I'/home/biocbuild/bbs-3.14-bioc/R/library/dqrng/include' -I'/home/biocbuild/bbs-3.14-bioc/R/library/BH/include' -I'/home/biocbuild/bbs-3.14-bioc/R/library/Rcpp/include' -I/usr/local/include -fpic -g -O2 -Wall -c sample_standard_uniform.cpp -o sample_standard_uniform.o
In file included from /home/biocbuild/bbs-3.14-bioc/R/library/BH/include/boost/mpl/aux_/na_assert.hpp:23,
from /home/biocbuild/bbs-3.14-bioc/R/library/BH/include/boost/mpl/arg.hpp:25,
from /home/biocbuild/bbs-3.14-bioc/R/library/BH/include/boost/mpl/placeholders.hpp:24,
from /home/biocbuild/bbs-3.14-bioc/R/library/BH/include/boost/iterator/iterator_categories.hpp:16,
from /home/biocbuild/bbs-3.14-bioc/R/library/BH/include/boost/iterator/iterator_concepts.hpp:10,
from /home/biocbuild/bbs-3.14-bioc/R/library/BH/include/boost/range/concepts.hpp:20,
from /home/biocbuild/bbs-3.14-bioc/R/library/BH/include/boost/range/size_type.hpp:20,
from /home/biocbuild/bbs-3.14-bioc/R/library/BH/include/boost/range/size.hpp:21,
from /home/biocbuild/bbs-3.14-bioc/R/library/BH/include/boost/random/hyperexponential_distribution.hpp:29,
from /home/biocbuild/bbs-3.14-bioc/R/library/BH/include/boost/random.hpp:70,
from sample_standard_uniform.cpp:4:
/home/biocbuild/bbs-3.14-bioc/R/library/BH/include/boost/mpl/assert.hpp:194:21: warning: unnecessary parentheses in declaration of ‘assert_arg’ [-Wparentheses]
194 | failed ************ (Pred::************
| ^
/home/biocbuild/bbs-3.14-bioc/R/library/BH/include/boost/mpl/assert.hpp:199:21: warning: unnecessary parentheses in declaration of ‘assert_not_arg’ [-Wparentheses]
199 | failed ************ (boost::mpl::not_<Pred>::************
| ^
g++ -std=gnu++11 -shared -L/home/biocbuild/bbs-3.14-bioc/R/lib -L/usr/local/lib -o DelayedRandomArray.so RcppExports.o index_server.o recycle_vector.o sample_standard_uniform.o -L/home/biocbuild/bbs-3.14-bioc/R/lib -lR
installing to /home/biocbuild/bbs-3.14-bioc/R/library/00LOCK-DelayedRandomArray/00new/DelayedRandomArray/libs
** R
** inst
** byte-compile and prepare package for lazy loading
** help
*** installing help indices
** building package indices
** installing vignettes
** testing if installed package can be loaded from temporary location
** checking absolute paths in shared objects and dynamic libraries
** testing if installed package can be loaded from final location
** testing if installed package keeps a record of temporary installation path
* DONE (DelayedRandomArray)