| Back to Multiple platform build/check report for BioC 3.14 |
|
This page was generated on 2022-04-13 12:07:53 -0400 (Wed, 13 Apr 2022).
| Hostname | OS | Arch (*) | R version | Installed pkgs |
|---|---|---|---|---|
| nebbiolo2 | Linux (Ubuntu 20.04.4 LTS) | x86_64 | 4.1.3 (2022-03-10) -- "One Push-Up" | 4324 |
| tokay2 | Windows Server 2012 R2 Standard | x64 | 4.1.3 (2022-03-10) -- "One Push-Up" | 4077 |
| machv2 | macOS 10.14.6 Mojave | x86_64 | 4.1.3 (2022-03-10) -- "One Push-Up" | 4137 |
| Click on any hostname to see more info about the system (e.g. compilers) (*) as reported by 'uname -p', except on Windows and Mac OS X | ||||
|
To the developers/maintainers of the DeepBlueR package: - Please allow up to 24 hours (and sometimes 48 hours) for your latest push to git@git.bioconductor.org:packages/DeepBlueR.git to reflect on this report. See How and When does the builder pull? When will my changes propagate? for more information. - Make sure to use the following settings in order to reproduce any error or warning you see on this page. |
| Package 469/2083 | Hostname | OS / Arch | INSTALL | BUILD | CHECK | BUILD BIN | ||||||||
| DeepBlueR 1.20.0 (landing page) Felipe Albrecht
| nebbiolo2 | Linux (Ubuntu 20.04.4 LTS) / x86_64 | OK | OK | OK | |||||||||
| tokay2 | Windows Server 2012 R2 Standard / x64 | OK | OK | OK | OK | |||||||||
| machv2 | macOS 10.14.6 Mojave / x86_64 | OK | OK | OK | OK | |||||||||
| Package: DeepBlueR |
| Version: 1.20.0 |
| Command: /Library/Frameworks/R.framework/Resources/bin/R CMD check --install=check:DeepBlueR.install-out.txt --library=/Library/Frameworks/R.framework/Resources/library --no-vignettes --timings DeepBlueR_1.20.0.tar.gz |
| StartedAt: 2022-04-12 12:21:16 -0400 (Tue, 12 Apr 2022) |
| EndedAt: 2022-04-12 12:27:38 -0400 (Tue, 12 Apr 2022) |
| EllapsedTime: 382.4 seconds |
| RetCode: 0 |
| Status: OK |
| CheckDir: DeepBlueR.Rcheck |
| Warnings: 0 |
##############################################################################
##############################################################################
###
### Running command:
###
### /Library/Frameworks/R.framework/Resources/bin/R CMD check --install=check:DeepBlueR.install-out.txt --library=/Library/Frameworks/R.framework/Resources/library --no-vignettes --timings DeepBlueR_1.20.0.tar.gz
###
##############################################################################
##############################################################################
* using log directory ‘/Users/biocbuild/bbs-3.14-bioc/meat/DeepBlueR.Rcheck’
* using R version 4.1.3 (2022-03-10)
* using platform: x86_64-apple-darwin17.0 (64-bit)
* using session charset: UTF-8
* using option ‘--no-vignettes’
* checking for file ‘DeepBlueR/DESCRIPTION’ ... OK
* checking extension type ... Package
* this is package ‘DeepBlueR’ version ‘1.20.0’
* checking package namespace information ... OK
* checking package dependencies ... OK
* checking if this is a source package ... OK
* checking if there is a namespace ... OK
* checking for hidden files and directories ... OK
* checking for portable file names ... OK
* checking for sufficient/correct file permissions ... OK
* checking whether package ‘DeepBlueR’ can be installed ... OK
* checking installed package size ... OK
* checking package directory ... OK
* checking ‘build’ directory ... OK
* checking DESCRIPTION meta-information ... OK
* checking top-level files ... OK
* checking for left-over files ... OK
* checking index information ... OK
* checking package subdirectories ... OK
* checking R files for non-ASCII characters ... OK
* checking R files for syntax errors ... OK
* checking whether the package can be loaded ... OK
* checking whether the package can be loaded with stated dependencies ... OK
* checking whether the package can be unloaded cleanly ... OK
* checking whether the namespace can be loaded with stated dependencies ... OK
* checking whether the namespace can be unloaded cleanly ... OK
* checking dependencies in R code ... OK
* checking S3 generic/method consistency ... OK
* checking replacement functions ... OK
* checking foreign function calls ... OK
* checking R code for possible problems ... OK
* checking Rd files ... NOTE
prepare_Rd: deepblue_enrich_regions_fast.Rd:35-38: Dropping empty section \examples
* checking Rd metadata ... OK
* checking Rd cross-references ... OK
* checking for missing documentation entries ... OK
* checking for code/documentation mismatches ... OK
* checking Rd \usage sections ... OK
* checking Rd contents ... OK
* checking for unstated dependencies in examples ... OK
* checking files in ‘vignettes’ ... OK
* checking examples ... OK
Examples with CPU (user + system) or elapsed time > 5s
user system elapsed
deepblue_batch_export_results 1.247 0.058 5.057
deepblue_liftover 0.647 0.098 6.564
* checking for unstated dependencies in vignettes ... OK
* checking package vignettes in ‘inst/doc’ ... OK
* checking running R code from vignettes ... SKIPPED
* checking re-building of vignette outputs ... SKIPPED
* checking PDF version of manual ... OK
* DONE
Status: 1 NOTE
See
‘/Users/biocbuild/bbs-3.14-bioc/meat/DeepBlueR.Rcheck/00check.log’
for details.
DeepBlueR.Rcheck/00install.out
############################################################################## ############################################################################## ### ### Running command: ### ### /Library/Frameworks/R.framework/Resources/bin/R CMD INSTALL DeepBlueR ### ############################################################################## ############################################################################## * installing to library ‘/Library/Frameworks/R.framework/Versions/4.1/Resources/library’ * installing *source* package ‘DeepBlueR’ ... ** using staged installation ** R ** demo ** inst ** byte-compile and prepare package for lazy loading Called method: deepblue_list_column_types Reported status was: okay Called method: deepblue_info Reported status was: okay ** help *** installing help indices ** building package indices ** installing vignettes ** testing if installed package can be loaded from temporary location ** testing if installed package can be loaded from final location ** testing if installed package keeps a record of temporary installation path * DONE (DeepBlueR)
DeepBlueR.Rcheck/DeepBlueR-Ex.timings
| name | user | system | elapsed | |
| deepblue_aggregate | 0.101 | 0.013 | 0.831 | |
| deepblue_batch_export_results | 1.247 | 0.058 | 5.057 | |
| deepblue_binning | 0.060 | 0.002 | 0.571 | |
| deepblue_cache_status | 0.003 | 0.001 | 0.005 | |
| deepblue_cancel_request | 0.020 | 0.001 | 0.269 | |
| deepblue_chromosomes | 0.084 | 0.004 | 0.441 | |
| deepblue_clear_cache | 0.001 | 0.001 | 0.003 | |
| deepblue_collection_experiments_count | 0.140 | 0.002 | 0.688 | |
| deepblue_commands | 0.156 | 0.020 | 0.759 | |
| deepblue_count_gene_ontology_terms | 0.157 | 0.011 | 0.828 | |
| deepblue_count_regions | 0.044 | 0.005 | 0.536 | |
| deepblue_coverage | 0.053 | 0.004 | 0.541 | |
| deepblue_delete_request_from_cache | 0.004 | 0.002 | 0.005 | |
| deepblue_diff | 0.168 | 0.043 | 0.708 | |
| deepblue_distinct_column_values | 0.054 | 0.007 | 0.545 | |
| deepblue_download_request_data | 0.244 | 0.034 | 1.692 | |
| deepblue_echo | 0.014 | 0.001 | 0.247 | |
| deepblue_enrich_regions_go_terms | 0.086 | 0.010 | 0.798 | |
| deepblue_enrich_regions_overlap | 0.920 | 0.101 | 4.412 | |
| deepblue_export_bed | 0.305 | 0.020 | 2.549 | |
| deepblue_export_meta_data | 0.610 | 0.005 | 1.017 | |
| deepblue_export_tab | 0.139 | 0.007 | 1.096 | |
| deepblue_extend | 0.058 | 0.002 | 0.529 | |
| deepblue_extract_ids | 0.001 | 0.000 | 0.002 | |
| deepblue_extract_names | 0.000 | 0.000 | 0.001 | |
| deepblue_faceting_experiments | 0.042 | 0.002 | 0.567 | |
| deepblue_filter_regions | 0.034 | 0.001 | 0.296 | |
| deepblue_find_motif | 0.038 | 0.001 | 0.275 | |
| deepblue_flank | 0.059 | 0.002 | 0.535 | |
| deepblue_get_biosource_children | 0.025 | 0.001 | 0.281 | |
| deepblue_get_biosource_parents | 0.017 | 0.002 | 0.257 | |
| deepblue_get_biosource_related | 0.022 | 0.001 | 0.278 | |
| deepblue_get_biosource_synonyms | 0.022 | 0.001 | 0.773 | |
| deepblue_get_experiments_by_query | 0.020 | 0.001 | 0.261 | |
| deepblue_get_regions | 0.051 | 0.002 | 0.560 | |
| deepblue_get_request_data | 0.083 | 0.004 | 1.068 | |
| deepblue_info | 0.053 | 0.007 | 0.298 | |
| deepblue_input_regions | 0.022 | 0.001 | 0.273 | |
| deepblue_intersection | 0.083 | 0.003 | 0.830 | |
| deepblue_is_biosource | 0.023 | 0.002 | 0.264 | |
| deepblue_liftover | 0.647 | 0.098 | 6.564 | |
| deepblue_list_annotations | 0.031 | 0.002 | 0.282 | |
| deepblue_list_biosources | 0.025 | 0.001 | 0.258 | |
| deepblue_list_cached_requests | 0.002 | 0.002 | 0.004 | |
| deepblue_list_column_types | 0.105 | 0.003 | 0.494 | |
| deepblue_list_epigenetic_marks | 0.607 | 0.004 | 1.228 | |
| deepblue_list_experiments | 0.249 | 0.002 | 0.738 | |
| deepblue_list_expressions | 0.204 | 0.003 | 0.562 | |
| deepblue_list_gene_models | 0.022 | 0.002 | 0.281 | |
| deepblue_list_genes | 0.393 | 0.010 | 1.244 | |
| deepblue_list_genomes | 0.022 | 0.002 | 0.280 | |
| deepblue_list_in_use | 0.609 | 0.008 | 1.773 | |
| deepblue_list_projects | 0.021 | 0.002 | 0.266 | |
| deepblue_list_recent_experiments | 0.041 | 0.002 | 0.289 | |
| deepblue_list_requests | 0.027 | 0.002 | 0.273 | |
| deepblue_list_samples | 0.180 | 0.021 | 0.707 | |
| deepblue_list_similar_biosources | 0.025 | 0.001 | 0.442 | |
| deepblue_list_similar_epigenetic_marks | 0.034 | 0.001 | 0.282 | |
| deepblue_list_similar_experiments | 0.024 | 0.001 | 0.864 | |
| deepblue_list_similar_genomes | 0.022 | 0.002 | 0.265 | |
| deepblue_list_similar_projects | 0.023 | 0.001 | 0.261 | |
| deepblue_list_similar_techniques | 0.025 | 0.001 | 0.262 | |
| deepblue_list_techniques | 0.040 | 0.002 | 0.280 | |
| deepblue_merge_queries | 0.081 | 0.003 | 0.824 | |
| deepblue_meta_data_to_table | 0.685 | 0.009 | 1.351 | |
| deepblue_name_to_id | 0.068 | 0.003 | 0.788 | |
| deepblue_overlap | 0.087 | 0.003 | 0.820 | |
| deepblue_preview_experiment | 0.022 | 0.001 | 0.274 | |
| deepblue_query_cache | 0.109 | 0.004 | 1.086 | |
| deepblue_query_experiment_type | 0.055 | 0.002 | 0.529 | |
| deepblue_reset_options | 0.001 | 0.001 | 0.001 | |
| deepblue_score_matrix | 0.058 | 0.003 | 0.538 | |
| deepblue_search | 0.050 | 0.003 | 0.625 | |
| deepblue_select_annotations | 0.028 | 0.001 | 0.269 | |
| deepblue_select_column | 0.540 | 0.008 | 1.160 | |
| deepblue_select_experiments | 0.029 | 0.001 | 0.285 | |
| deepblue_select_expressions | 0.029 | 0.001 | 0.414 | |
| deepblue_select_genes | 0.036 | 0.001 | 0.399 | |
| deepblue_select_regions | 0.045 | 0.001 | 0.289 | |
| deepblue_tiling_regions | 0.025 | 0.001 | 0.266 | |