| Back to Multiple platform build/check report for BioC 3.14 |
|
This page was generated on 2022-04-13 12:07:55 -0400 (Wed, 13 Apr 2022).
| Hostname | OS | Arch (*) | R version | Installed pkgs |
|---|---|---|---|---|
| nebbiolo2 | Linux (Ubuntu 20.04.4 LTS) | x86_64 | 4.1.3 (2022-03-10) -- "One Push-Up" | 4324 |
| tokay2 | Windows Server 2012 R2 Standard | x64 | 4.1.3 (2022-03-10) -- "One Push-Up" | 4077 |
| machv2 | macOS 10.14.6 Mojave | x86_64 | 4.1.3 (2022-03-10) -- "One Push-Up" | 4137 |
| Click on any hostname to see more info about the system (e.g. compilers) (*) as reported by 'uname -p', except on Windows and Mac OS X | ||||
|
To the developers/maintainers of the DNABarcodes package: - Please allow up to 24 hours (and sometimes 48 hours) for your latest push to git@git.bioconductor.org:packages/DNABarcodes.git to reflect on this report. See How and When does the builder pull? When will my changes propagate? for more information. - Make sure to use the following settings in order to reproduce any error or warning you see on this page. |
| Package 531/2083 | Hostname | OS / Arch | INSTALL | BUILD | CHECK | BUILD BIN | ||||||||
| DNABarcodes 1.24.0 (landing page) Tilo Buschmann
| nebbiolo2 | Linux (Ubuntu 20.04.4 LTS) / x86_64 | OK | OK | OK | |||||||||
| tokay2 | Windows Server 2012 R2 Standard / x64 | OK | OK | OK | OK | |||||||||
| machv2 | macOS 10.14.6 Mojave / x86_64 | OK | OK | OK | OK | |||||||||
| Package: DNABarcodes |
| Version: 1.24.0 |
| Command: /Library/Frameworks/R.framework/Resources/bin/R CMD check --install=check:DNABarcodes.install-out.txt --library=/Library/Frameworks/R.framework/Resources/library --no-vignettes --timings DNABarcodes_1.24.0.tar.gz |
| StartedAt: 2022-04-12 12:43:43 -0400 (Tue, 12 Apr 2022) |
| EndedAt: 2022-04-12 12:45:11 -0400 (Tue, 12 Apr 2022) |
| EllapsedTime: 88.3 seconds |
| RetCode: 0 |
| Status: OK |
| CheckDir: DNABarcodes.Rcheck |
| Warnings: 0 |
##############################################################################
##############################################################################
###
### Running command:
###
### /Library/Frameworks/R.framework/Resources/bin/R CMD check --install=check:DNABarcodes.install-out.txt --library=/Library/Frameworks/R.framework/Resources/library --no-vignettes --timings DNABarcodes_1.24.0.tar.gz
###
##############################################################################
##############################################################################
* using log directory ‘/Users/biocbuild/bbs-3.14-bioc/meat/DNABarcodes.Rcheck’
* using R version 4.1.3 (2022-03-10)
* using platform: x86_64-apple-darwin17.0 (64-bit)
* using session charset: UTF-8
* using option ‘--no-vignettes’
* checking for file ‘DNABarcodes/DESCRIPTION’ ... OK
* checking extension type ... Package
* this is package ‘DNABarcodes’ version ‘1.24.0’
* checking package namespace information ... OK
* checking package dependencies ... OK
* checking if this is a source package ... OK
* checking if there is a namespace ... OK
* checking for hidden files and directories ... OK
* checking for portable file names ... OK
* checking for sufficient/correct file permissions ... OK
* checking whether package ‘DNABarcodes’ can be installed ... OK
* checking installed package size ... OK
* checking package directory ... OK
* checking ‘build’ directory ... OK
* checking DESCRIPTION meta-information ... OK
* checking top-level files ... OK
* checking for left-over files ... OK
* checking index information ... OK
* checking package subdirectories ... OK
* checking R files for non-ASCII characters ... OK
* checking R files for syntax errors ... OK
* checking whether the package can be loaded ... OK
* checking whether the package can be loaded with stated dependencies ... OK
* checking whether the package can be unloaded cleanly ... OK
* checking whether the namespace can be loaded with stated dependencies ... OK
* checking whether the namespace can be unloaded cleanly ... OK
* checking dependencies in R code ... OK
* checking S3 generic/method consistency ... OK
* checking replacement functions ... OK
* checking foreign function calls ... OK
* checking R code for possible problems ... NOTE
analyse.barcodes : <anonymous>: no visible global function definition
for ‘median’
Undefined global functions or variables:
median
Consider adding
importFrom("stats", "median")
to your NAMESPACE file.
* checking Rd files ... OK
* checking Rd metadata ... OK
* checking Rd cross-references ... OK
* checking for missing documentation entries ... OK
* checking for code/documentation mismatches ... OK
* checking Rd \usage sections ... OK
* checking Rd contents ... OK
* checking for unstated dependencies in examples ... OK
* checking contents of ‘data’ directory ... OK
* checking data for non-ASCII characters ... OK
* checking data for ASCII and uncompressed saves ... OK
* checking line endings in C/C++/Fortran sources/headers ... OK
* checking line endings in Makefiles ... OK
* checking compilation flags in Makevars ... OK
* checking for GNU extensions in Makefiles ... OK
* checking for portable use of $(BLAS_LIBS) and $(LAPACK_LIBS) ... OK
* checking use of PKG_*FLAGS in Makefiles ... OK
* checking compiled code ... NOTE
Note: information on .o files is not available
* checking files in ‘vignettes’ ... OK
* checking examples ... OK
Examples with CPU (user + system) or elapsed time > 5s
user system elapsed
create.dnabarcodes 8.607 0.059 8.681
* checking for unstated dependencies in vignettes ... OK
* checking package vignettes in ‘inst/doc’ ... OK
* checking running R code from vignettes ... SKIPPED
* checking re-building of vignette outputs ... SKIPPED
* checking PDF version of manual ... OK
* DONE
Status: 2 NOTEs
See
‘/Users/biocbuild/bbs-3.14-bioc/meat/DNABarcodes.Rcheck/00check.log’
for details.
DNABarcodes.Rcheck/00install.out
##############################################################################
##############################################################################
###
### Running command:
###
### /Library/Frameworks/R.framework/Resources/bin/R CMD INSTALL DNABarcodes
###
##############################################################################
##############################################################################
* installing to library ‘/Library/Frameworks/R.framework/Versions/4.1/Resources/library’
* installing *source* package ‘DNABarcodes’ ...
** using staged installation
** libs
clang -mmacosx-version-min=10.13 -I"/Library/Frameworks/R.framework/Resources/include" -DNDEBUG -I'/Library/Frameworks/R.framework/Versions/4.1/Resources/library/Rcpp/include' -I'/Library/Frameworks/R.framework/Versions/4.1/Resources/library/BH/include' -I/usr/local/include -fPIC -Wall -g -O2 -c DNABarcodes_init.c -o DNABarcodes_init.o
clang++ -mmacosx-version-min=10.13 -std=gnu++14 -I"/Library/Frameworks/R.framework/Resources/include" -DNDEBUG -I'/Library/Frameworks/R.framework/Versions/4.1/Resources/library/Rcpp/include' -I'/Library/Frameworks/R.framework/Versions/4.1/Resources/library/BH/include' -I/usr/local/include -fPIC -Wall -g -O2 -c RcppExports.cpp -o RcppExports.o
clang++ -mmacosx-version-min=10.13 -std=gnu++14 -I"/Library/Frameworks/R.framework/Resources/include" -DNDEBUG -I'/Library/Frameworks/R.framework/Versions/4.1/Resources/library/Rcpp/include' -I'/Library/Frameworks/R.framework/Versions/4.1/Resources/library/BH/include' -I/usr/local/include -fPIC -Wall -g -O2 -c analyse_barcodes.cpp -o analyse_barcodes.o
In file included from analyse_barcodes.cpp:4:
In file included from /Library/Frameworks/R.framework/Versions/4.1/Resources/library/Rcpp/include/Rcpp.h:27:
In file included from /Library/Frameworks/R.framework/Versions/4.1/Resources/library/Rcpp/include/RcppCommon.h:30:
In file included from /Library/Frameworks/R.framework/Versions/4.1/Resources/library/Rcpp/include/Rcpp/r/headers.h:62:
In file included from /Library/Frameworks/R.framework/Versions/4.1/Resources/library/Rcpp/include/Rcpp/platform/compiler.h:153:
In file included from /Library/Developer/CommandLineTools/usr/include/c++/v1/unordered_map:384:
In file included from /Library/Developer/CommandLineTools/usr/include/c++/v1/__hash_table:16:
/Library/Developer/CommandLineTools/usr/include/c++/v1/memory:1880:58: warning: destructor called on non-final 'Sequence' that has virtual functions but non-virtual destructor [-Wdelete-non-virtual-dtor]
_LIBCPP_INLINE_VISIBILITY void destroy(pointer __p) {__p->~_Tp();}
^
/Library/Developer/CommandLineTools/usr/include/c++/v1/memory:1742:18: note: in instantiation of member function 'std::__1::allocator<Sequence>::destroy' requested here
{__a.destroy(__p);}
^
/Library/Developer/CommandLineTools/usr/include/c++/v1/memory:1595:14: note: in instantiation of function template specialization 'std::__1::allocator_traits<std::__1::allocator<Sequence> >::__destroy<Sequence>' requested here
{__destroy(__has_destroy<allocator_type, _Tp*>(), __a, __p);}
^
/Library/Developer/CommandLineTools/usr/include/c++/v1/vector:421:25: note: in instantiation of function template specialization 'std::__1::allocator_traits<std::__1::allocator<Sequence> >::destroy<Sequence>' requested here
__alloc_traits::destroy(__alloc(), _VSTD::__to_raw_pointer(--__soon_to_be_end));
^
/Library/Developer/CommandLineTools/usr/include/c++/v1/vector:364:29: note: in instantiation of member function 'std::__1::__vector_base<Sequence, std::__1::allocator<Sequence> >::__destruct_at_end' requested here
void clear() _NOEXCEPT {__destruct_at_end(__begin_);}
^
/Library/Developer/CommandLineTools/usr/include/c++/v1/vector:458:9: note: in instantiation of member function 'std::__1::__vector_base<Sequence, std::__1::allocator<Sequence> >::clear' requested here
clear();
^
/Library/Developer/CommandLineTools/usr/include/c++/v1/iterator:1427:74: note: in instantiation of member function 'std::__1::__vector_base<Sequence, std::__1::allocator<Sequence> >::~__vector_base' requested here
template <class _Tp, class _Alloc> friend class _LIBCPP_TEMPLATE_VIS vector;
^
/Library/Developer/CommandLineTools/usr/include/c++/v1/memory:1880:64: note: qualify call to silence this warning
_LIBCPP_INLINE_VISIBILITY void destroy(pointer __p) {__p->~_Tp();}
^
1 warning generated.
clang++ -mmacosx-version-min=10.13 -std=gnu++14 -I"/Library/Frameworks/R.framework/Resources/include" -DNDEBUG -I'/Library/Frameworks/R.framework/Versions/4.1/Resources/library/Rcpp/include' -I'/Library/Frameworks/R.framework/Versions/4.1/Resources/library/BH/include' -I/usr/local/include -fPIC -Wall -g -O2 -c barcode_set_distances.cpp -o barcode_set_distances.o
In file included from barcode_set_distances.cpp:4:
In file included from /Library/Frameworks/R.framework/Versions/4.1/Resources/library/Rcpp/include/Rcpp.h:27:
In file included from /Library/Frameworks/R.framework/Versions/4.1/Resources/library/Rcpp/include/RcppCommon.h:30:
In file included from /Library/Frameworks/R.framework/Versions/4.1/Resources/library/Rcpp/include/Rcpp/r/headers.h:62:
In file included from /Library/Frameworks/R.framework/Versions/4.1/Resources/library/Rcpp/include/Rcpp/platform/compiler.h:153:
In file included from /Library/Developer/CommandLineTools/usr/include/c++/v1/unordered_map:384:
In file included from /Library/Developer/CommandLineTools/usr/include/c++/v1/__hash_table:16:
/Library/Developer/CommandLineTools/usr/include/c++/v1/memory:1880:58: warning: destructor called on non-final 'Sequence' that has virtual functions but non-virtual destructor [-Wdelete-non-virtual-dtor]
_LIBCPP_INLINE_VISIBILITY void destroy(pointer __p) {__p->~_Tp();}
^
/Library/Developer/CommandLineTools/usr/include/c++/v1/memory:1742:18: note: in instantiation of member function 'std::__1::allocator<Sequence>::destroy' requested here
{__a.destroy(__p);}
^
/Library/Developer/CommandLineTools/usr/include/c++/v1/memory:1595:14: note: in instantiation of function template specialization 'std::__1::allocator_traits<std::__1::allocator<Sequence> >::__destroy<Sequence>' requested here
{__destroy(__has_destroy<allocator_type, _Tp*>(), __a, __p);}
^
/Library/Developer/CommandLineTools/usr/include/c++/v1/vector:421:25: note: in instantiation of function template specialization 'std::__1::allocator_traits<std::__1::allocator<Sequence> >::destroy<Sequence>' requested here
__alloc_traits::destroy(__alloc(), _VSTD::__to_raw_pointer(--__soon_to_be_end));
^
/Library/Developer/CommandLineTools/usr/include/c++/v1/vector:364:29: note: in instantiation of member function 'std::__1::__vector_base<Sequence, std::__1::allocator<Sequence> >::__destruct_at_end' requested here
void clear() _NOEXCEPT {__destruct_at_end(__begin_);}
^
/Library/Developer/CommandLineTools/usr/include/c++/v1/vector:458:9: note: in instantiation of member function 'std::__1::__vector_base<Sequence, std::__1::allocator<Sequence> >::clear' requested here
clear();
^
/Library/Developer/CommandLineTools/usr/include/c++/v1/iterator:1427:74: note: in instantiation of member function 'std::__1::__vector_base<Sequence, std::__1::allocator<Sequence> >::~__vector_base' requested here
template <class _Tp, class _Alloc> friend class _LIBCPP_TEMPLATE_VIS vector;
^
/Library/Developer/CommandLineTools/usr/include/c++/v1/memory:1880:64: note: qualify call to silence this warning
_LIBCPP_INLINE_VISIBILITY void destroy(pointer __p) {__p->~_Tp();}
^
1 warning generated.
clang++ -mmacosx-version-min=10.13 -std=gnu++14 -I"/Library/Frameworks/R.framework/Resources/include" -DNDEBUG -I'/Library/Frameworks/R.framework/Versions/4.1/Resources/library/Rcpp/include' -I'/Library/Frameworks/R.framework/Versions/4.1/Resources/library/BH/include' -I/usr/local/include -fPIC -Wall -g -O2 -c cachedistance.cpp -o cachedistance.o
clang++ -mmacosx-version-min=10.13 -std=gnu++14 -I"/Library/Frameworks/R.framework/Resources/include" -DNDEBUG -I'/Library/Frameworks/R.framework/Versions/4.1/Resources/library/Rcpp/include' -I'/Library/Frameworks/R.framework/Versions/4.1/Resources/library/BH/include' -I/usr/local/include -fPIC -Wall -g -O2 -c chromosome.cpp -o chromosome.o
In file included from chromosome.cpp:3:
In file included from ./chromosome.h:6:
In file included from ./distance.h:8:
In file included from /Library/Frameworks/R.framework/Versions/4.1/Resources/library/Rcpp/include/Rcpp.h:27:
In file included from /Library/Frameworks/R.framework/Versions/4.1/Resources/library/Rcpp/include/RcppCommon.h:30:
In file included from /Library/Frameworks/R.framework/Versions/4.1/Resources/library/Rcpp/include/Rcpp/r/headers.h:62:
In file included from /Library/Frameworks/R.framework/Versions/4.1/Resources/library/Rcpp/include/Rcpp/platform/compiler.h:153:
In file included from /Library/Developer/CommandLineTools/usr/include/c++/v1/unordered_map:384:
In file included from /Library/Developer/CommandLineTools/usr/include/c++/v1/__hash_table:16:
/Library/Developer/CommandLineTools/usr/include/c++/v1/memory:1880:58: warning: destructor called on non-final 'Sequence' that has virtual functions but non-virtual destructor [-Wdelete-non-virtual-dtor]
_LIBCPP_INLINE_VISIBILITY void destroy(pointer __p) {__p->~_Tp();}
^
/Library/Developer/CommandLineTools/usr/include/c++/v1/memory:1742:18: note: in instantiation of member function 'std::__1::allocator<Sequence>::destroy' requested here
{__a.destroy(__p);}
^
/Library/Developer/CommandLineTools/usr/include/c++/v1/memory:1595:14: note: in instantiation of function template specialization 'std::__1::allocator_traits<std::__1::allocator<Sequence> >::__destroy<Sequence>' requested here
{__destroy(__has_destroy<allocator_type, _Tp*>(), __a, __p);}
^
/Library/Developer/CommandLineTools/usr/include/c++/v1/vector:421:25: note: in instantiation of function template specialization 'std::__1::allocator_traits<std::__1::allocator<Sequence> >::destroy<Sequence>' requested here
__alloc_traits::destroy(__alloc(), _VSTD::__to_raw_pointer(--__soon_to_be_end));
^
/Library/Developer/CommandLineTools/usr/include/c++/v1/vector:364:29: note: in instantiation of member function 'std::__1::__vector_base<Sequence, std::__1::allocator<Sequence> >::__destruct_at_end' requested here
void clear() _NOEXCEPT {__destruct_at_end(__begin_);}
^
/Library/Developer/CommandLineTools/usr/include/c++/v1/vector:458:9: note: in instantiation of member function 'std::__1::__vector_base<Sequence, std::__1::allocator<Sequence> >::clear' requested here
clear();
^
/Library/Developer/CommandLineTools/usr/include/c++/v1/iterator:1427:74: note: in instantiation of member function 'std::__1::__vector_base<Sequence, std::__1::allocator<Sequence> >::~__vector_base' requested here
template <class _Tp, class _Alloc> friend class _LIBCPP_TEMPLATE_VIS vector;
^
/Library/Developer/CommandLineTools/usr/include/c++/v1/memory:1880:64: note: qualify call to silence this warning
_LIBCPP_INLINE_VISIBILITY void destroy(pointer __p) {__p->~_Tp();}
^
1 warning generated.
clang++ -mmacosx-version-min=10.13 -std=gnu++14 -I"/Library/Frameworks/R.framework/Resources/include" -DNDEBUG -I'/Library/Frameworks/R.framework/Versions/4.1/Resources/library/Rcpp/include' -I'/Library/Frameworks/R.framework/Versions/4.1/Resources/library/BH/include' -I/usr/local/include -fPIC -Wall -g -O2 -c code_falsification.cpp -o code_falsification.o
In file included from code_falsification.cpp:5:
In file included from /Library/Frameworks/R.framework/Versions/4.1/Resources/library/Rcpp/include/Rcpp.h:27:
In file included from /Library/Frameworks/R.framework/Versions/4.1/Resources/library/Rcpp/include/RcppCommon.h:30:
In file included from /Library/Frameworks/R.framework/Versions/4.1/Resources/library/Rcpp/include/Rcpp/r/headers.h:62:
In file included from /Library/Frameworks/R.framework/Versions/4.1/Resources/library/Rcpp/include/Rcpp/platform/compiler.h:153:
In file included from /Library/Developer/CommandLineTools/usr/include/c++/v1/unordered_map:384:
In file included from /Library/Developer/CommandLineTools/usr/include/c++/v1/__hash_table:16:
/Library/Developer/CommandLineTools/usr/include/c++/v1/memory:1747:17: warning: destructor called on non-final 'Sequence' that has virtual functions but non-virtual destructor [-Wdelete-non-virtual-dtor]
__p->~_Tp();
^
/Library/Developer/CommandLineTools/usr/include/c++/v1/memory:1595:14: note: in instantiation of function template specialization 'std::__1::allocator_traits<std::__1::allocator<std::__1::__tree_node<Sequence, void *> > >::__destroy<Sequence>' requested here
{__destroy(__has_destroy<allocator_type, _Tp*>(), __a, __p);}
^
/Library/Developer/CommandLineTools/usr/include/c++/v1/__tree:1843:24: note: in instantiation of function template specialization 'std::__1::allocator_traits<std::__1::allocator<std::__1::__tree_node<Sequence, void *> > >::destroy<Sequence>' requested here
__node_traits::destroy(__na, _NodeTypes::__get_ptr(__nd->__value_));
^
/Library/Developer/CommandLineTools/usr/include/c++/v1/__tree:1831:3: note: in instantiation of member function 'std::__1::__tree<Sequence, std::__1::less<Sequence>, std::__1::allocator<Sequence> >::destroy' requested here
destroy(__root());
^
/Library/Developer/CommandLineTools/usr/include/c++/v1/__tree:875:70: note: in instantiation of member function 'std::__1::__tree<Sequence, std::__1::less<Sequence>, std::__1::allocator<Sequence> >::~__tree' requested here
template <class, class, class> friend class _LIBCPP_TEMPLATE_VIS set;
^
/Library/Developer/CommandLineTools/usr/include/c++/v1/memory:1747:23: note: qualify call to silence this warning
__p->~_Tp();
^
1 warning generated.
clang++ -mmacosx-version-min=10.13 -std=gnu++14 -I"/Library/Frameworks/R.framework/Resources/include" -DNDEBUG -I'/Library/Frameworks/R.framework/Versions/4.1/Resources/library/Rcpp/include' -I'/Library/Frameworks/R.framework/Versions/4.1/Resources/library/BH/include' -I/usr/local/include -fPIC -Wall -g -O2 -c conway.cpp -o conway.o
In file included from conway.cpp:3:
In file included from ./conway.h:6:
In file included from /Library/Developer/CommandLineTools/usr/include/c++/v1/vector:270:
In file included from /Library/Developer/CommandLineTools/usr/include/c++/v1/__bit_reference:15:
In file included from /Library/Developer/CommandLineTools/usr/include/c++/v1/algorithm:644:
/Library/Developer/CommandLineTools/usr/include/c++/v1/memory:1880:58: warning: destructor called on non-final 'Sequence' that has virtual functions but non-virtual destructor [-Wdelete-non-virtual-dtor]
_LIBCPP_INLINE_VISIBILITY void destroy(pointer __p) {__p->~_Tp();}
^
/Library/Developer/CommandLineTools/usr/include/c++/v1/memory:1742:18: note: in instantiation of member function 'std::__1::allocator<Sequence>::destroy' requested here
{__a.destroy(__p);}
^
/Library/Developer/CommandLineTools/usr/include/c++/v1/memory:1595:14: note: in instantiation of function template specialization 'std::__1::allocator_traits<std::__1::allocator<Sequence> >::__destroy<Sequence>' requested here
{__destroy(__has_destroy<allocator_type, _Tp*>(), __a, __p);}
^
/Library/Developer/CommandLineTools/usr/include/c++/v1/vector:421:25: note: in instantiation of function template specialization 'std::__1::allocator_traits<std::__1::allocator<Sequence> >::destroy<Sequence>' requested here
__alloc_traits::destroy(__alloc(), _VSTD::__to_raw_pointer(--__soon_to_be_end));
^
/Library/Developer/CommandLineTools/usr/include/c++/v1/vector:364:29: note: in instantiation of member function 'std::__1::__vector_base<Sequence, std::__1::allocator<Sequence> >::__destruct_at_end' requested here
void clear() _NOEXCEPT {__destruct_at_end(__begin_);}
^
/Library/Developer/CommandLineTools/usr/include/c++/v1/vector:458:9: note: in instantiation of member function 'std::__1::__vector_base<Sequence, std::__1::allocator<Sequence> >::clear' requested here
clear();
^
/Library/Developer/CommandLineTools/usr/include/c++/v1/iterator:1427:74: note: in instantiation of member function 'std::__1::__vector_base<Sequence, std::__1::allocator<Sequence> >::~__vector_base' requested here
template <class _Tp, class _Alloc> friend class _LIBCPP_TEMPLATE_VIS vector;
^
/Library/Developer/CommandLineTools/usr/include/c++/v1/memory:1880:64: note: qualify call to silence this warning
_LIBCPP_INLINE_VISIBILITY void destroy(pointer __p) {__p->~_Tp();}
^
1 warning generated.
clang++ -mmacosx-version-min=10.13 -std=gnu++14 -I"/Library/Frameworks/R.framework/Resources/include" -DNDEBUG -I'/Library/Frameworks/R.framework/Versions/4.1/Resources/library/Rcpp/include' -I'/Library/Frameworks/R.framework/Versions/4.1/Resources/library/BH/include' -I/usr/local/include -fPIC -Wall -g -O2 -c create_distance_func.cpp -o create_distance_func.o
clang++ -mmacosx-version-min=10.13 -std=gnu++14 -I"/Library/Frameworks/R.framework/Resources/include" -DNDEBUG -I'/Library/Frameworks/R.framework/Versions/4.1/Resources/library/Rcpp/include' -I'/Library/Frameworks/R.framework/Versions/4.1/Resources/library/BH/include' -I/usr/local/include -fPIC -Wall -g -O2 -c create_dnabarcodes.cpp -o create_dnabarcodes.o
In file included from create_dnabarcodes.cpp:3:
In file included from /Library/Frameworks/R.framework/Versions/4.1/Resources/library/Rcpp/include/Rcpp.h:27:
In file included from /Library/Frameworks/R.framework/Versions/4.1/Resources/library/Rcpp/include/RcppCommon.h:30:
In file included from /Library/Frameworks/R.framework/Versions/4.1/Resources/library/Rcpp/include/Rcpp/r/headers.h:62:
In file included from /Library/Frameworks/R.framework/Versions/4.1/Resources/library/Rcpp/include/Rcpp/platform/compiler.h:153:
In file included from /Library/Developer/CommandLineTools/usr/include/c++/v1/unordered_map:384:
In file included from /Library/Developer/CommandLineTools/usr/include/c++/v1/__hash_table:16:
/Library/Developer/CommandLineTools/usr/include/c++/v1/memory:1880:58: warning: destructor called on non-final 'Sequence' that has virtual functions but non-virtual destructor [-Wdelete-non-virtual-dtor]
_LIBCPP_INLINE_VISIBILITY void destroy(pointer __p) {__p->~_Tp();}
^
/Library/Developer/CommandLineTools/usr/include/c++/v1/memory:1742:18: note: in instantiation of member function 'std::__1::allocator<Sequence>::destroy' requested here
{__a.destroy(__p);}
^
/Library/Developer/CommandLineTools/usr/include/c++/v1/memory:1595:14: note: in instantiation of function template specialization 'std::__1::allocator_traits<std::__1::allocator<Sequence> >::__destroy<Sequence>' requested here
{__destroy(__has_destroy<allocator_type, _Tp*>(), __a, __p);}
^
/Library/Developer/CommandLineTools/usr/include/c++/v1/vector:421:25: note: in instantiation of function template specialization 'std::__1::allocator_traits<std::__1::allocator<Sequence> >::destroy<Sequence>' requested here
__alloc_traits::destroy(__alloc(), _VSTD::__to_raw_pointer(--__soon_to_be_end));
^
/Library/Developer/CommandLineTools/usr/include/c++/v1/vector:364:29: note: in instantiation of member function 'std::__1::__vector_base<Sequence, std::__1::allocator<Sequence> >::__destruct_at_end' requested here
void clear() _NOEXCEPT {__destruct_at_end(__begin_);}
^
/Library/Developer/CommandLineTools/usr/include/c++/v1/vector:458:9: note: in instantiation of member function 'std::__1::__vector_base<Sequence, std::__1::allocator<Sequence> >::clear' requested here
clear();
^
/Library/Developer/CommandLineTools/usr/include/c++/v1/iterator:1427:74: note: in instantiation of member function 'std::__1::__vector_base<Sequence, std::__1::allocator<Sequence> >::~__vector_base' requested here
template <class _Tp, class _Alloc> friend class _LIBCPP_TEMPLATE_VIS vector;
^
/Library/Developer/CommandLineTools/usr/include/c++/v1/memory:1880:64: note: qualify call to silence this warning
_LIBCPP_INLINE_VISIBILITY void destroy(pointer __p) {__p->~_Tp();}
^
1 warning generated.
clang++ -mmacosx-version-min=10.13 -std=gnu++14 -I"/Library/Frameworks/R.framework/Resources/include" -DNDEBUG -I'/Library/Frameworks/R.framework/Versions/4.1/Resources/library/Rcpp/include' -I'/Library/Frameworks/R.framework/Versions/4.1/Resources/library/BH/include' -I/usr/local/include -fPIC -Wall -g -O2 -c create_pool.cpp -o create_pool.o
In file included from create_pool.cpp:4:
In file included from /Library/Frameworks/R.framework/Versions/4.1/Resources/library/Rcpp/include/Rcpp.h:27:
In file included from /Library/Frameworks/R.framework/Versions/4.1/Resources/library/Rcpp/include/RcppCommon.h:30:
In file included from /Library/Frameworks/R.framework/Versions/4.1/Resources/library/Rcpp/include/Rcpp/r/headers.h:62:
In file included from /Library/Frameworks/R.framework/Versions/4.1/Resources/library/Rcpp/include/Rcpp/platform/compiler.h:153:
In file included from /Library/Developer/CommandLineTools/usr/include/c++/v1/unordered_map:384:
In file included from /Library/Developer/CommandLineTools/usr/include/c++/v1/__hash_table:16:
/Library/Developer/CommandLineTools/usr/include/c++/v1/memory:1880:58: warning: destructor called on non-final 'Sequence' that has virtual functions but non-virtual destructor [-Wdelete-non-virtual-dtor]
_LIBCPP_INLINE_VISIBILITY void destroy(pointer __p) {__p->~_Tp();}
^
/Library/Developer/CommandLineTools/usr/include/c++/v1/memory:1742:18: note: in instantiation of member function 'std::__1::allocator<Sequence>::destroy' requested here
{__a.destroy(__p);}
^
/Library/Developer/CommandLineTools/usr/include/c++/v1/memory:1595:14: note: in instantiation of function template specialization 'std::__1::allocator_traits<std::__1::allocator<Sequence> >::__destroy<Sequence>' requested here
{__destroy(__has_destroy<allocator_type, _Tp*>(), __a, __p);}
^
/Library/Developer/CommandLineTools/usr/include/c++/v1/vector:421:25: note: in instantiation of function template specialization 'std::__1::allocator_traits<std::__1::allocator<Sequence> >::destroy<Sequence>' requested here
__alloc_traits::destroy(__alloc(), _VSTD::__to_raw_pointer(--__soon_to_be_end));
^
/Library/Developer/CommandLineTools/usr/include/c++/v1/vector:364:29: note: in instantiation of member function 'std::__1::__vector_base<Sequence, std::__1::allocator<Sequence> >::__destruct_at_end' requested here
void clear() _NOEXCEPT {__destruct_at_end(__begin_);}
^
/Library/Developer/CommandLineTools/usr/include/c++/v1/vector:458:9: note: in instantiation of member function 'std::__1::__vector_base<Sequence, std::__1::allocator<Sequence> >::clear' requested here
clear();
^
/Library/Developer/CommandLineTools/usr/include/c++/v1/iterator:1427:74: note: in instantiation of member function 'std::__1::__vector_base<Sequence, std::__1::allocator<Sequence> >::~__vector_base' requested here
template <class _Tp, class _Alloc> friend class _LIBCPP_TEMPLATE_VIS vector;
^
/Library/Developer/CommandLineTools/usr/include/c++/v1/memory:1880:64: note: qualify call to silence this warning
_LIBCPP_INLINE_VISIBILITY void destroy(pointer __p) {__p->~_Tp();}
^
1 warning generated.
clang++ -mmacosx-version-min=10.13 -std=gnu++14 -I"/Library/Frameworks/R.framework/Resources/include" -DNDEBUG -I'/Library/Frameworks/R.framework/Versions/4.1/Resources/library/Rcpp/include' -I'/Library/Frameworks/R.framework/Versions/4.1/Resources/library/BH/include' -I/usr/local/include -fPIC -Wall -g -O2 -c demultiplex.cpp -o demultiplex.o
clang++ -mmacosx-version-min=10.13 -std=gnu++14 -I"/Library/Frameworks/R.framework/Resources/include" -DNDEBUG -I'/Library/Frameworks/R.framework/Versions/4.1/Resources/library/Rcpp/include' -I'/Library/Frameworks/R.framework/Versions/4.1/Resources/library/BH/include' -I/usr/local/include -fPIC -Wall -g -O2 -c distance_for_R.cpp -o distance_for_R.o
clang++ -mmacosx-version-min=10.13 -std=gnu++14 -I"/Library/Frameworks/R.framework/Resources/include" -DNDEBUG -I'/Library/Frameworks/R.framework/Versions/4.1/Resources/library/Rcpp/include' -I'/Library/Frameworks/R.framework/Versions/4.1/Resources/library/BH/include' -I/usr/local/include -fPIC -Wall -g -O2 -c genericchromosome.cpp -o genericchromosome.o
clang++ -mmacosx-version-min=10.13 -std=gnu++14 -I"/Library/Frameworks/R.framework/Resources/include" -DNDEBUG -I'/Library/Frameworks/R.framework/Versions/4.1/Resources/library/Rcpp/include' -I'/Library/Frameworks/R.framework/Versions/4.1/Resources/library/BH/include' -I/usr/local/include -fPIC -Wall -g -O2 -c greedyevolution.cpp -o greedyevolution.o
clang++ -mmacosx-version-min=10.13 -std=gnu++14 -I"/Library/Frameworks/R.framework/Resources/include" -DNDEBUG -I'/Library/Frameworks/R.framework/Versions/4.1/Resources/library/Rcpp/include' -I'/Library/Frameworks/R.framework/Versions/4.1/Resources/library/BH/include' -I/usr/local/include -fPIC -Wall -g -O2 -c hammingdistance.cpp -o hammingdistance.o
clang++ -mmacosx-version-min=10.13 -std=gnu++14 -I"/Library/Frameworks/R.framework/Resources/include" -DNDEBUG -I'/Library/Frameworks/R.framework/Versions/4.1/Resources/library/Rcpp/include' -I'/Library/Frameworks/R.framework/Versions/4.1/Resources/library/BH/include' -I/usr/local/include -fPIC -Wall -g -O2 -c helpers.cpp -o helpers.o
clang++ -mmacosx-version-min=10.13 -std=gnu++14 -I"/Library/Frameworks/R.framework/Resources/include" -DNDEBUG -I'/Library/Frameworks/R.framework/Versions/4.1/Resources/library/Rcpp/include' -I'/Library/Frameworks/R.framework/Versions/4.1/Resources/library/BH/include' -I/usr/local/include -fPIC -Wall -g -O2 -c levenshteindistance.cpp -o levenshteindistance.o
clang++ -mmacosx-version-min=10.13 -std=gnu++14 -I"/Library/Frameworks/R.framework/Resources/include" -DNDEBUG -I'/Library/Frameworks/R.framework/Versions/4.1/Resources/library/Rcpp/include' -I'/Library/Frameworks/R.framework/Versions/4.1/Resources/library/BH/include' -I/usr/local/include -fPIC -Wall -g -O2 -c maxclique_pattabiraman_heuristic.cpp -o maxclique_pattabiraman_heuristic.o
clang++ -mmacosx-version-min=10.13 -std=gnu++14 -I"/Library/Frameworks/R.framework/Resources/include" -DNDEBUG -I'/Library/Frameworks/R.framework/Versions/4.1/Resources/library/Rcpp/include' -I'/Library/Frameworks/R.framework/Versions/4.1/Resources/library/BH/include' -I/usr/local/include -fPIC -Wall -g -O2 -c phaseshiftdist.cpp -o phaseshiftdist.o
In file included from phaseshiftdist.cpp:4:
In file included from /Library/Frameworks/R.framework/Versions/4.1/Resources/library/Rcpp/include/Rcpp.h:27:
In file included from /Library/Frameworks/R.framework/Versions/4.1/Resources/library/Rcpp/include/RcppCommon.h:30:
In file included from /Library/Frameworks/R.framework/Versions/4.1/Resources/library/Rcpp/include/Rcpp/r/headers.h:62:
In file included from /Library/Frameworks/R.framework/Versions/4.1/Resources/library/Rcpp/include/Rcpp/platform/compiler.h:153:
In file included from /Library/Developer/CommandLineTools/usr/include/c++/v1/unordered_map:384:
In file included from /Library/Developer/CommandLineTools/usr/include/c++/v1/__hash_table:16:
/Library/Developer/CommandLineTools/usr/include/c++/v1/memory:1747:17: warning: destructor called on non-final 'Sequence' that has virtual functions but non-virtual destructor [-Wdelete-non-virtual-dtor]
__p->~_Tp();
^
/Library/Developer/CommandLineTools/usr/include/c++/v1/memory:1595:14: note: in instantiation of function template specialization 'std::__1::allocator_traits<std::__1::allocator<std::__1::__tree_node<Sequence, void *> > >::__destroy<Sequence>' requested here
{__destroy(__has_destroy<allocator_type, _Tp*>(), __a, __p);}
^
/Library/Developer/CommandLineTools/usr/include/c++/v1/__tree:1843:24: note: in instantiation of function template specialization 'std::__1::allocator_traits<std::__1::allocator<std::__1::__tree_node<Sequence, void *> > >::destroy<Sequence>' requested here
__node_traits::destroy(__na, _NodeTypes::__get_ptr(__nd->__value_));
^
/Library/Developer/CommandLineTools/usr/include/c++/v1/__tree:1831:3: note: in instantiation of member function 'std::__1::__tree<Sequence, std::__1::less<Sequence>, std::__1::allocator<Sequence> >::destroy' requested here
destroy(__root());
^
/Library/Developer/CommandLineTools/usr/include/c++/v1/__tree:875:70: note: in instantiation of member function 'std::__1::__tree<Sequence, std::__1::less<Sequence>, std::__1::allocator<Sequence> >::~__tree' requested here
template <class, class, class> friend class _LIBCPP_TEMPLATE_VIS set;
^
/Library/Developer/CommandLineTools/usr/include/c++/v1/memory:1747:23: note: qualify call to silence this warning
__p->~_Tp();
^
1 warning generated.
clang++ -mmacosx-version-min=10.13 -std=gnu++14 -I"/Library/Frameworks/R.framework/Resources/include" -DNDEBUG -I'/Library/Frameworks/R.framework/Versions/4.1/Resources/library/Rcpp/include' -I'/Library/Frameworks/R.framework/Versions/4.1/Resources/library/BH/include' -I/usr/local/include -fPIC -Wall -g -O2 -c sequence.cpp -o sequence.o
clang++ -mmacosx-version-min=10.13 -std=gnu++14 -I"/Library/Frameworks/R.framework/Resources/include" -DNDEBUG -I'/Library/Frameworks/R.framework/Versions/4.1/Resources/library/Rcpp/include' -I'/Library/Frameworks/R.framework/Versions/4.1/Resources/library/BH/include' -I/usr/local/include -fPIC -Wall -g -O2 -c sequencelevenshteindistance.cpp -o sequencelevenshteindistance.o
clang++ -mmacosx-version-min=10.13 -std=gnu++14 -I"/Library/Frameworks/R.framework/Resources/include" -DNDEBUG -I'/Library/Frameworks/R.framework/Versions/4.1/Resources/library/Rcpp/include' -I'/Library/Frameworks/R.framework/Versions/4.1/Resources/library/BH/include' -I/usr/local/include -fPIC -Wall -g -O2 -c sequencepool.cpp -o sequencepool.o
In file included from sequencepool.cpp:4:
In file included from /Library/Frameworks/R.framework/Versions/4.1/Resources/library/Rcpp/include/Rcpp.h:27:
In file included from /Library/Frameworks/R.framework/Versions/4.1/Resources/library/Rcpp/include/RcppCommon.h:30:
In file included from /Library/Frameworks/R.framework/Versions/4.1/Resources/library/Rcpp/include/Rcpp/r/headers.h:62:
In file included from /Library/Frameworks/R.framework/Versions/4.1/Resources/library/Rcpp/include/Rcpp/platform/compiler.h:153:
In file included from /Library/Developer/CommandLineTools/usr/include/c++/v1/unordered_map:384:
In file included from /Library/Developer/CommandLineTools/usr/include/c++/v1/__hash_table:16:
/Library/Developer/CommandLineTools/usr/include/c++/v1/memory:1880:58: warning: destructor called on non-final 'Sequence' that has virtual functions but non-virtual destructor [-Wdelete-non-virtual-dtor]
_LIBCPP_INLINE_VISIBILITY void destroy(pointer __p) {__p->~_Tp();}
^
/Library/Developer/CommandLineTools/usr/include/c++/v1/memory:1742:18: note: in instantiation of member function 'std::__1::allocator<Sequence>::destroy' requested here
{__a.destroy(__p);}
^
/Library/Developer/CommandLineTools/usr/include/c++/v1/memory:1595:14: note: in instantiation of function template specialization 'std::__1::allocator_traits<std::__1::allocator<Sequence> >::__destroy<Sequence>' requested here
{__destroy(__has_destroy<allocator_type, _Tp*>(), __a, __p);}
^
/Library/Developer/CommandLineTools/usr/include/c++/v1/vector:421:25: note: in instantiation of function template specialization 'std::__1::allocator_traits<std::__1::allocator<Sequence> >::destroy<Sequence>' requested here
__alloc_traits::destroy(__alloc(), _VSTD::__to_raw_pointer(--__soon_to_be_end));
^
/Library/Developer/CommandLineTools/usr/include/c++/v1/vector:364:29: note: in instantiation of member function 'std::__1::__vector_base<Sequence, std::__1::allocator<Sequence> >::__destruct_at_end' requested here
void clear() _NOEXCEPT {__destruct_at_end(__begin_);}
^
/Library/Developer/CommandLineTools/usr/include/c++/v1/vector:458:9: note: in instantiation of member function 'std::__1::__vector_base<Sequence, std::__1::allocator<Sequence> >::clear' requested here
clear();
^
/Library/Developer/CommandLineTools/usr/include/c++/v1/iterator:1427:74: note: in instantiation of member function 'std::__1::__vector_base<Sequence, std::__1::allocator<Sequence> >::~__vector_base' requested here
template <class _Tp, class _Alloc> friend class _LIBCPP_TEMPLATE_VIS vector;
^
/Library/Developer/CommandLineTools/usr/include/c++/v1/memory:1880:64: note: qualify call to silence this warning
_LIBCPP_INLINE_VISIBILITY void destroy(pointer __p) {__p->~_Tp();}
^
1 warning generated.
clang++ -mmacosx-version-min=10.13 -std=gnu++14 -dynamiclib -Wl,-headerpad_max_install_names -undefined dynamic_lookup -single_module -multiply_defined suppress -L/Library/Frameworks/R.framework/Resources/lib -L/usr/local/lib -o DNABarcodes.so DNABarcodes_init.o RcppExports.o analyse_barcodes.o barcode_set_distances.o cachedistance.o chromosome.o code_falsification.o conway.o create_distance_func.o create_dnabarcodes.o create_pool.o demultiplex.o distance_for_R.o genericchromosome.o greedyevolution.o hammingdistance.o helpers.o levenshteindistance.o maxclique_pattabiraman_heuristic.o phaseshiftdist.o sequence.o sequencelevenshteindistance.o sequencepool.o -F/Library/Frameworks/R.framework/.. -framework R -Wl,-framework -Wl,CoreFoundation
installing to /Library/Frameworks/R.framework/Versions/4.1/Resources/library/00LOCK-DNABarcodes/00new/DNABarcodes/libs
** R
** data
** inst
** byte-compile and prepare package for lazy loading
** help
*** installing help indices
** building package indices
** installing vignettes
** testing if installed package can be loaded from temporary location
** checking absolute paths in shared objects and dynamic libraries
** testing if installed package can be loaded from final location
** testing if installed package keeps a record of temporary installation path
* DONE (DNABarcodes)
DNABarcodes.Rcheck/DNABarcodes-Ex.timings
| name | user | system | elapsed | |
| DNABarcodes-package | 1.601 | 0.023 | 1.632 | |
| analyse.barcodes | 0.013 | 0.007 | 0.021 | |
| barcode.set.distances | 0.040 | 0.014 | 0.056 | |
| create.dnabarcodes | 8.607 | 0.059 | 8.681 | |
| create.pool | 0.021 | 0.027 | 0.053 | |
| demultiplex | 4.331 | 0.287 | 4.621 | |
| distance | 0.000 | 0.000 | 0.001 | |