| Back to Multiple platform build/check report for BioC 3.14 |
|
This page was generated on 2022-04-13 12:06:27 -0400 (Wed, 13 Apr 2022).
| Hostname | OS | Arch (*) | R version | Installed pkgs |
|---|---|---|---|---|
| nebbiolo2 | Linux (Ubuntu 20.04.4 LTS) | x86_64 | 4.1.3 (2022-03-10) -- "One Push-Up" | 4324 |
| tokay2 | Windows Server 2012 R2 Standard | x64 | 4.1.3 (2022-03-10) -- "One Push-Up" | 4077 |
| machv2 | macOS 10.14.6 Mojave | x86_64 | 4.1.3 (2022-03-10) -- "One Push-Up" | 4137 |
| Click on any hostname to see more info about the system (e.g. compilers) (*) as reported by 'uname -p', except on Windows and Mac OS X | ||||
|
To the developers/maintainers of the DExMA package: - Please allow up to 24 hours (and sometimes 48 hours) for your latest push to git@git.bioconductor.org:packages/DExMA.git to reflect on this report. See How and When does the builder pull? When will my changes propagate? for more information. - Make sure to use the following settings in order to reproduce any error or warning you see on this page. |
| Package 499/2083 | Hostname | OS / Arch | INSTALL | BUILD | CHECK | BUILD BIN | ||||||||
| DExMA 1.2.1 (landing page) Juan Antonio Villatoro-GarcĂa
| nebbiolo2 | Linux (Ubuntu 20.04.4 LTS) / x86_64 | OK | OK | OK | |||||||||
| tokay2 | Windows Server 2012 R2 Standard / x64 | OK | OK | OK | OK | |||||||||
| machv2 | macOS 10.14.6 Mojave / x86_64 | OK | OK | OK | OK | |||||||||
| Package: DExMA |
| Version: 1.2.1 |
| Command: C:\cygwin\bin\curl.exe -O http://155.52.207.166/BBS/3.14/bioc/src/contrib/DExMA_1.2.1.tar.gz && rm -rf DExMA.buildbin-libdir && mkdir DExMA.buildbin-libdir && C:\Users\biocbuild\bbs-3.14-bioc\R\bin\R.exe CMD INSTALL --merge-multiarch --build --library=DExMA.buildbin-libdir DExMA_1.2.1.tar.gz && C:\Users\biocbuild\bbs-3.14-bioc\R\bin\R.exe CMD INSTALL DExMA_1.2.1.zip && rm DExMA_1.2.1.tar.gz DExMA_1.2.1.zip |
| StartedAt: 2022-04-12 06:31:40 -0400 (Tue, 12 Apr 2022) |
| EndedAt: 2022-04-12 06:32:56 -0400 (Tue, 12 Apr 2022) |
| EllapsedTime: 75.8 seconds |
| RetCode: 0 |
| Status: OK |
##############################################################################
##############################################################################
###
### Running command:
###
### C:\cygwin\bin\curl.exe -O http://155.52.207.166/BBS/3.14/bioc/src/contrib/DExMA_1.2.1.tar.gz && rm -rf DExMA.buildbin-libdir && mkdir DExMA.buildbin-libdir && C:\Users\biocbuild\bbs-3.14-bioc\R\bin\R.exe CMD INSTALL --merge-multiarch --build --library=DExMA.buildbin-libdir DExMA_1.2.1.tar.gz && C:\Users\biocbuild\bbs-3.14-bioc\R\bin\R.exe CMD INSTALL DExMA_1.2.1.zip && rm DExMA_1.2.1.tar.gz DExMA_1.2.1.zip
###
##############################################################################
##############################################################################
% Total % Received % Xferd Average Speed Time Time Time Current
Dload Upload Total Spent Left Speed
0 0 0 0 0 0 0 0 --:--:-- --:--:-- --:--:-- 0
100 30939 100 30939 0 0 260k 0 --:--:-- --:--:-- --:--:-- 262k
install for i386
* installing *source* package 'DExMA' ...
** using staged installation
** R
** inst
** byte-compile and prepare package for lazy loading
** help
*** installing help indices
converting help for package 'DExMA'
finding HTML links ... done
allSameID html
batchRemove html
calculateES html
createObjectMA html
dataLog html
downloadGEOData html
elementObjectMA html
heterogeneityTest html
makeHeatmap html
metaAnalysisDE html
missGenesImput html
pvalueIndAnalysis html
seeCov html
** building package indices
** installing vignettes
** testing if installed package can be loaded from temporary location
** testing if installed package can be loaded from final location
** testing if installed package keeps a record of temporary installation path
install for x64
* installing *source* package 'DExMA' ...
** testing if installed package can be loaded
* MD5 sums
packaged installation of 'DExMA' as DExMA_1.2.1.zip
* DONE (DExMA)
* installing to library 'C:/Users/biocbuild/bbs-3.14-bioc/R/library'
package 'DExMA' successfully unpacked and MD5 sums checked