| Back to Multiple platform build/check report for BioC 3.14 |
|
This page was generated on 2022-04-13 12:06:27 -0400 (Wed, 13 Apr 2022).
| Hostname | OS | Arch (*) | R version | Installed pkgs |
|---|---|---|---|---|
| nebbiolo2 | Linux (Ubuntu 20.04.4 LTS) | x86_64 | 4.1.3 (2022-03-10) -- "One Push-Up" | 4324 |
| tokay2 | Windows Server 2012 R2 Standard | x64 | 4.1.3 (2022-03-10) -- "One Push-Up" | 4077 |
| machv2 | macOS 10.14.6 Mojave | x86_64 | 4.1.3 (2022-03-10) -- "One Push-Up" | 4137 |
| Click on any hostname to see more info about the system (e.g. compilers) (*) as reported by 'uname -p', except on Windows and Mac OS X | ||||
|
To the developers/maintainers of the DEScan2 package: - Please allow up to 24 hours (and sometimes 48 hours) for your latest push to git@git.bioconductor.org:packages/DEScan2.git to reflect on this report. See How and When does the builder pull? When will my changes propagate? for more information. - Make sure to use the following settings in order to reproduce any error or warning you see on this page. |
| Package 493/2083 | Hostname | OS / Arch | INSTALL | BUILD | CHECK | BUILD BIN | ||||||||
| DEScan2 1.14.1 (landing page) Dario Righelli
| nebbiolo2 | Linux (Ubuntu 20.04.4 LTS) / x86_64 | OK | OK | OK | |||||||||
| tokay2 | Windows Server 2012 R2 Standard / x64 | OK | OK | OK | OK | |||||||||
| machv2 | macOS 10.14.6 Mojave / x86_64 | OK | OK | OK | OK | |||||||||
| Package: DEScan2 |
| Version: 1.14.1 |
| Command: rm -rf DEScan2.buildbin-libdir && mkdir DEScan2.buildbin-libdir && C:\Users\biocbuild\bbs-3.14-bioc\R\bin\R.exe CMD INSTALL --merge-multiarch --build --library=DEScan2.buildbin-libdir DEScan2_1.14.1.tar.gz |
| StartedAt: 2022-04-13 06:02:46 -0400 (Wed, 13 Apr 2022) |
| EndedAt: 2022-04-13 06:04:34 -0400 (Wed, 13 Apr 2022) |
| EllapsedTime: 108.4 seconds |
| RetCode: 0 |
| Status: OK |
| PackageFile: DEScan2_1.14.1.zip |
| PackageFileSize: 3.233 MiB |
##############################################################################
##############################################################################
###
### Running command:
###
### rm -rf DEScan2.buildbin-libdir && mkdir DEScan2.buildbin-libdir && C:\Users\biocbuild\bbs-3.14-bioc\R\bin\R.exe CMD INSTALL --merge-multiarch --build --library=DEScan2.buildbin-libdir DEScan2_1.14.1.tar.gz
###
##############################################################################
##############################################################################
install for i386
* installing *source* package 'DEScan2' ...
** using staged installation
** libs
"C:/rtools40/mingw32/bin/"g++ -std=gnu++11 -I"C:/Users/BIOCBU~1/BBS-3~1.14-/R/include" -DNDEBUG -I'C:/Users/biocbuild/bbs-3.14-bioc/R/library/Rcpp/include' -I'C:/Users/biocbuild/bbs-3.14-bioc/R/library/RcppArmadillo/include' -I"C:/extsoft/include" -O2 -Wall -mfpmath=sse -msse2 -mstackrealign -c RcppExports.cpp -o RcppExports.o
"C:/rtools40/mingw32/bin/"g++ -std=gnu++11 -I"C:/Users/BIOCBU~1/BBS-3~1.14-/R/include" -DNDEBUG -I'C:/Users/biocbuild/bbs-3.14-bioc/R/library/Rcpp/include' -I'C:/Users/biocbuild/bbs-3.14-bioc/R/library/RcppArmadillo/include' -I"C:/extsoft/include" -O2 -Wall -mfpmath=sse -msse2 -mstackrealign -c rcpparma_max_win.cpp -o rcpparma_max_win.o
C:/rtools40/mingw32/bin/g++ -shared -s -static-libgcc -o DEScan2.dll tmp.def RcppExports.o rcpparma_max_win.o -LC:/Users/BIOCBU~1/BBS-3~1.14-/R/bin/i386 -lRlapack -LC:/Users/BIOCBU~1/BBS-3~1.14-/R/bin/i386 -lRblas -lgfortran -lm -lquadmath -LC:/extsoft/lib/i386 -LC:/extsoft/lib -LC:/Users/BIOCBU~1/BBS-3~1.14-/R/bin/i386 -lR
installing to C:/Users/biocbuild/bbs-3.14-bioc/meat/DEScan2.buildbin-libdir/00LOCK-DEScan2/00new/DEScan2/libs/i386
** R
** inst
** byte-compile and prepare package for lazy loading
** help
*** installing help indices
converting help for package 'DEScan2'
finding HTML links ... done
DEScan2 html
RleListToRleMatrix html
binToChrCoordMatRowNames html
binnedCovOnly html
binnedCoverage html
c_get_disjoint_max_win html
computeCoverageMovingWindowOnChr html
computeLambdaOnChr html
computeZ html
constructBedRanges html
countFinalRegions html
createGranges html
cutGRangesPerChromosome html
divideEachSampleByChromosomes html
evenRunMean html
evenRunSum html
finalRegions html
findOverlapsOverSamples html
findPeaks html
fromSamplesToChrsGRangesList html
generateDFofSamplesPerChromosomes html
get_disjoint_max_win html
giveUniqueNamesToPeaksOverSamples html
initMergedPeaksNames html
keepRelevantChrs html
rcpparma_get_disjoint_max_win html
readBamAsBed html
readBedFile html
readFilesAsGRangesList html
saveGRangesAsBed html
saveGRangesAsTsv html
setGRGenomeInfo html
** building package indices
** installing vignettes
** testing if installed package can be loaded from temporary location
** testing if installed package can be loaded from final location
** testing if installed package keeps a record of temporary installation path
install for x64
* installing *source* package 'DEScan2' ...
** libs
"C:/rtools40/mingw64/bin/"g++ -std=gnu++11 -I"C:/Users/BIOCBU~1/BBS-3~1.14-/R/include" -DNDEBUG -I'C:/Users/biocbuild/bbs-3.14-bioc/R/library/Rcpp/include' -I'C:/Users/biocbuild/bbs-3.14-bioc/R/library/RcppArmadillo/include' -I"C:/extsoft/include" -O2 -Wall -mfpmath=sse -msse2 -mstackrealign -c RcppExports.cpp -o RcppExports.o
"C:/rtools40/mingw64/bin/"g++ -std=gnu++11 -I"C:/Users/BIOCBU~1/BBS-3~1.14-/R/include" -DNDEBUG -I'C:/Users/biocbuild/bbs-3.14-bioc/R/library/Rcpp/include' -I'C:/Users/biocbuild/bbs-3.14-bioc/R/library/RcppArmadillo/include' -I"C:/extsoft/include" -O2 -Wall -mfpmath=sse -msse2 -mstackrealign -c rcpparma_max_win.cpp -o rcpparma_max_win.o
C:/rtools40/mingw64/bin/g++ -shared -s -static-libgcc -o DEScan2.dll tmp.def RcppExports.o rcpparma_max_win.o -LC:/Users/BIOCBU~1/BBS-3~1.14-/R/bin/x64 -lRlapack -LC:/Users/BIOCBU~1/BBS-3~1.14-/R/bin/x64 -lRblas -lgfortran -lm -lquadmath -LC:/extsoft/lib/x64 -LC:/extsoft/lib -LC:/Users/BIOCBU~1/BBS-3~1.14-/R/bin/x64 -lR
installing to C:/Users/biocbuild/bbs-3.14-bioc/meat/DEScan2.buildbin-libdir/DEScan2/libs/x64
** testing if installed package can be loaded
* MD5 sums
packaged installation of 'DEScan2' as DEScan2_1.14.1.zip
* DONE (DEScan2)