| Back to Multiple platform build/check report for BioC 3.14 | 
 | 
This page was generated on 2022-04-13 12:06:25 -0400 (Wed, 13 Apr 2022).
| Hostname | OS | Arch (*) | R version | Installed pkgs | 
|---|---|---|---|---|
| nebbiolo2 | Linux (Ubuntu 20.04.4 LTS) | x86_64 | 4.1.3 (2022-03-10) -- "One Push-Up" | 4324 | 
| tokay2 | Windows Server 2012 R2 Standard | x64 | 4.1.3 (2022-03-10) -- "One Push-Up" | 4077 | 
| machv2 | macOS 10.14.6 Mojave | x86_64 | 4.1.3 (2022-03-10) -- "One Push-Up" | 4137 | 
| Click on any hostname to see more info about the system (e.g. compilers) (*) as reported by 'uname -p', except on Windows and Mac OS X | ||||
| To the developers/maintainers of the DAMEfinder package: - Please allow up to 24 hours (and sometimes 48 hours) for your latest push to git@git.bioconductor.org:packages/DAMEfinder.git to reflect on this report. See How and When does the builder pull? When will my changes propagate? for more information. - Make sure to use the following settings in order to reproduce any error or warning you see on this page. | 
| Package 448/2083 | Hostname | OS / Arch | INSTALL | BUILD | CHECK | BUILD BIN | ||||||||
| DAMEfinder 1.6.0  (landing page) Stephany Orjuela 
 | nebbiolo2 | Linux (Ubuntu 20.04.4 LTS) / x86_64 | OK | OK | OK |  | ||||||||
| tokay2 | Windows Server 2012 R2 Standard / x64 | OK | OK | OK | OK |  | ||||||||
| machv2 | macOS 10.14.6 Mojave / x86_64 | OK | OK | OK | OK |  | ||||||||
| Package: DAMEfinder | 
| Version: 1.6.0 | 
| Command: C:\cygwin\bin\curl.exe -O http://155.52.207.166/BBS/3.14/bioc/src/contrib/DAMEfinder_1.6.0.tar.gz && rm -rf DAMEfinder.buildbin-libdir && mkdir DAMEfinder.buildbin-libdir && C:\Users\biocbuild\bbs-3.14-bioc\R\bin\R.exe CMD INSTALL --merge-multiarch --build --library=DAMEfinder.buildbin-libdir DAMEfinder_1.6.0.tar.gz && C:\Users\biocbuild\bbs-3.14-bioc\R\bin\R.exe CMD INSTALL DAMEfinder_1.6.0.zip && rm DAMEfinder_1.6.0.tar.gz DAMEfinder_1.6.0.zip | 
| StartedAt: 2022-04-12 06:57:11 -0400 (Tue, 12 Apr 2022) | 
| EndedAt: 2022-04-12 06:58:45 -0400 (Tue, 12 Apr 2022) | 
| EllapsedTime: 93.4 seconds | 
| RetCode: 0 | 
| Status: OK | 
##############################################################################
##############################################################################
###
### Running command:
###
###   C:\cygwin\bin\curl.exe -O http://155.52.207.166/BBS/3.14/bioc/src/contrib/DAMEfinder_1.6.0.tar.gz && rm -rf DAMEfinder.buildbin-libdir && mkdir DAMEfinder.buildbin-libdir && C:\Users\biocbuild\bbs-3.14-bioc\R\bin\R.exe CMD INSTALL --merge-multiarch --build --library=DAMEfinder.buildbin-libdir DAMEfinder_1.6.0.tar.gz && C:\Users\biocbuild\bbs-3.14-bioc\R\bin\R.exe CMD INSTALL DAMEfinder_1.6.0.zip && rm DAMEfinder_1.6.0.tar.gz DAMEfinder_1.6.0.zip
###
##############################################################################
##############################################################################
  % Total    % Received % Xferd  Average Speed   Time    Time     Time  Current
                                 Dload  Upload   Total   Spent    Left  Speed
  0     0    0     0    0     0      0      0 --:--:-- --:--:-- --:--:--     0
  4 2643k    4  118k    0     0   447k      0  0:00:05 --:--:--  0:00:05  446k
 48 2643k   48 1275k    0     0  1011k      0  0:00:02  0:00:01  0:00:01 1011k
100 2643k  100 2643k    0     0  1346k      0  0:00:01  0:00:01 --:--:-- 1346k
install for i386
* installing *source* package 'DAMEfinder' ...
** using staged installation
** R
** data
** inst
** byte-compile and prepare package for lazy loading
** help
*** installing help indices
  converting help for package 'DAMEfinder'
    finding HTML links ... done
    DAMEfinder                              html  
    calc_asm                                html  
    calc_derivedasm                         html  
    finding level-2 HTML links ... done
    calc_logodds                            html  
    calc_score                              html  
    calc_weight                             html  
    dame_track                              html  
    dame_track_mean                         html  
    empirical_pval                          html  
    extract_bams                            html  
    extractbams_output                      html  
    find_dames                              html  
    getMD                                   html  
    get_tstats                              html  
    methyl_MDS_plot                         html  
    methyl_circle_plot                      html  
    methyl_circle_plotCpG                   html  
    modulus_sqrt                            html  
    read_tuples                             html  
    readtuples_output                       html  
    simes_pval                              html  
    splitReads                              html  
** building package indices
** installing vignettes
** testing if installed package can be loaded from temporary location
** testing if installed package can be loaded from final location
** testing if installed package keeps a record of temporary installation path
install for x64
* installing *source* package 'DAMEfinder' ...
** testing if installed package can be loaded
* MD5 sums
packaged installation of 'DAMEfinder' as DAMEfinder_1.6.0.zip
* DONE (DAMEfinder)
* installing to library 'C:/Users/biocbuild/bbs-3.14-bioc/R/library'
package 'DAMEfinder' successfully unpacked and MD5 sums checked