| Back to Multiple platform build/check report for BioC 3.14 |
|
This page was generated on 2022-04-13 12:05:15 -0400 (Wed, 13 Apr 2022).
| Hostname | OS | Arch (*) | R version | Installed pkgs |
|---|---|---|---|---|
| nebbiolo2 | Linux (Ubuntu 20.04.4 LTS) | x86_64 | 4.1.3 (2022-03-10) -- "One Push-Up" | 4324 |
| tokay2 | Windows Server 2012 R2 Standard | x64 | 4.1.3 (2022-03-10) -- "One Push-Up" | 4077 |
| machv2 | macOS 10.14.6 Mojave | x86_64 | 4.1.3 (2022-03-10) -- "One Push-Up" | 4137 |
| Click on any hostname to see more info about the system (e.g. compilers) (*) as reported by 'uname -p', except on Windows and Mac OS X | ||||
|
To the developers/maintainers of the CytoTree package: - Please allow up to 24 hours (and sometimes 48 hours) for your latest push to git@git.bioconductor.org:packages/CytoTree.git to reflect on this report. See How and When does the builder pull? When will my changes propagate? for more information. - Make sure to use the following settings in order to reproduce any error or warning you see on this page. |
| Package 444/2083 | Hostname | OS / Arch | INSTALL | BUILD | CHECK | BUILD BIN | ||||||||
| CytoTree 1.4.0 (landing page) Yuting Dai
| nebbiolo2 | Linux (Ubuntu 20.04.4 LTS) / x86_64 | OK | OK | OK | |||||||||
| tokay2 | Windows Server 2012 R2 Standard / x64 | OK | OK | OK | OK | |||||||||
| machv2 | macOS 10.14.6 Mojave / x86_64 | OK | OK | OK | OK | |||||||||
| Package: CytoTree |
| Version: 1.4.0 |
| Command: /home/biocbuild/bbs-3.14-bioc/R/bin/R CMD check --install=check:CytoTree.install-out.txt --library=/home/biocbuild/bbs-3.14-bioc/R/library --no-vignettes --timings CytoTree_1.4.0.tar.gz |
| StartedAt: 2022-04-12 07:02:16 -0400 (Tue, 12 Apr 2022) |
| EndedAt: 2022-04-12 07:07:37 -0400 (Tue, 12 Apr 2022) |
| EllapsedTime: 320.8 seconds |
| RetCode: 0 |
| Status: OK |
| CheckDir: CytoTree.Rcheck |
| Warnings: 0 |
##############################################################################
##############################################################################
###
### Running command:
###
### /home/biocbuild/bbs-3.14-bioc/R/bin/R CMD check --install=check:CytoTree.install-out.txt --library=/home/biocbuild/bbs-3.14-bioc/R/library --no-vignettes --timings CytoTree_1.4.0.tar.gz
###
##############################################################################
##############################################################################
* using log directory ‘/home/biocbuild/bbs-3.14-bioc/meat/CytoTree.Rcheck’
* using R version 4.1.3 (2022-03-10)
* using platform: x86_64-pc-linux-gnu (64-bit)
* using session charset: UTF-8
* using option ‘--no-vignettes’
* checking for file ‘CytoTree/DESCRIPTION’ ... OK
* checking extension type ... Package
* this is package ‘CytoTree’ version ‘1.4.0’
* package encoding: UTF-8
* checking package namespace information ... OK
* checking package dependencies ... OK
* checking if this is a source package ... OK
* checking if there is a namespace ... OK
* checking for hidden files and directories ... OK
* checking for portable file names ... OK
* checking for sufficient/correct file permissions ... OK
* checking whether package ‘CytoTree’ can be installed ... OK
* checking installed package size ... OK
* checking package directory ... OK
* checking ‘build’ directory ... OK
* checking DESCRIPTION meta-information ... OK
* checking top-level files ... OK
* checking for left-over files ... OK
* checking index information ... OK
* checking package subdirectories ... OK
* checking R files for non-ASCII characters ... OK
* checking R files for syntax errors ... OK
* checking whether the package can be loaded ... OK
* checking whether the package can be loaded with stated dependencies ... OK
* checking whether the package can be unloaded cleanly ... OK
* checking whether the namespace can be loaded with stated dependencies ... OK
* checking whether the namespace can be unloaded cleanly ... OK
* checking dependencies in R code ... OK
* checking S3 generic/method consistency ... OK
* checking replacement functions ... OK
* checking foreign function calls ... OK
* checking R code for possible problems ... OK
* checking Rd files ... OK
* checking Rd metadata ... OK
* checking Rd cross-references ... OK
* checking for missing documentation entries ... OK
* checking for code/documentation mismatches ... OK
* checking Rd \usage sections ... OK
* checking Rd contents ... OK
* checking for unstated dependencies in examples ... OK
* checking line endings in C/C++/Fortran sources/headers ... OK
* checking compiled code ... NOTE
Note: information on .o files is not available
* checking files in ‘vignettes’ ... OK
* checking examples ... OK
Examples with CPU (user + system) or elapsed time > 5s
user system elapsed
runCluster 11.517 0.076 11.593
plot2D 8.082 0.204 8.287
runMclust 7.229 0.008 7.237
* checking for unstated dependencies in vignettes ... OK
* checking package vignettes in ‘inst/doc’ ... OK
* checking running R code from vignettes ... SKIPPED
* checking re-building of vignette outputs ... SKIPPED
* checking PDF version of manual ... OK
* DONE
Status: 1 NOTE
See
‘/home/biocbuild/bbs-3.14-bioc/meat/CytoTree.Rcheck/00check.log’
for details.
CytoTree.Rcheck/00install.out
############################################################################## ############################################################################## ### ### Running command: ### ### /home/biocbuild/bbs-3.14-bioc/R/bin/R CMD INSTALL CytoTree ### ############################################################################## ############################################################################## * installing to library ‘/home/biocbuild/bbs-3.14-bioc/R/library’ * installing *source* package ‘CytoTree’ ... ** using staged installation ** libs g++ -std=gnu++14 -I"/home/biocbuild/bbs-3.14-bioc/R/include" -DNDEBUG -I'/home/biocbuild/bbs-3.14-bioc/R/library/Rcpp/include' -I/usr/local/include -fpic -g -O2 -Wall -c RcppExports.cpp -o RcppExports.o g++ -std=gnu++14 -I"/home/biocbuild/bbs-3.14-bioc/R/include" -DNDEBUG -I'/home/biocbuild/bbs-3.14-bioc/R/library/Rcpp/include' -I/usr/local/include -fpic -g -O2 -Wall -c jaccard_coeff.cpp -o jaccard_coeff.o g++ -std=gnu++14 -shared -L/home/biocbuild/bbs-3.14-bioc/R/lib -L/usr/local/lib -o CytoTree.so RcppExports.o jaccard_coeff.o -L/home/biocbuild/bbs-3.14-bioc/R/lib -lR installing to /home/biocbuild/bbs-3.14-bioc/R/library/00LOCK-CytoTree/00new/CytoTree/libs ** R ** inst ** byte-compile and prepare package for lazy loading No methods found in package ‘flowCore’ for requests: ‘action’, ‘assign’, ‘Data’, ‘gate’, ‘tree’ when loading ‘flowUtils’ ** help *** installing help indices ** building package indices ** installing vignettes ** testing if installed package can be loaded from temporary location No methods found in package ‘flowCore’ for requests: ‘action’, ‘assign’, ‘Data’, ‘gate’, ‘tree’ when loading ‘flowUtils’ ** checking absolute paths in shared objects and dynamic libraries ** testing if installed package can be loaded from final location No methods found in package ‘flowCore’ for requests: ‘action’, ‘assign’, ‘Data’, ‘gate’, ‘tree’ when loading ‘flowUtils’ ** testing if installed package keeps a record of temporary installation path * DONE (CytoTree)
CytoTree.Rcheck/CytoTree-Ex.timings
| name | user | system | elapsed | |
| CytoTree-package | 0 | 0 | 0 | |
| Rphenograph | 3.532 | 0.080 | 3.612 | |
| buildTree | 0.118 | 0.004 | 0.123 | |
| constraintMatrix | 0.023 | 0.000 | 0.024 | |
| correctBatchCYT | 1.725 | 0.018 | 1.739 | |
| createCYT | 0.08 | 0.00 | 0.08 | |
| defLeafCells | 0.015 | 0.000 | 0.014 | |
| defRootCells | 0.015 | 0.000 | 0.015 | |
| fetchCell | 0.015 | 0.000 | 0.015 | |
| fetchClustMeta | 0.025 | 0.000 | 0.025 | |
| fetchPlotMeta | 0.023 | 0.004 | 0.027 | |
| find_neighbors | 0.002 | 0.000 | 0.002 | |
| gatingMatrix | 0.016 | 0.000 | 0.016 | |
| plot2D | 8.082 | 0.204 | 8.287 | |
| plot3D | 0.041 | 0.001 | 0.041 | |
| plotBranchHeatmap | 0.182 | 0.023 | 0.206 | |
| plotCluster | 4.475 | 0.035 | 4.512 | |
| plotClusterHeatmap | 0.178 | 0.008 | 0.187 | |
| plotHeatmap | 0.562 | 0.004 | 0.566 | |
| plotMarkerDensity | 0 | 0 | 0 | |
| plotPieCluster | 3.018 | 0.046 | 3.064 | |
| plotPieTree | 0.440 | 0.004 | 0.443 | |
| plotPseudotimeDensity | 0.768 | 0.008 | 0.777 | |
| plotPseudotimeTraj | 3.857 | 0.055 | 3.913 | |
| plotTree | 2.043 | 0.105 | 2.146 | |
| plotViolin | 2.124 | 0.031 | 2.156 | |
| processingCluster | 0.384 | 0.021 | 0.405 | |
| runClara | 0.036 | 0.004 | 0.040 | |
| runCluster | 11.517 | 0.076 | 11.593 | |
| runDiff | 0.042 | 0.015 | 0.058 | |
| runDiffusionMap | 0.232 | 0.028 | 0.260 | |
| runExprsExtract | 0.009 | 0.000 | 0.009 | |
| runExprsMerge | 0.041 | 0.003 | 0.045 | |
| runFastPCA | 0.016 | 0.001 | 0.016 | |
| runKmeans | 0.014 | 0.000 | 0.015 | |
| runMclust | 7.229 | 0.008 | 7.237 | |
| runPhenograph | 4.690 | 0.136 | 4.825 | |
| runPseudotime | 1.626 | 0.048 | 1.673 | |
| runSOM | 0.027 | 0.000 | 0.026 | |
| runTSNE | 3.305 | 0.012 | 3.318 | |
| runUMAP | 4.931 | 0.008 | 4.939 | |
| runWalk | 0.189 | 0.007 | 0.196 | |
| show-CYT-method | 0.010 | 0.000 | 0.011 | |
| subsetCYT | 0.014 | 0.001 | 0.014 | |
| updateClustMeta | 0.022 | 0.000 | 0.021 | |
| updatePlotMeta | 0.013 | 0.000 | 0.013 | |