| Back to Multiple platform build/check report for BioC 3.14 |
|
This page was generated on 2022-04-13 12:05:14 -0400 (Wed, 13 Apr 2022).
| Hostname | OS | Arch (*) | R version | Installed pkgs |
|---|---|---|---|---|
| nebbiolo2 | Linux (Ubuntu 20.04.4 LTS) | x86_64 | 4.1.3 (2022-03-10) -- "One Push-Up" | 4324 |
| tokay2 | Windows Server 2012 R2 Standard | x64 | 4.1.3 (2022-03-10) -- "One Push-Up" | 4077 |
| machv2 | macOS 10.14.6 Mojave | x86_64 | 4.1.3 (2022-03-10) -- "One Push-Up" | 4137 |
| Click on any hostname to see more info about the system (e.g. compilers) (*) as reported by 'uname -p', except on Windows and Mac OS X | ||||
|
To the developers/maintainers of the CytoGLMM package: - Please allow up to 24 hours (and sometimes 48 hours) for your latest push to git@git.bioconductor.org:packages/CytoGLMM.git to reflect on this report. See How and When does the builder pull? When will my changes propagate? for more information. - Make sure to use the following settings in order to reproduce any error or warning you see on this page. |
| Package 439/2083 | Hostname | OS / Arch | INSTALL | BUILD | CHECK | BUILD BIN | ||||||||
| CytoGLMM 1.2.0 (landing page) Christof Seiler
| nebbiolo2 | Linux (Ubuntu 20.04.4 LTS) / x86_64 | OK | OK | OK | |||||||||
| tokay2 | Windows Server 2012 R2 Standard / x64 | OK | OK | OK | OK | |||||||||
| machv2 | macOS 10.14.6 Mojave / x86_64 | OK | OK | OK | OK | |||||||||
| Package: CytoGLMM |
| Version: 1.2.0 |
| Command: /home/biocbuild/bbs-3.14-bioc/R/bin/R CMD check --install=check:CytoGLMM.install-out.txt --library=/home/biocbuild/bbs-3.14-bioc/R/library --no-vignettes --timings CytoGLMM_1.2.0.tar.gz |
| StartedAt: 2022-04-12 07:02:06 -0400 (Tue, 12 Apr 2022) |
| EndedAt: 2022-04-12 07:03:55 -0400 (Tue, 12 Apr 2022) |
| EllapsedTime: 108.3 seconds |
| RetCode: 0 |
| Status: OK |
| CheckDir: CytoGLMM.Rcheck |
| Warnings: 0 |
##############################################################################
##############################################################################
###
### Running command:
###
### /home/biocbuild/bbs-3.14-bioc/R/bin/R CMD check --install=check:CytoGLMM.install-out.txt --library=/home/biocbuild/bbs-3.14-bioc/R/library --no-vignettes --timings CytoGLMM_1.2.0.tar.gz
###
##############################################################################
##############################################################################
* using log directory ‘/home/biocbuild/bbs-3.14-bioc/meat/CytoGLMM.Rcheck’
* using R version 4.1.3 (2022-03-10)
* using platform: x86_64-pc-linux-gnu (64-bit)
* using session charset: UTF-8
* using option ‘--no-vignettes’
* checking for file ‘CytoGLMM/DESCRIPTION’ ... OK
* checking extension type ... Package
* this is package ‘CytoGLMM’ version ‘1.2.0’
* package encoding: UTF-8
* checking package namespace information ... OK
* checking package dependencies ... OK
* checking if this is a source package ... OK
* checking if there is a namespace ... OK
* checking for hidden files and directories ... OK
* checking for portable file names ... OK
* checking for sufficient/correct file permissions ... OK
* checking whether package ‘CytoGLMM’ can be installed ... OK
* checking installed package size ... OK
* checking package directory ... OK
* checking ‘build’ directory ... OK
* checking DESCRIPTION meta-information ... OK
* checking top-level files ... OK
* checking for left-over files ... OK
* checking index information ... OK
* checking package subdirectories ... OK
* checking R files for non-ASCII characters ... OK
* checking R files for syntax errors ... OK
* checking whether the package can be loaded ... OK
* checking whether the package can be loaded with stated dependencies ... OK
* checking whether the package can be unloaded cleanly ... OK
* checking whether the namespace can be loaded with stated dependencies ... OK
* checking whether the namespace can be unloaded cleanly ... OK
* checking dependencies in R code ... OK
* checking S3 generic/method consistency ... OK
* checking replacement functions ... OK
* checking foreign function calls ... OK
* checking R code for possible problems ... OK
* checking Rd files ... OK
* checking Rd metadata ... OK
* checking Rd cross-references ... OK
* checking for missing documentation entries ... OK
* checking for code/documentation mismatches ... OK
* checking Rd \usage sections ... OK
* checking Rd contents ... OK
* checking for unstated dependencies in examples ... OK
* checking files in ‘vignettes’ ... OK
* checking examples ... OK
Examples with CPU (user + system) or elapsed time > 5s
user system elapsed
cytoflexmix 5.722 0.239 5.962
* checking for unstated dependencies in ‘tests’ ... OK
* checking tests ...
Running ‘testthat.R’
OK
* checking for unstated dependencies in vignettes ... OK
* checking package vignettes in ‘inst/doc’ ... OK
* checking running R code from vignettes ... SKIPPED
* checking re-building of vignette outputs ... SKIPPED
* checking PDF version of manual ... OK
* DONE
Status: OK
CytoGLMM.Rcheck/00install.out
############################################################################## ############################################################################## ### ### Running command: ### ### /home/biocbuild/bbs-3.14-bioc/R/bin/R CMD INSTALL CytoGLMM ### ############################################################################## ############################################################################## * installing to library ‘/home/biocbuild/bbs-3.14-bioc/R/library’ * installing *source* package ‘CytoGLMM’ ... ** using staged installation ** R ** inst ** byte-compile and prepare package for lazy loading ** help *** installing help indices ** building package indices ** installing vignettes ** testing if installed package can be loaded from temporary location ** testing if installed package can be loaded from final location ** testing if installed package keeps a record of temporary installation path * DONE (CytoGLMM)
CytoGLMM.Rcheck/tests/testthat.Rout
R version 4.1.3 (2022-03-10) -- "One Push-Up"
Copyright (C) 2022 The R Foundation for Statistical Computing
Platform: x86_64-pc-linux-gnu (64-bit)
R is free software and comes with ABSOLUTELY NO WARRANTY.
You are welcome to redistribute it under certain conditions.
Type 'license()' or 'licence()' for distribution details.
R is a collaborative project with many contributors.
Type 'contributors()' for more information and
'citation()' on how to cite R or R packages in publications.
Type 'demo()' for some demos, 'help()' for on-line help, or
'help.start()' for an HTML browser interface to help.
Type 'q()' to quit R.
> library(testthat)
> library(CytoGLMM)
>
> test_check("CytoGLMM")
[ FAIL 0 | WARN 0 | SKIP 0 | PASS 1 ]
>
> proc.time()
user system elapsed
3.753 0.243 3.988
CytoGLMM.Rcheck/CytoGLMM-Ex.timings
| name | user | system | elapsed | |
| cytoflexmix | 5.722 | 0.239 | 5.962 | |
| cytoglm | 1.171 | 0.052 | 1.223 | |
| cytoglmm | 0.208 | 0.008 | 0.216 | |
| cytogroup | 0.982 | 0.072 | 1.053 | |
| cytostab | 0.18 | 0.00 | 0.18 | |
| generate_data | 0.091 | 0.000 | 0.092 | |
| plot.cytoflexmix | 3.167 | 0.088 | 3.255 | |
| plot.cytoglm | 0.955 | 0.040 | 0.994 | |
| plot.cytoglmm | 0.298 | 0.004 | 0.301 | |
| plot.cytogroup | 1.217 | 0.056 | 1.273 | |
| plot_heatmap | 0.162 | 0.000 | 0.161 | |
| plot_lda | 0.955 | 0.012 | 0.967 | |
| plot_mds | 0.424 | 0.000 | 0.425 | |
| plot_model_selection | 4.693 | 0.072 | 4.765 | |
| plot_prcomp | 1.187 | 0.044 | 1.231 | |
| print.cytoglm | 1.090 | 0.004 | 1.094 | |
| print.cytoglmm | 0.187 | 0.000 | 0.187 | |
| summary.cytoglm | 0.833 | 0.020 | 0.853 | |
| summary.cytoglmm | 0.235 | 0.004 | 0.240 | |