| Back to Multiple platform build/check report for BioC 3.14 |
|
This page was generated on 2022-04-13 12:06:23 -0400 (Wed, 13 Apr 2022).
| Hostname | OS | Arch (*) | R version | Installed pkgs |
|---|---|---|---|---|
| nebbiolo2 | Linux (Ubuntu 20.04.4 LTS) | x86_64 | 4.1.3 (2022-03-10) -- "One Push-Up" | 4324 |
| tokay2 | Windows Server 2012 R2 Standard | x64 | 4.1.3 (2022-03-10) -- "One Push-Up" | 4077 |
| machv2 | macOS 10.14.6 Mojave | x86_64 | 4.1.3 (2022-03-10) -- "One Push-Up" | 4137 |
| Click on any hostname to see more info about the system (e.g. compilers) (*) as reported by 'uname -p', except on Windows and Mac OS X | ||||
|
To the developers/maintainers of the CountClust package: - Please allow up to 24 hours (and sometimes 48 hours) for your latest push to git@git.bioconductor.org:packages/CountClust.git to reflect on this report. See How and When does the builder pull? When will my changes propagate? for more information. - Make sure to use the following settings in order to reproduce any error or warning you see on this page. |
| Package 408/2083 | Hostname | OS / Arch | INSTALL | BUILD | CHECK | BUILD BIN | ||||||||
| CountClust 1.22.0 (landing page) Kushal Dey
| nebbiolo2 | Linux (Ubuntu 20.04.4 LTS) / x86_64 | OK | ERROR | skipped | |||||||||
| tokay2 | Windows Server 2012 R2 Standard / x64 | OK | ERROR | skipped | skipped | |||||||||
| machv2 | macOS 10.14.6 Mojave / x86_64 | OK | ERROR | skipped | skipped | |||||||||
| Package: CountClust |
| Version: 1.22.0 |
| Command: C:\cygwin\bin\curl.exe -O http://155.52.207.166/BBS/3.14/bioc/src/contrib/CountClust_1.22.0.tar.gz && rm -rf CountClust.buildbin-libdir && mkdir CountClust.buildbin-libdir && C:\Users\biocbuild\bbs-3.14-bioc\R\bin\R.exe CMD INSTALL --merge-multiarch --build --library=CountClust.buildbin-libdir CountClust_1.22.0.tar.gz && C:\Users\biocbuild\bbs-3.14-bioc\R\bin\R.exe CMD INSTALL CountClust_1.22.0.zip && rm CountClust_1.22.0.tar.gz CountClust_1.22.0.zip |
| StartedAt: 2022-04-12 04:44:57 -0400 (Tue, 12 Apr 2022) |
| EndedAt: 2022-04-12 04:46:34 -0400 (Tue, 12 Apr 2022) |
| EllapsedTime: 96.7 seconds |
| RetCode: 0 |
| Status: OK |
##############################################################################
##############################################################################
###
### Running command:
###
### C:\cygwin\bin\curl.exe -O http://155.52.207.166/BBS/3.14/bioc/src/contrib/CountClust_1.22.0.tar.gz && rm -rf CountClust.buildbin-libdir && mkdir CountClust.buildbin-libdir && C:\Users\biocbuild\bbs-3.14-bioc\R\bin\R.exe CMD INSTALL --merge-multiarch --build --library=CountClust.buildbin-libdir CountClust_1.22.0.tar.gz && C:\Users\biocbuild\bbs-3.14-bioc\R\bin\R.exe CMD INSTALL CountClust_1.22.0.zip && rm CountClust_1.22.0.tar.gz CountClust_1.22.0.zip
###
##############################################################################
##############################################################################
% Total % Received % Xferd Average Speed Time Time Time Current
Dload Upload Total Spent Left Speed
0 0 0 0 0 0 0 0 --:--:-- --:--:-- --:--:-- 0
4 6245k 4 250k 0 0 737k 0 0:00:08 --:--:-- 0:00:08 738k
30 6245k 30 1911k 0 0 1428k 0 0:00:04 0:00:01 0:00:03 1428k
72 6245k 72 4515k 0 0 1926k 0 0:00:03 0:00:02 0:00:01 1926k
100 6245k 100 6245k 0 0 2182k 0 0:00:02 0:00:02 --:--:-- 2182k
install for i386
* installing *source* package 'CountClust' ...
** using staged installation
** R
** data
*** moving datasets to lazyload DB
** inst
** byte-compile and prepare package for lazy loading
** help
*** installing help indices
converting help for package 'CountClust'
finding HTML links ... done
AbundanceGoM html
BatchCorrectedCounts html
ExtractHighCorFeatures html
ExtractTopFeatures html
FitGoM html
GTExV6Brain.FitGoM html
MouseDeng2014.FitGoM html
MouseJaitinSpleen.FitGoM html
RemoveSparseFeatures html
StructureGGplot html
compGoM html
compare_omega html
ex.counts html
handleNA html
nullmodel_GoM html
** building package indices
** installing vignettes
** testing if installed package can be loaded from temporary location
** testing if installed package can be loaded from final location
** testing if installed package keeps a record of temporary installation path
install for x64
* installing *source* package 'CountClust' ...
** testing if installed package can be loaded
* MD5 sums
packaged installation of 'CountClust' as CountClust_1.22.0.zip
* DONE (CountClust)
* installing to library 'C:/Users/biocbuild/bbs-3.14-bioc/R/library'
package 'CountClust' successfully unpacked and MD5 sums checked