| Back to Multiple platform build/check report for BioC 3.14 |
|
This page was generated on 2022-04-13 12:06:20 -0400 (Wed, 13 Apr 2022).
| Hostname | OS | Arch (*) | R version | Installed pkgs |
|---|---|---|---|---|
| nebbiolo2 | Linux (Ubuntu 20.04.4 LTS) | x86_64 | 4.1.3 (2022-03-10) -- "One Push-Up" | 4324 |
| tokay2 | Windows Server 2012 R2 Standard | x64 | 4.1.3 (2022-03-10) -- "One Push-Up" | 4077 |
| machv2 | macOS 10.14.6 Mojave | x86_64 | 4.1.3 (2022-03-10) -- "One Push-Up" | 4137 |
| Click on any hostname to see more info about the system (e.g. compilers) (*) as reported by 'uname -p', except on Windows and Mac OS X | ||||
|
To the developers/maintainers of the CluMSID package: - Please allow up to 24 hours (and sometimes 48 hours) for your latest push to git@git.bioconductor.org:packages/CluMSID.git to reflect on this report. See How and When does the builder pull? When will my changes propagate? for more information. - Make sure to use the following settings in order to reproduce any error or warning you see on this page. |
| Package 336/2083 | Hostname | OS / Arch | INSTALL | BUILD | CHECK | BUILD BIN | ||||||||
| CluMSID 1.10.0 (landing page) Tobias Depke
| nebbiolo2 | Linux (Ubuntu 20.04.4 LTS) / x86_64 | OK | OK | OK | |||||||||
| tokay2 | Windows Server 2012 R2 Standard / x64 | OK | OK | OK | OK | |||||||||
| machv2 | macOS 10.14.6 Mojave / x86_64 | OK | OK | OK | OK | |||||||||
| Package: CluMSID |
| Version: 1.10.0 |
| Command: C:\cygwin\bin\curl.exe -O http://155.52.207.166/BBS/3.14/bioc/src/contrib/CluMSID_1.10.0.tar.gz && rm -rf CluMSID.buildbin-libdir && mkdir CluMSID.buildbin-libdir && C:\Users\biocbuild\bbs-3.14-bioc\R\bin\R.exe CMD INSTALL --merge-multiarch --build --library=CluMSID.buildbin-libdir CluMSID_1.10.0.tar.gz && C:\Users\biocbuild\bbs-3.14-bioc\R\bin\R.exe CMD INSTALL CluMSID_1.10.0.zip && rm CluMSID_1.10.0.tar.gz CluMSID_1.10.0.zip |
| StartedAt: 2022-04-12 06:25:31 -0400 (Tue, 12 Apr 2022) |
| EndedAt: 2022-04-12 06:27:00 -0400 (Tue, 12 Apr 2022) |
| EllapsedTime: 89.0 seconds |
| RetCode: 0 |
| Status: OK |
##############################################################################
##############################################################################
###
### Running command:
###
### C:\cygwin\bin\curl.exe -O http://155.52.207.166/BBS/3.14/bioc/src/contrib/CluMSID_1.10.0.tar.gz && rm -rf CluMSID.buildbin-libdir && mkdir CluMSID.buildbin-libdir && C:\Users\biocbuild\bbs-3.14-bioc\R\bin\R.exe CMD INSTALL --merge-multiarch --build --library=CluMSID.buildbin-libdir CluMSID_1.10.0.tar.gz && C:\Users\biocbuild\bbs-3.14-bioc\R\bin\R.exe CMD INSTALL CluMSID_1.10.0.zip && rm CluMSID_1.10.0.tar.gz CluMSID_1.10.0.zip
###
##############################################################################
##############################################################################
% Total % Received % Xferd Average Speed Time Time Time Current
Dload Upload Total Spent Left Speed
0 0 0 0 0 0 0 0 --:--:-- --:--:-- --:--:-- 0
26 50961 26 13291 0 0 156k 0 --:--:-- --:--:-- --:--:-- 156k
100 50961 100 50961 0 0 321k 0 --:--:-- --:--:-- --:--:-- 321k
install for i386
* installing *source* package 'CluMSID' ...
** using staged installation
** R
** byte-compile and prepare package for lazy loading
** help
*** installing help indices
converting help for package 'CluMSID'
finding HTML links ... done
Featurelist html
HCplot html
HCtbl html
MDSplot html
MS2spectrum-class html
OPTICSplot html
OPTICStbl html
accessors html
addAnnotations html
as.MS2spectrum html
cossim html
distanceMatrix html
extractMS2spectra html
extractPseudospectra html
findFragment html
findNL html
getSimilarities html
getSpectrum html
mergeMS2spectra html
mergeSpecList html
mergeTolerance html
networkplot html
neutrallossPatterns html
pseudospectrum-class html
specplot html
splitPolarities html
writeFeaturelist html
** building package indices
** installing vignettes
** testing if installed package can be loaded from temporary location
** testing if installed package can be loaded from final location
** testing if installed package keeps a record of temporary installation path
install for x64
* installing *source* package 'CluMSID' ...
** testing if installed package can be loaded
* MD5 sums
packaged installation of 'CluMSID' as CluMSID_1.10.0.zip
* DONE (CluMSID)
* installing to library 'C:/Users/biocbuild/bbs-3.14-bioc/R/library'
package 'CluMSID' successfully unpacked and MD5 sums checked