| Back to Multiple platform build/check report for BioC 3.14 |
|
This page was generated on 2022-04-13 12:06:20 -0400 (Wed, 13 Apr 2022).
| Hostname | OS | Arch (*) | R version | Installed pkgs |
|---|---|---|---|---|
| nebbiolo2 | Linux (Ubuntu 20.04.4 LTS) | x86_64 | 4.1.3 (2022-03-10) -- "One Push-Up" | 4324 |
| tokay2 | Windows Server 2012 R2 Standard | x64 | 4.1.3 (2022-03-10) -- "One Push-Up" | 4077 |
| machv2 | macOS 10.14.6 Mojave | x86_64 | 4.1.3 (2022-03-10) -- "One Push-Up" | 4137 |
| Click on any hostname to see more info about the system (e.g. compilers) (*) as reported by 'uname -p', except on Windows and Mac OS X | ||||
|
To the developers/maintainers of the CiteFuse package: - Please allow up to 24 hours (and sometimes 48 hours) for your latest push to git@git.bioconductor.org:packages/CiteFuse.git to reflect on this report. See How and When does the builder pull? When will my changes propagate? for more information. - Make sure to use the following settings in order to reproduce any error or warning you see on this page. |
| Package 323/2083 | Hostname | OS / Arch | INSTALL | BUILD | CHECK | BUILD BIN | ||||||||
| CiteFuse 1.6.0 (landing page) Yingxin Lin
| nebbiolo2 | Linux (Ubuntu 20.04.4 LTS) / x86_64 | OK | OK | OK | |||||||||
| tokay2 | Windows Server 2012 R2 Standard / x64 | OK | OK | OK | OK | |||||||||
| machv2 | macOS 10.14.6 Mojave / x86_64 | OK | OK | OK | OK | |||||||||
| Package: CiteFuse |
| Version: 1.6.0 |
| Command: rm -rf CiteFuse.buildbin-libdir && mkdir CiteFuse.buildbin-libdir && C:\Users\biocbuild\bbs-3.14-bioc\R\bin\R.exe CMD INSTALL --merge-multiarch --build --library=CiteFuse.buildbin-libdir CiteFuse_1.6.0.tar.gz |
| StartedAt: 2022-04-13 05:52:22 -0400 (Wed, 13 Apr 2022) |
| EndedAt: 2022-04-13 05:53:27 -0400 (Wed, 13 Apr 2022) |
| EllapsedTime: 64.8 seconds |
| RetCode: 0 |
| Status: OK |
| PackageFile: CiteFuse_1.6.0.zip |
| PackageFileSize: 2.55 MiB |
##############################################################################
##############################################################################
###
### Running command:
###
### rm -rf CiteFuse.buildbin-libdir && mkdir CiteFuse.buildbin-libdir && C:\Users\biocbuild\bbs-3.14-bioc\R\bin\R.exe CMD INSTALL --merge-multiarch --build --library=CiteFuse.buildbin-libdir CiteFuse_1.6.0.tar.gz
###
##############################################################################
##############################################################################
install for i386
* installing *source* package 'CiteFuse' ...
** using staged installation
** R
** data
** inst
** byte-compile and prepare package for lazy loading
** help
*** installing help indices
converting help for package 'CiteFuse'
finding HTML links ... done
CITEseq_example html
CiteFuse html
DEbubblePlot html
DEcomparisonPlot html
DEgenes html
DEgenesCross html
crossSampleDoublets html
geneADTnetwork html
igraphClustering html
importanceADT html
ligandReceptorTest html
lr_pair_subset html
normaliseExprs html
plotHTO html
plotHTOSingle html
preprocessing html
readFrom10X html
reducedDimSNF html
sce_control_subset html
sce_ctcl_subset html
selectDEgenes html
spectralClustering html
visImportance html
visLigandReceptor html
visualiseDim html
visualiseExprs html
visualiseExprsList html
visualiseKNN html
withinSampleDoublets html
** building package indices
** installing vignettes
** testing if installed package can be loaded from temporary location
** testing if installed package can be loaded from final location
** testing if installed package keeps a record of temporary installation path
install for x64
* installing *source* package 'CiteFuse' ...
** testing if installed package can be loaded
* MD5 sums
packaged installation of 'CiteFuse' as CiteFuse_1.6.0.zip
* DONE (CiteFuse)