| Back to Multiple platform build/check report for BioC 3.14 |
|
This page was generated on 2022-04-13 12:06:19 -0400 (Wed, 13 Apr 2022).
| Hostname | OS | Arch (*) | R version | Installed pkgs |
|---|---|---|---|---|
| nebbiolo2 | Linux (Ubuntu 20.04.4 LTS) | x86_64 | 4.1.3 (2022-03-10) -- "One Push-Up" | 4324 |
| tokay2 | Windows Server 2012 R2 Standard | x64 | 4.1.3 (2022-03-10) -- "One Push-Up" | 4077 |
| machv2 | macOS 10.14.6 Mojave | x86_64 | 4.1.3 (2022-03-10) -- "One Push-Up" | 4137 |
| Click on any hostname to see more info about the system (e.g. compilers) (*) as reported by 'uname -p', except on Windows and Mac OS X | ||||
|
To the developers/maintainers of the ChIPseeker package: - Please allow up to 24 hours (and sometimes 48 hours) for your latest push to git@git.bioconductor.org:packages/ChIPseeker.git to reflect on this report. See How and When does the builder pull? When will my changes propagate? for more information. - Make sure to use the following settings in order to reproduce any error or warning you see on this page. |
| Package 304/2083 | Hostname | OS / Arch | INSTALL | BUILD | CHECK | BUILD BIN | ||||||||
| ChIPseeker 1.30.3 (landing page) Guangchuang Yu
| nebbiolo2 | Linux (Ubuntu 20.04.4 LTS) / x86_64 | OK | OK | OK | |||||||||
| tokay2 | Windows Server 2012 R2 Standard / x64 | OK | OK | OK | OK | |||||||||
| machv2 | macOS 10.14.6 Mojave / x86_64 | OK | OK | OK | OK | |||||||||
| Package: ChIPseeker |
| Version: 1.30.3 |
| Command: C:\Users\biocbuild\bbs-3.14-bioc\R\bin\R.exe CMD check --force-multiarch --install=check:ChIPseeker.install-out.txt --library=C:\Users\biocbuild\bbs-3.14-bioc\R\library --no-vignettes --timings ChIPseeker_1.30.3.tar.gz |
| StartedAt: 2022-04-12 17:12:33 -0400 (Tue, 12 Apr 2022) |
| EndedAt: 2022-04-12 17:19:51 -0400 (Tue, 12 Apr 2022) |
| EllapsedTime: 437.7 seconds |
| RetCode: 0 |
| Status: OK |
| CheckDir: ChIPseeker.Rcheck |
| Warnings: 0 |
##############################################################################
##############################################################################
###
### Running command:
###
### C:\Users\biocbuild\bbs-3.14-bioc\R\bin\R.exe CMD check --force-multiarch --install=check:ChIPseeker.install-out.txt --library=C:\Users\biocbuild\bbs-3.14-bioc\R\library --no-vignettes --timings ChIPseeker_1.30.3.tar.gz
###
##############################################################################
##############################################################################
* using log directory 'C:/Users/biocbuild/bbs-3.14-bioc/meat/ChIPseeker.Rcheck'
* using R version 4.1.3 (2022-03-10)
* using platform: x86_64-w64-mingw32 (64-bit)
* using session charset: ISO8859-1
* using option '--no-vignettes'
* checking for file 'ChIPseeker/DESCRIPTION' ... OK
* checking extension type ... Package
* this is package 'ChIPseeker' version '1.30.3'
* package encoding: UTF-8
* checking package namespace information ... OK
* checking package dependencies ... OK
* checking if this is a source package ... OK
* checking if there is a namespace ... OK
* checking for hidden files and directories ... OK
* checking for portable file names ... OK
* checking whether package 'ChIPseeker' can be installed ... OK
* checking installed package size ... NOTE
installed size is 6.3Mb
sub-directories of 1Mb or more:
data 4.5Mb
* checking package directory ... OK
* checking 'build' directory ... OK
* checking DESCRIPTION meta-information ... OK
* checking top-level files ... OK
* checking for left-over files ... OK
* checking index information ... OK
* checking package subdirectories ... OK
* checking R files for non-ASCII characters ... OK
* checking R files for syntax errors ... OK
* loading checks for arch 'i386'
** checking whether the package can be loaded ... OK
** checking whether the package can be loaded with stated dependencies ... OK
** checking whether the package can be unloaded cleanly ... OK
** checking whether the namespace can be loaded with stated dependencies ... OK
** checking whether the namespace can be unloaded cleanly ... OK
* loading checks for arch 'x64'
** checking whether the package can be loaded ... OK
** checking whether the package can be loaded with stated dependencies ... OK
** checking whether the package can be unloaded cleanly ... OK
** checking whether the namespace can be loaded with stated dependencies ... OK
** checking whether the namespace can be unloaded cleanly ... OK
* checking dependencies in R code ... OK
* checking S3 generic/method consistency ... OK
* checking replacement functions ... OK
* checking foreign function calls ... OK
* checking R code for possible problems ... OK
* checking Rd files ... OK
* checking Rd metadata ... OK
* checking Rd cross-references ... OK
* checking for missing documentation entries ... OK
* checking for code/documentation mismatches ... OK
* checking Rd \usage sections ... OK
* checking Rd contents ... OK
* checking for unstated dependencies in examples ... OK
* checking contents of 'data' directory ... OK
* checking data for non-ASCII characters ... OK
* checking data for ASCII and uncompressed saves ... OK
* checking files in 'vignettes' ... OK
* checking examples ...
** running examples for arch 'i386' ... OK
Examples with CPU (user + system) or elapsed time > 5s
user system elapsed
seq2gene 12.29 1.14 13.44
** running examples for arch 'x64' ... OK
Examples with CPU (user + system) or elapsed time > 5s
user system elapsed
seq2gene 14.13 0.56 14.69
* checking for unstated dependencies in 'tests' ... OK
* checking tests ...
** running tests for arch 'i386' ...
Running 'testthat.R'
OK
** running tests for arch 'x64' ...
Running 'testthat.R'
OK
* checking for unstated dependencies in vignettes ... OK
* checking package vignettes in 'inst/doc' ... OK
* checking running R code from vignettes ... SKIPPED
* checking re-building of vignette outputs ... SKIPPED
* checking PDF version of manual ... OK
* DONE
Status: 1 NOTE
See
'C:/Users/biocbuild/bbs-3.14-bioc/meat/ChIPseeker.Rcheck/00check.log'
for details.
ChIPseeker.Rcheck/00install.out
##############################################################################
##############################################################################
###
### Running command:
###
### C:\cygwin\bin\curl.exe -O http://155.52.207.166/BBS/3.14/bioc/src/contrib/ChIPseeker_1.30.3.tar.gz && rm -rf ChIPseeker.buildbin-libdir && mkdir ChIPseeker.buildbin-libdir && C:\Users\biocbuild\bbs-3.14-bioc\R\bin\R.exe CMD INSTALL --merge-multiarch --build --library=ChIPseeker.buildbin-libdir ChIPseeker_1.30.3.tar.gz && C:\Users\biocbuild\bbs-3.14-bioc\R\bin\R.exe CMD INSTALL ChIPseeker_1.30.3.zip && rm ChIPseeker_1.30.3.tar.gz ChIPseeker_1.30.3.zip
###
##############################################################################
##############################################################################
% Total % Received % Xferd Average Speed Time Time Time Current
Dload Upload Total Spent Left Speed
0 0 0 0 0 0 0 0 --:--:-- --:--:-- --:--:-- 0
10 6076k 10 656k 0 0 1030k 0 0:00:05 --:--:-- 0:00:05 1030k
43 6076k 43 2632k 0 0 1604k 0 0:00:03 0:00:01 0:00:02 1604k
90 6076k 90 5501k 0 0 2079k 0 0:00:02 0:00:02 --:--:-- 2079k
100 6076k 100 6076k 0 0 2172k 0 0:00:02 0:00:02 --:--:-- 2172k
install for i386
* installing *source* package 'ChIPseeker' ...
** using staged installation
** R
** data
** inst
** byte-compile and prepare package for lazy loading
** help
*** installing help indices
converting help for package 'ChIPseeker'
finding HTML links ... done
ChIPseeker-package html
annotatePeak html
as.GRanges html
as.data.frame.csAnno html
check_upstream_and_downstream html
combine_csAnno html
covplot html
csAnno-class html
dotFun html
downloadGEObedFiles html
downloadGSMbedFiles html
dropAnno html
enrichAnnoOverlap html
enrichPeakOverlap html
getBioRegion html
getGEOInfo html
getGEOgenomeVersion html
getGEOspecies html
getGeneAnno html
getGenomicAnnotation html
getNearestFeatureIndicesAndDistances html
getPromoters html
getSampleFiles html
getTagMatrix html
getTagMatrix.binning.internal html
getTagMatrix.internal html
info html
overlap html
peakHeatmap html
plotAnnoBar-methods html
plotAnnoBar html
plotAnnoPie-methods html
plotAnnoPie html
plotAvgProf html
plotAvgProf.binning html
plotAvgProf2 html
plotDistToTSS-methods html
plotDistToTSS.data.frame html
plotPeakProf html
plotPeakProf2 html
readPeakFile html
reexports html
seq2gene html
show-methods html
shuffle html
tagHeatmap html
upsetplot-methods html
vennpie-methods html
vennplot html
vennplot.peakfile html
** building package indices
** installing vignettes
** testing if installed package can be loaded from temporary location
** testing if installed package can be loaded from final location
** testing if installed package keeps a record of temporary installation path
install for x64
* installing *source* package 'ChIPseeker' ...
** testing if installed package can be loaded
* MD5 sums
packaged installation of 'ChIPseeker' as ChIPseeker_1.30.3.zip
* DONE (ChIPseeker)
* installing to library 'C:/Users/biocbuild/bbs-3.14-bioc/R/library'
package 'ChIPseeker' successfully unpacked and MD5 sums checked
|
ChIPseeker.Rcheck/tests_i386/testthat.Rout
R version 4.1.3 (2022-03-10) -- "One Push-Up"
Copyright (C) 2022 The R Foundation for Statistical Computing
Platform: i386-w64-mingw32/i386 (32-bit)
R is free software and comes with ABSOLUTELY NO WARRANTY.
You are welcome to redistribute it under certain conditions.
Type 'license()' or 'licence()' for distribution details.
R is a collaborative project with many contributors.
Type 'contributors()' for more information and
'citation()' on how to cite R or R packages in publications.
Type 'demo()' for some demos, 'help()' for on-line help, or
'help.start()' for an HTML browser interface to help.
Type 'q()' to quit R.
> library(testthat)
> library(ChIPseeker)
ChIPseeker v1.30.3 For help: https://guangchuangyu.github.io/software/ChIPseeker
If you use ChIPseeker in published research, please cite:
Guangchuang Yu, Li-Gen Wang, Qing-Yu He. ChIPseeker: an R/Bioconductor package for ChIP peak annotation, comparison and visualization. Bioinformatics 2015, 31(14):2382-2383
>
> test_check("ChIPseeker")
[ FAIL 0 | WARN 0 | SKIP 0 | PASS 8 ]
>
> proc.time()
user system elapsed
15.03 1.34 16.40
|
ChIPseeker.Rcheck/tests_x64/testthat.Rout
R version 4.1.3 (2022-03-10) -- "One Push-Up"
Copyright (C) 2022 The R Foundation for Statistical Computing
Platform: x86_64-w64-mingw32/x64 (64-bit)
R is free software and comes with ABSOLUTELY NO WARRANTY.
You are welcome to redistribute it under certain conditions.
Type 'license()' or 'licence()' for distribution details.
R is a collaborative project with many contributors.
Type 'contributors()' for more information and
'citation()' on how to cite R or R packages in publications.
Type 'demo()' for some demos, 'help()' for on-line help, or
'help.start()' for an HTML browser interface to help.
Type 'q()' to quit R.
> library(testthat)
> library(ChIPseeker)
ChIPseeker v1.30.3 For help: https://guangchuangyu.github.io/software/ChIPseeker
If you use ChIPseeker in published research, please cite:
Guangchuang Yu, Li-Gen Wang, Qing-Yu He. ChIPseeker: an R/Bioconductor package for ChIP peak annotation, comparison and visualization. Bioinformatics 2015, 31(14):2382-2383
>
> test_check("ChIPseeker")
[ FAIL 0 | WARN 0 | SKIP 0 | PASS 8 ]
>
> proc.time()
user system elapsed
15.17 0.82 15.98
|
|
ChIPseeker.Rcheck/examples_i386/ChIPseeker-Ex.timings
|
ChIPseeker.Rcheck/examples_x64/ChIPseeker-Ex.timings
|