| Back to Multiple platform build/check report for BioC 3.14 |
|
This page was generated on 2022-04-13 12:06:19 -0400 (Wed, 13 Apr 2022).
| Hostname | OS | Arch (*) | R version | Installed pkgs |
|---|---|---|---|---|
| nebbiolo2 | Linux (Ubuntu 20.04.4 LTS) | x86_64 | 4.1.3 (2022-03-10) -- "One Push-Up" | 4324 |
| tokay2 | Windows Server 2012 R2 Standard | x64 | 4.1.3 (2022-03-10) -- "One Push-Up" | 4077 |
| machv2 | macOS 10.14.6 Mojave | x86_64 | 4.1.3 (2022-03-10) -- "One Push-Up" | 4137 |
| Click on any hostname to see more info about the system (e.g. compilers) (*) as reported by 'uname -p', except on Windows and Mac OS X | ||||
|
To the developers/maintainers of the ChIPpeakAnno package: - Please allow up to 24 hours (and sometimes 48 hours) for your latest push to git@git.bioconductor.org:packages/ChIPpeakAnno.git to reflect on this report. See How and When does the builder pull? When will my changes propagate? for more information. - Make sure to use the following settings in order to reproduce any error or warning you see on this page. |
| Package 302/2083 | Hostname | OS / Arch | INSTALL | BUILD | CHECK | BUILD BIN | ||||||||
| ChIPpeakAnno 3.28.1 (landing page) Jianhong Ou
| nebbiolo2 | Linux (Ubuntu 20.04.4 LTS) / x86_64 | OK | OK | OK | |||||||||
| tokay2 | Windows Server 2012 R2 Standard / x64 | OK | OK | OK | OK | |||||||||
| machv2 | macOS 10.14.6 Mojave / x86_64 | OK | OK | OK | OK | |||||||||
| Package: ChIPpeakAnno |
| Version: 3.28.1 |
| Command: rm -rf ChIPpeakAnno.buildbin-libdir && mkdir ChIPpeakAnno.buildbin-libdir && C:\Users\biocbuild\bbs-3.14-bioc\R\bin\R.exe CMD INSTALL --merge-multiarch --build --library=ChIPpeakAnno.buildbin-libdir ChIPpeakAnno_3.28.1.tar.gz |
| StartedAt: 2022-04-13 05:50:22 -0400 (Wed, 13 Apr 2022) |
| EndedAt: 2022-04-13 05:53:44 -0400 (Wed, 13 Apr 2022) |
| EllapsedTime: 201.8 seconds |
| RetCode: 0 |
| Status: OK |
| PackageFile: ChIPpeakAnno_3.28.1.zip |
| PackageFileSize: 18.44 MiB |
##############################################################################
##############################################################################
###
### Running command:
###
### rm -rf ChIPpeakAnno.buildbin-libdir && mkdir ChIPpeakAnno.buildbin-libdir && C:\Users\biocbuild\bbs-3.14-bioc\R\bin\R.exe CMD INSTALL --merge-multiarch --build --library=ChIPpeakAnno.buildbin-libdir ChIPpeakAnno_3.28.1.tar.gz
###
##############################################################################
##############################################################################
install for i386
* installing *source* package 'ChIPpeakAnno' ...
** using staged installation
** R
** data
*** moving datasets to lazyload DB
** inst
** byte-compile and prepare package for lazy loading
** help
*** installing help indices
converting help for package 'ChIPpeakAnno'
finding HTML links ... done
ChIPpeakAnno-deprecated html
ChIPpeakAnno-package html
EnsDb2GR html
ExonPlusUtr.human.GRCh37 html
HOT.spots html
IDRfilter html
Peaks.Ste12.Replicate1 html
Peaks.Ste12.Replicate2 html
Peaks.Ste12.Replicate3 html
TSS.human.GRCh37 html
TSS.human.GRCh38 html
TSS.human.NCBI36 html
TSS.mouse.GRCm38 html
TSS.mouse.NCBIM37 html
TSS.rat.RGSC3.4 html
TSS.rat.Rnor_5.0 html
TSS.zebrafish.Zv8 html
TSS.zebrafish.Zv9 html
TxDb2GR html
addAncestors html
addGeneIDs html
addMetadata html
annoGR html
annoPeaks html
annotatePeakInBatch html
annotatedPeak html
assignChromosomeRegion html
bdp html
binOverFeature html
binOverGene html
binOverRegions html
bindist html
cntOverlaps html
condenseMatrixByColnames html
convert2EntrezID html
countPatternInSeqs html
cumulativePercentage html
downstreams html
egOrgMap html
enrichedGO html
enrichmentPlot html
estFragmentLength html
estLibSize html
featureAlignedDistribution html
featureAlignedExtendSignal html
featureAlignedHeatmap html
featureAlignedSignal html
findEnhancers html
findMotifsInPromoterSeqs html
findOverlappingPeaks html
findOverlapsOfPeaks html
genomicElementDistribution html
genomicElementUpSetR html
getAllPeakSequence html
getAnnotation html
getEnrichedGO html
getEnrichedPATH html
getGO html
getGeneSeq html
getUniqueGOidCount html
getVennCounts html
hyperGtest html
makeVennDiagram html
mergePlusMinusPeaks html
metagenePlot html
myPeakList html
oligoFrequency html
oligoSummary html
peakPermTest html
peaksNearBDP html
permPool html
pie1 html
plotBinOverRegions html
preparePool html
reCenterPeaks html
summarizeOverlapsByBins html
summarizePatternInPeaks html
tileCount html
tileGRanges html
toGRanges html
translatePattern html
wgEncodeTfbsV3 html
write2FASTA html
xget html
** building package indices
** installing vignettes
** testing if installed package can be loaded from temporary location
** testing if installed package can be loaded from final location
** testing if installed package keeps a record of temporary installation path
install for x64
* installing *source* package 'ChIPpeakAnno' ...
** testing if installed package can be loaded
* MD5 sums
packaged installation of 'ChIPpeakAnno' as ChIPpeakAnno_3.28.1.zip
* DONE (ChIPpeakAnno)