| Back to Multiple platform build/check report for BioC 3.14 |
|
This page was generated on 2022-04-13 12:06:17 -0400 (Wed, 13 Apr 2022).
| Hostname | OS | Arch (*) | R version | Installed pkgs |
|---|---|---|---|---|
| nebbiolo2 | Linux (Ubuntu 20.04.4 LTS) | x86_64 | 4.1.3 (2022-03-10) -- "One Push-Up" | 4324 |
| tokay2 | Windows Server 2012 R2 Standard | x64 | 4.1.3 (2022-03-10) -- "One Push-Up" | 4077 |
| machv2 | macOS 10.14.6 Mojave | x86_64 | 4.1.3 (2022-03-10) -- "One Push-Up" | 4137 |
| Click on any hostname to see more info about the system (e.g. compilers) (*) as reported by 'uname -p', except on Windows and Mac OS X | ||||
|
To the developers/maintainers of the CancerSubtypes package: - Please allow up to 24 hours (and sometimes 48 hours) for your latest push to git@git.bioconductor.org:packages/CancerSubtypes.git to reflect on this report. See How and When does the builder pull? When will my changes propagate? for more information. - Make sure to use the following settings in order to reproduce any error or warning you see on this page. |
| Package 243/2083 | Hostname | OS / Arch | INSTALL | BUILD | CHECK | BUILD BIN | ||||||||
| CancerSubtypes 1.20.0 (landing page) Taosheng Xu
| nebbiolo2 | Linux (Ubuntu 20.04.4 LTS) / x86_64 | OK | OK | OK | |||||||||
| tokay2 | Windows Server 2012 R2 Standard / x64 | OK | OK | OK | OK | |||||||||
| machv2 | macOS 10.14.6 Mojave / x86_64 | OK | OK | OK | OK | |||||||||
| Package: CancerSubtypes |
| Version: 1.20.0 |
| Command: C:\cygwin\bin\curl.exe -O http://155.52.207.166/BBS/3.14/bioc/src/contrib/CancerSubtypes_1.20.0.tar.gz && rm -rf CancerSubtypes.buildbin-libdir && mkdir CancerSubtypes.buildbin-libdir && C:\Users\biocbuild\bbs-3.14-bioc\R\bin\R.exe CMD INSTALL --merge-multiarch --build --library=CancerSubtypes.buildbin-libdir CancerSubtypes_1.20.0.tar.gz && C:\Users\biocbuild\bbs-3.14-bioc\R\bin\R.exe CMD INSTALL CancerSubtypes_1.20.0.zip && rm CancerSubtypes_1.20.0.tar.gz CancerSubtypes_1.20.0.zip |
| StartedAt: 2022-04-12 04:57:07 -0400 (Tue, 12 Apr 2022) |
| EndedAt: 2022-04-12 04:59:33 -0400 (Tue, 12 Apr 2022) |
| EllapsedTime: 146.1 seconds |
| RetCode: 0 |
| Status: OK |
##############################################################################
##############################################################################
###
### Running command:
###
### C:\cygwin\bin\curl.exe -O http://155.52.207.166/BBS/3.14/bioc/src/contrib/CancerSubtypes_1.20.0.tar.gz && rm -rf CancerSubtypes.buildbin-libdir && mkdir CancerSubtypes.buildbin-libdir && C:\Users\biocbuild\bbs-3.14-bioc\R\bin\R.exe CMD INSTALL --merge-multiarch --build --library=CancerSubtypes.buildbin-libdir CancerSubtypes_1.20.0.tar.gz && C:\Users\biocbuild\bbs-3.14-bioc\R\bin\R.exe CMD INSTALL CancerSubtypes_1.20.0.zip && rm CancerSubtypes_1.20.0.tar.gz CancerSubtypes_1.20.0.zip
###
##############################################################################
##############################################################################
% Total % Received % Xferd Average Speed Time Time Time Current
Dload Upload Total Spent Left Speed
0 0 0 0 0 0 0 0 --:--:-- --:--:-- --:--:-- 0
37 2101k 37 793k 0 0 1326k 0 0:00:01 --:--:-- 0:00:01 1326k
100 2101k 100 2101k 0 0 1760k 0 0:00:01 0:00:01 --:--:-- 1761k
install for i386
* installing *source* package 'CancerSubtypes' ...
** using staged installation
** R
** data
** inst
** byte-compile and prepare package for lazy loading
** help
*** installing help indices
converting help for package 'CancerSubtypes'
finding HTML links ... done
DiffExp.limma html
ExecuteCC html
ExecuteCNMF html
finding level-2 HTML links ... done
ExecuteSNF.CC html
ExecuteSNF html
ExecuteWSNF html
ExecuteiCluster html
FSbyCox html
FSbyMAD html
FSbyPCA html
FSbyVar html
GeneExp html
Ranking html
affinityMatrix html
data.checkDistribution html
data.imputation html
data.normalization html
dist2 html
drawHeatmap html
miRNAExp html
saveFigure html
sigclustTest html
silhouette_SimilarityMatrix html
spectralAlg html
status html
survAnalysis html
time html
** building package indices
** installing vignettes
** testing if installed package can be loaded from temporary location
** testing if installed package can be loaded from final location
** testing if installed package keeps a record of temporary installation path
install for x64
* installing *source* package 'CancerSubtypes' ...
** testing if installed package can be loaded
* MD5 sums
packaged installation of 'CancerSubtypes' as CancerSubtypes_1.20.0.zip
* DONE (CancerSubtypes)
* installing to library 'C:/Users/biocbuild/bbs-3.14-bioc/R/library'
package 'CancerSubtypes' successfully unpacked and MD5 sums checked