| Back to Multiple platform build/check report for BioC 3.14 |
|
This page was generated on 2022-04-13 12:06:24 -0400 (Wed, 13 Apr 2022).
| Hostname | OS | Arch (*) | R version | Installed pkgs |
|---|---|---|---|---|
| nebbiolo2 | Linux (Ubuntu 20.04.4 LTS) | x86_64 | 4.1.3 (2022-03-10) -- "One Push-Up" | 4324 |
| tokay2 | Windows Server 2012 R2 Standard | x64 | 4.1.3 (2022-03-10) -- "One Push-Up" | 4077 |
| machv2 | macOS 10.14.6 Mojave | x86_64 | 4.1.3 (2022-03-10) -- "One Push-Up" | 4137 |
| Click on any hostname to see more info about the system (e.g. compilers) (*) as reported by 'uname -p', except on Windows and Mac OS X | ||||
|
To the developers/maintainers of the CSAR package: - Please allow up to 24 hours (and sometimes 48 hours) for your latest push to git@git.bioconductor.org:packages/CSAR.git to reflect on this report. See How and When does the builder pull? When will my changes propagate? for more information. - Make sure to use the following settings in order to reproduce any error or warning you see on this page. |
| Package 421/2083 | Hostname | OS / Arch | INSTALL | BUILD | CHECK | BUILD BIN | ||||||||
| CSAR 1.46.0 (landing page) Jose M Muino
| nebbiolo2 | Linux (Ubuntu 20.04.4 LTS) / x86_64 | OK | OK | OK | |||||||||
| tokay2 | Windows Server 2012 R2 Standard / x64 | OK | OK | OK | OK | |||||||||
| machv2 | macOS 10.14.6 Mojave / x86_64 | OK | OK | OK | OK | |||||||||
| Package: CSAR |
| Version: 1.46.0 |
| Command: C:\Users\biocbuild\bbs-3.14-bioc\R\bin\R.exe CMD check --force-multiarch --install=check:CSAR.install-out.txt --library=C:\Users\biocbuild\bbs-3.14-bioc\R\library --no-vignettes --timings CSAR_1.46.0.tar.gz |
| StartedAt: 2022-04-12 18:00:02 -0400 (Tue, 12 Apr 2022) |
| EndedAt: 2022-04-12 18:04:22 -0400 (Tue, 12 Apr 2022) |
| EllapsedTime: 260.4 seconds |
| RetCode: 0 |
| Status: OK |
| CheckDir: CSAR.Rcheck |
| Warnings: 0 |
##############################################################################
##############################################################################
###
### Running command:
###
### C:\Users\biocbuild\bbs-3.14-bioc\R\bin\R.exe CMD check --force-multiarch --install=check:CSAR.install-out.txt --library=C:\Users\biocbuild\bbs-3.14-bioc\R\library --no-vignettes --timings CSAR_1.46.0.tar.gz
###
##############################################################################
##############################################################################
* using log directory 'C:/Users/biocbuild/bbs-3.14-bioc/meat/CSAR.Rcheck'
* using R version 4.1.3 (2022-03-10)
* using platform: x86_64-w64-mingw32 (64-bit)
* using session charset: ISO8859-1
* using option '--no-vignettes'
* checking for file 'CSAR/DESCRIPTION' ... OK
* checking extension type ... Package
* this is package 'CSAR' version '1.46.0'
* checking package namespace information ... OK
* checking package dependencies ... OK
* checking if this is a source package ... OK
* checking if there is a namespace ... OK
* checking for hidden files and directories ... OK
* checking for portable file names ... OK
* checking whether package 'CSAR' can be installed ... OK
* checking installed package size ... OK
* checking package directory ... OK
* checking 'build' directory ... OK
* checking DESCRIPTION meta-information ... OK
* checking top-level files ... OK
* checking for left-over files ... OK
* checking index information ... OK
* checking package subdirectories ... OK
* checking R files for non-ASCII characters ... OK
* checking R files for syntax errors ... OK
* loading checks for arch 'i386'
** checking whether the package can be loaded ... OK
** checking whether the package can be loaded with stated dependencies ... OK
** checking whether the package can be unloaded cleanly ... OK
** checking whether the namespace can be loaded with stated dependencies ... OK
** checking whether the namespace can be unloaded cleanly ... OK
* loading checks for arch 'x64'
** checking whether the package can be loaded ... OK
** checking whether the package can be loaded with stated dependencies ... OK
** checking whether the package can be unloaded cleanly ... OK
** checking whether the namespace can be loaded with stated dependencies ... OK
** checking whether the namespace can be unloaded cleanly ... OK
* checking dependencies in R code ... OK
* checking S3 generic/method consistency ... OK
* checking replacement functions ... OK
* checking foreign function calls ... OK
* checking R code for possible problems ... NOTE
mappedReads2Nhits: no visible global function definition for
'chromosome'
mappedReads2Nhits: no visible global function definition for 'position'
Undefined global functions or variables:
chromosome position
* checking Rd files ... OK
* checking Rd metadata ... OK
* checking Rd cross-references ... OK
* checking for missing documentation entries ... OK
* checking for code/documentation mismatches ... OK
* checking Rd \usage sections ... OK
* checking Rd contents ... OK
* checking for unstated dependencies in examples ... OK
* checking contents of 'data' directory ... OK
* checking data for non-ASCII characters ... OK
* checking LazyData ... OK
* checking data for ASCII and uncompressed saves ... OK
* checking line endings in C/C++/Fortran sources/headers ... OK
* checking compiled code ... NOTE
Note: information on .o files for i386 is not available
Note: information on .o files for x64 is not available
File 'C:/Users/biocbuild/bbs-3.14-bioc/R/library/CSAR/libs/i386/CSAR.dll':
Found 'abort', possibly from 'abort' (C), 'runtime' (Fortran)
File 'C:/Users/biocbuild/bbs-3.14-bioc/R/library/CSAR/libs/x64/CSAR.dll':
Found 'abort', possibly from 'abort' (C), 'runtime' (Fortran)
Compiled code should not call entry points which might terminate R nor
write to stdout/stderr instead of to the console, nor use Fortran I/O
nor system RNGs. The detected symbols are linked into the code but
might come from libraries and not actually be called.
See 'Writing portable packages' in the 'Writing R Extensions' manual.
* checking files in 'vignettes' ... OK
* checking examples ...
** running examples for arch 'i386' ... OK
Examples with CPU (user + system) or elapsed time > 5s
user system elapsed
CSAR-package 13.57 0.06 13.65
permutatedWinScores 12.32 0.03 12.36
getThreshold 12.28 0.03 12.32
getPermutatedWinScores 11.33 0.05 11.37
** running examples for arch 'x64' ... OK
Examples with CPU (user + system) or elapsed time > 5s
user system elapsed
CSAR-package 16.28 0.02 16.30
getThreshold 15.28 0.05 15.32
permutatedWinScores 13.41 0.04 13.45
getPermutatedWinScores 12.44 0.05 12.49
sigWin 5.72 0.00 5.71
distance2Genes 5.08 0.00 5.08
* checking for unstated dependencies in vignettes ... OK
* checking package vignettes in 'inst/doc' ... OK
* checking running R code from vignettes ... SKIPPED
* checking re-building of vignette outputs ... SKIPPED
* checking PDF version of manual ... OK
* DONE
Status: 2 NOTEs
See
'C:/Users/biocbuild/bbs-3.14-bioc/meat/CSAR.Rcheck/00check.log'
for details.
CSAR.Rcheck/00install.out
##############################################################################
##############################################################################
###
### Running command:
###
### C:\cygwin\bin\curl.exe -O http://155.52.207.166/BBS/3.14/bioc/src/contrib/CSAR_1.46.0.tar.gz && rm -rf CSAR.buildbin-libdir && mkdir CSAR.buildbin-libdir && C:\Users\biocbuild\bbs-3.14-bioc\R\bin\R.exe CMD INSTALL --merge-multiarch --build --library=CSAR.buildbin-libdir CSAR_1.46.0.tar.gz && C:\Users\biocbuild\bbs-3.14-bioc\R\bin\R.exe CMD INSTALL CSAR_1.46.0.zip && rm CSAR_1.46.0.tar.gz CSAR_1.46.0.zip
###
##############################################################################
##############################################################################
% Total % Received % Xferd Average Speed Time Time Time Current
Dload Upload Total Spent Left Speed
0 0 0 0 0 0 0 0 --:--:-- --:--:-- --:--:-- 0
62 25571 62 16013 0 0 133k 0 --:--:-- --:--:-- --:--:-- 133k
100 25571 100 25571 0 0 213k 0 --:--:-- --:--:-- --:--:-- 213k
install for i386
* installing *source* package 'CSAR' ...
** using staged installation
** libs
"C:/rtools40/mingw32/bin/"gcc -I"C:/Users/BIOCBU~1/BBS-3~1.14-/R/include" -DNDEBUG -I"C:/extsoft/include" -O2 -Wall -std=gnu99 -mfpmath=sse -msse2 -mstackrealign -c CSAR.c -o CSAR.o
C:/rtools40/mingw32/bin/gcc -shared -s -static-libgcc -o CSAR.dll tmp.def CSAR.o -LC:/extsoft/lib/i386 -LC:/extsoft/lib -LC:/Users/BIOCBU~1/BBS-3~1.14-/R/bin/i386 -lR
installing to C:/Users/biocbuild/bbs-3.14-bioc/meat/CSAR.buildbin-libdir/00LOCK-CSAR/00new/CSAR/libs/i386
** R
** data
*** moving datasets to lazyload DB
** inst
** byte-compile and prepare package for lazy loading
** help
*** installing help indices
converting help for package 'CSAR'
finding HTML links ... done
CSAR-package html
ChIPseqScore html
distance2Genes html
genesWithPeaks html
getPermutatedWinScores html
getThreshold html
loadMappedReads html
mappedReads2Nhits html
permutatedWinScores html
sampleSEP3_test html
score2wig html
sigWin html
** building package indices
** installing vignettes
** testing if installed package can be loaded from temporary location
** testing if installed package can be loaded from final location
** testing if installed package keeps a record of temporary installation path
install for x64
* installing *source* package 'CSAR' ...
** libs
"C:/rtools40/mingw64/bin/"gcc -I"C:/Users/BIOCBU~1/BBS-3~1.14-/R/include" -DNDEBUG -I"C:/extsoft/include" -O2 -Wall -std=gnu99 -mfpmath=sse -msse2 -mstackrealign -c CSAR.c -o CSAR.o
C:/rtools40/mingw64/bin/gcc -shared -s -static-libgcc -o CSAR.dll tmp.def CSAR.o -LC:/extsoft/lib/x64 -LC:/extsoft/lib -LC:/Users/BIOCBU~1/BBS-3~1.14-/R/bin/x64 -lR
installing to C:/Users/biocbuild/bbs-3.14-bioc/meat/CSAR.buildbin-libdir/CSAR/libs/x64
** testing if installed package can be loaded
* MD5 sums
packaged installation of 'CSAR' as CSAR_1.46.0.zip
* DONE (CSAR)
* installing to library 'C:/Users/biocbuild/bbs-3.14-bioc/R/library'
package 'CSAR' successfully unpacked and MD5 sums checked
|
CSAR.Rcheck/examples_i386/CSAR-Ex.timings
|
CSAR.Rcheck/examples_x64/CSAR-Ex.timings
|