| Back to Multiple platform build/check report for BioC 3.14 |
|
This page was generated on 2022-04-13 12:06:21 -0400 (Wed, 13 Apr 2022).
| Hostname | OS | Arch (*) | R version | Installed pkgs |
|---|---|---|---|---|
| nebbiolo2 | Linux (Ubuntu 20.04.4 LTS) | x86_64 | 4.1.3 (2022-03-10) -- "One Push-Up" | 4324 |
| tokay2 | Windows Server 2012 R2 Standard | x64 | 4.1.3 (2022-03-10) -- "One Push-Up" | 4077 |
| machv2 | macOS 10.14.6 Mojave | x86_64 | 4.1.3 (2022-03-10) -- "One Push-Up" | 4137 |
| Click on any hostname to see more info about the system (e.g. compilers) (*) as reported by 'uname -p', except on Windows and Mac OS X | ||||
|
To the developers/maintainers of the CNVrd2 package: - Please allow up to 24 hours (and sometimes 48 hours) for your latest push to git@git.bioconductor.org:packages/CNVrd2.git to reflect on this report. See How and When does the builder pull? When will my changes propagate? for more information. - Make sure to use the following settings in order to reproduce any error or warning you see on this page. |
| Package 362/2083 | Hostname | OS / Arch | INSTALL | BUILD | CHECK | BUILD BIN | ||||||||
| CNVrd2 1.32.0 (landing page) Hoang Tan Nguyen
| nebbiolo2 | Linux (Ubuntu 20.04.4 LTS) / x86_64 | OK | OK | OK | |||||||||
| tokay2 | Windows Server 2012 R2 Standard / x64 | OK | OK | OK | OK | |||||||||
| machv2 | macOS 10.14.6 Mojave / x86_64 | OK | OK | OK | OK | |||||||||
| Package: CNVrd2 |
| Version: 1.32.0 |
| Command: C:\cygwin\bin\curl.exe -O http://155.52.207.166/BBS/3.14/bioc/src/contrib/CNVrd2_1.32.0.tar.gz && rm -rf CNVrd2.buildbin-libdir && mkdir CNVrd2.buildbin-libdir && C:\Users\biocbuild\bbs-3.14-bioc\R\bin\R.exe CMD INSTALL --merge-multiarch --build --library=CNVrd2.buildbin-libdir CNVrd2_1.32.0.tar.gz && C:\Users\biocbuild\bbs-3.14-bioc\R\bin\R.exe CMD INSTALL CNVrd2_1.32.0.zip && rm CNVrd2_1.32.0.tar.gz CNVrd2_1.32.0.zip |
| StartedAt: 2022-04-12 06:16:45 -0400 (Tue, 12 Apr 2022) |
| EndedAt: 2022-04-12 06:18:18 -0400 (Tue, 12 Apr 2022) |
| EllapsedTime: 93.2 seconds |
| RetCode: 0 |
| Status: OK |
##############################################################################
##############################################################################
###
### Running command:
###
### C:\cygwin\bin\curl.exe -O http://155.52.207.166/BBS/3.14/bioc/src/contrib/CNVrd2_1.32.0.tar.gz && rm -rf CNVrd2.buildbin-libdir && mkdir CNVrd2.buildbin-libdir && C:\Users\biocbuild\bbs-3.14-bioc\R\bin\R.exe CMD INSTALL --merge-multiarch --build --library=CNVrd2.buildbin-libdir CNVrd2_1.32.0.tar.gz && C:\Users\biocbuild\bbs-3.14-bioc\R\bin\R.exe CMD INSTALL CNVrd2_1.32.0.zip && rm CNVrd2_1.32.0.tar.gz CNVrd2_1.32.0.zip
###
##############################################################################
##############################################################################
% Total % Received % Xferd Average Speed Time Time Time Current
Dload Upload Total Spent Left Speed
0 0 0 0 0 0 0 0 --:--:-- --:--:-- --:--:-- 0
32 2260k 32 730k 0 0 1226k 0 0:00:01 --:--:-- 0:00:01 1225k
100 2260k 100 2260k 0 0 1693k 0 0:00:01 0:00:01 --:--:-- 1694k
install for i386
* installing *source* package 'CNVrd2' ...
** using staged installation
** R
** data
** inst
** byte-compile and prepare package for lazy loading
** help
*** installing help indices
converting help for package 'CNVrd2'
finding HTML links ... done
CNVrd2-class html
CNVrd2-package html
calculateLDSNPandCNV html
ccl3l1data html
clusteringCNVs-class html
countReadInWindow-methods html
countReadInWindow html
emnormalCNV-methods html
emnormalCNV html
fcgr3bMXL html
groupBayesianCNVs html
groupCNVs-methods html
groupCNVs html
identifyPolymorphicRegion-methods html
identifyPolymorphicRegion html
numericOrNULL-class html
plotCNVrd2-methods html
plotCNVrd2 html
plotPolymorphicRegion-methods html
plotPolymorphicRegion html
searchGroupCNVs-methods html
searchGroupCNVs html
segmentSamples-methods html
segmentSamples html
segmentSamplesUsingPopInformation-methods
html
segmentSamplesUsingPopInformation html
vectorORfactor-class html
** building package indices
** installing vignettes
** testing if installed package can be loaded from temporary location
** testing if installed package can be loaded from final location
** testing if installed package keeps a record of temporary installation path
install for x64
* installing *source* package 'CNVrd2' ...
** testing if installed package can be loaded
* MD5 sums
packaged installation of 'CNVrd2' as CNVrd2_1.32.0.zip
* DONE (CNVrd2)
* installing to library 'C:/Users/biocbuild/bbs-3.14-bioc/R/library'
package 'CNVrd2' successfully unpacked and MD5 sums checked