| Back to Multiple platform build/check report for BioC 3.14 |
|
This page was generated on 2022-04-13 12:07:48 -0400 (Wed, 13 Apr 2022).
| Hostname | OS | Arch (*) | R version | Installed pkgs |
|---|---|---|---|---|
| nebbiolo2 | Linux (Ubuntu 20.04.4 LTS) | x86_64 | 4.1.3 (2022-03-10) -- "One Push-Up" | 4324 |
| tokay2 | Windows Server 2012 R2 Standard | x64 | 4.1.3 (2022-03-10) -- "One Push-Up" | 4077 |
| machv2 | macOS 10.14.6 Mojave | x86_64 | 4.1.3 (2022-03-10) -- "One Push-Up" | 4137 |
| Click on any hostname to see more info about the system (e.g. compilers) (*) as reported by 'uname -p', except on Windows and Mac OS X | ||||
|
To the developers/maintainers of the CNVPanelizer package: - Please allow up to 24 hours (and sometimes 48 hours) for your latest push to git@git.bioconductor.org:packages/CNVPanelizer.git to reflect on this report. See How and When does the builder pull? When will my changes propagate? for more information. - Make sure to use the following settings in order to reproduce any error or warning you see on this page. |
| Package 360/2083 | Hostname | OS / Arch | INSTALL | BUILD | CHECK | BUILD BIN | ||||||||
| CNVPanelizer 1.26.0 (landing page) Thomas Wolf
| nebbiolo2 | Linux (Ubuntu 20.04.4 LTS) / x86_64 | OK | OK | OK | |||||||||
| tokay2 | Windows Server 2012 R2 Standard / x64 | OK | OK | OK | OK | |||||||||
| machv2 | macOS 10.14.6 Mojave / x86_64 | OK | OK | OK | OK | |||||||||
| Package: CNVPanelizer |
| Version: 1.26.0 |
| Command: /Library/Frameworks/R.framework/Resources/bin/R CMD check --install=check:CNVPanelizer.install-out.txt --library=/Library/Frameworks/R.framework/Resources/library --no-vignettes --timings CNVPanelizer_1.26.0.tar.gz |
| StartedAt: 2022-04-12 11:46:16 -0400 (Tue, 12 Apr 2022) |
| EndedAt: 2022-04-12 11:51:16 -0400 (Tue, 12 Apr 2022) |
| EllapsedTime: 299.5 seconds |
| RetCode: 0 |
| Status: OK |
| CheckDir: CNVPanelizer.Rcheck |
| Warnings: 0 |
##############################################################################
##############################################################################
###
### Running command:
###
### /Library/Frameworks/R.framework/Resources/bin/R CMD check --install=check:CNVPanelizer.install-out.txt --library=/Library/Frameworks/R.framework/Resources/library --no-vignettes --timings CNVPanelizer_1.26.0.tar.gz
###
##############################################################################
##############################################################################
* using log directory ‘/Users/biocbuild/bbs-3.14-bioc/meat/CNVPanelizer.Rcheck’
* using R version 4.1.3 (2022-03-10)
* using platform: x86_64-apple-darwin17.0 (64-bit)
* using session charset: UTF-8
* using option ‘--no-vignettes’
* checking for file ‘CNVPanelizer/DESCRIPTION’ ... OK
* checking extension type ... Package
* this is package ‘CNVPanelizer’ version ‘1.26.0’
* checking package namespace information ... OK
* checking package dependencies ... OK
* checking if this is a source package ... OK
* checking if there is a namespace ... OK
* checking for hidden files and directories ... OK
* checking for portable file names ... OK
* checking for sufficient/correct file permissions ... OK
* checking whether package ‘CNVPanelizer’ can be installed ... OK
* checking installed package size ... OK
* checking package directory ... OK
* checking ‘build’ directory ... OK
* checking DESCRIPTION meta-information ... OK
* checking top-level files ... OK
* checking for left-over files ... OK
* checking index information ... OK
* checking package subdirectories ... OK
* checking R files for non-ASCII characters ... OK
* checking R files for syntax errors ... OK
* checking whether the package can be loaded ... OK
* checking whether the package can be loaded with stated dependencies ... OK
* checking whether the package can be unloaded cleanly ... OK
* checking whether the namespace can be loaded with stated dependencies ... OK
* checking whether the namespace can be unloaded cleanly ... OK
* checking dependencies in R code ... NOTE
Namespace in Imports field not imported from: ‘S4Vectors’
All declared Imports should be used.
Unexported object imported by a ':::' call: ‘utils:::format.object_size’
See the note in ?`:::` about the use of this operator.
* checking S3 generic/method consistency ... OK
* checking replacement functions ... OK
* checking foreign function calls ... OK
* checking R code for possible problems ... OK
* checking Rd files ... OK
* checking Rd metadata ... OK
* checking Rd cross-references ... OK
* checking for missing documentation entries ... OK
* checking for code/documentation mismatches ... OK
* checking Rd \usage sections ... OK
* checking Rd contents ... OK
* checking for unstated dependencies in examples ... OK
* checking contents of ‘data’ directory ... OK
* checking data for non-ASCII characters ... OK
* checking data for ASCII and uncompressed saves ... OK
* checking sizes of PDF files under ‘inst/doc’ ... OK
* checking files in ‘vignettes’ ... OK
* checking examples ... OK
Examples with CPU (user + system) or elapsed time > 5s
user system elapsed
PlotBootstrapDistributions 4.983 0.159 5.147
* checking for unstated dependencies in ‘tests’ ... OK
* checking tests ...
Running ‘runTests.R’
OK
* checking for unstated dependencies in vignettes ... OK
* checking package vignettes in ‘inst/doc’ ... OK
* checking running R code from vignettes ... SKIPPED
* checking re-building of vignette outputs ... SKIPPED
* checking PDF version of manual ... OK
* DONE
Status: 1 NOTE
See
‘/Users/biocbuild/bbs-3.14-bioc/meat/CNVPanelizer.Rcheck/00check.log’
for details.
CNVPanelizer.Rcheck/00install.out
############################################################################## ############################################################################## ### ### Running command: ### ### /Library/Frameworks/R.framework/Resources/bin/R CMD INSTALL CNVPanelizer ### ############################################################################## ############################################################################## * installing to library ‘/Library/Frameworks/R.framework/Versions/4.1/Resources/library’ * installing *source* package ‘CNVPanelizer’ ... ** using staged installation ** R ** data ** inst ** byte-compile and prepare package for lazy loading ** help *** installing help indices ** building package indices ** installing vignettes ** testing if installed package can be loaded from temporary location ** testing if installed package can be loaded from final location ** testing if installed package keeps a record of temporary installation path * DONE (CNVPanelizer)
CNVPanelizer.Rcheck/tests/runTests.Rout
R version 4.1.3 (2022-03-10) -- "One Push-Up"
Copyright (C) 2022 The R Foundation for Statistical Computing
Platform: x86_64-apple-darwin17.0 (64-bit)
R is free software and comes with ABSOLUTELY NO WARRANTY.
You are welcome to redistribute it under certain conditions.
Type 'license()' or 'licence()' for distribution details.
R is a collaborative project with many contributors.
Type 'contributors()' for more information and
'citation()' on how to cite R or R packages in publications.
Type 'demo()' for some demos, 'help()' for on-line help, or
'help.start()' for an HTML browser interface to help.
Type 'q()' to quit R.
> BiocGenerics:::testPackage("CNVPanelizer")
Attaching package: 'BiocGenerics'
The following objects are masked from 'package:stats':
IQR, mad, sd, var, xtabs
The following objects are masked from 'package:base':
Filter, Find, Map, Position, Reduce, anyDuplicated, append,
as.data.frame, basename, cbind, colnames, dirname, do.call,
duplicated, eval, evalq, get, grep, grepl, intersect, is.unsorted,
lapply, mapply, match, mget, order, paste, pmax, pmax.int, pmin,
pmin.int, rank, rbind, rownames, sapply, setdiff, sort, table,
tapply, union, unique, unsplit, which.max, which.min
Attaching package: 'S4Vectors'
The following objects are masked from 'package:base':
I, expand.grid, unname
Calculating Background for s1
Calculating Background for s2
Calculating Background for s3
Calculating Background for s4
Saving plot to '/tmp/RtmpJSWaQr/s1_plot.pdf'
Saving plot to '/tmp/RtmpJSWaQr/s2_plot.pdf'
Saving plot to '/tmp/RtmpJSWaQr/s3_plot.pdf'
Saving plot to '/tmp/RtmpJSWaQr/s4_plot.pdf'
Saving plot to '/tmp/RtmpJSWaQr/sample1.pdf'
Saving plot to '/tmp/RtmpJSWaQr/sample2.pdf'
Saving plot to '/tmp/RtmpJSWaQr/sample3.pdf'
Saving plot to '/tmp/RtmpJSWaQr/sample4.pdf'
Calculating Background for c:/somefile1.bam
Saving file to '/tmp/RtmpJSWaQr/samples.xlsx'
[1] "GENE 1: 0.166666666666667"
[1] "GENE 2: 0.356348322549899"
RUNIT TEST PROTOCOL -- Tue Apr 12 11:51:07 2022
***********************************************
Number of test functions: 9
Number of errors: 0
Number of failures: 0
1 Test Suite :
CNVPanelizer RUnit Tests - 9 test functions, 0 errors, 0 failures
Number of test functions: 9
Number of errors: 0
Number of failures: 0
>
> proc.time()
user system elapsed
59.208 0.981 60.217
CNVPanelizer.Rcheck/CNVPanelizer-Ex.timings
| name | user | system | elapsed | |
| Background | 0.860 | 0.025 | 0.885 | |
| BedToGenomicRanges | 0.000 | 0.001 | 0.001 | |
| BootList | 0.108 | 0.009 | 0.117 | |
| CNVPanelizerFromReadCounts | 0.000 | 0.001 | 0.000 | |
| CNVPanelizerFromReadCountsHelper | 0 | 0 | 0 | |
| CollectColumnFromAllReportTables | 0.000 | 0.000 | 0.001 | |
| CombinedNormalizedCounts | 0.040 | 0.008 | 0.048 | |
| IndexMultipleBams | 0 | 0 | 0 | |
| NormalizedCounts | 0.003 | 0.002 | 0.005 | |
| PlotBootstrapDistributions | 4.983 | 0.159 | 5.147 | |
| ReadCountsFromBam | 0.000 | 0.001 | 0.000 | |
| ReadXLSXToList | 0.000 | 0.000 | 0.001 | |
| ReportTables | 0.628 | 0.028 | 0.656 | |
| RunCNVPanelizerShiny | 0.000 | 0.000 | 0.001 | |
| SelectReferenceSetByInterquartileRange | 0.000 | 0.000 | 0.001 | |
| SelectReferenceSetByKmeans | 0.000 | 0.000 | 0.001 | |
| SelectReferenceSetByPercentil | 0.000 | 0.001 | 0.001 | |
| SelectReferenceSetFromReadCounts | 0 | 0 | 0 | |
| StatusHeatmap | 0 | 0 | 0 | |
| WriteListToXLSX | 0 | 0 | 0 | |