| Back to Multiple platform build/check report for BioC 3.14 |
|
This page was generated on 2022-04-13 12:06:21 -0400 (Wed, 13 Apr 2022).
| Hostname | OS | Arch (*) | R version | Installed pkgs |
|---|---|---|---|---|
| nebbiolo2 | Linux (Ubuntu 20.04.4 LTS) | x86_64 | 4.1.3 (2022-03-10) -- "One Push-Up" | 4324 |
| tokay2 | Windows Server 2012 R2 Standard | x64 | 4.1.3 (2022-03-10) -- "One Push-Up" | 4077 |
| machv2 | macOS 10.14.6 Mojave | x86_64 | 4.1.3 (2022-03-10) -- "One Push-Up" | 4137 |
| Click on any hostname to see more info about the system (e.g. compilers) (*) as reported by 'uname -p', except on Windows and Mac OS X | ||||
|
To the developers/maintainers of the CNORfeeder package: - Please allow up to 24 hours (and sometimes 48 hours) for your latest push to git@git.bioconductor.org:packages/CNORfeeder.git to reflect on this report. See How and When does the builder pull? When will my changes propagate? for more information. - Make sure to use the following settings in order to reproduce any error or warning you see on this page. |
| Package 352/2083 | Hostname | OS / Arch | INSTALL | BUILD | CHECK | BUILD BIN | ||||||||
| CNORfeeder 1.34.0 (landing page) E.Gjerga
| nebbiolo2 | Linux (Ubuntu 20.04.4 LTS) / x86_64 | OK | OK | OK | |||||||||
| tokay2 | Windows Server 2012 R2 Standard / x64 | OK | OK | OK | OK | |||||||||
| machv2 | macOS 10.14.6 Mojave / x86_64 | OK | OK | OK | OK | |||||||||
| Package: CNORfeeder |
| Version: 1.34.0 |
| Command: rm -rf CNORfeeder.buildbin-libdir && mkdir CNORfeeder.buildbin-libdir && C:\Users\biocbuild\bbs-3.14-bioc\R\bin\R.exe CMD INSTALL --merge-multiarch --build --library=CNORfeeder.buildbin-libdir CNORfeeder_1.34.0.tar.gz |
| StartedAt: 2022-04-13 05:54:06 -0400 (Wed, 13 Apr 2022) |
| EndedAt: 2022-04-13 05:54:34 -0400 (Wed, 13 Apr 2022) |
| EllapsedTime: 28.3 seconds |
| RetCode: 0 |
| Status: OK |
| PackageFile: CNORfeeder_1.34.0.zip |
| PackageFileSize: 2.065 MiB |
##############################################################################
##############################################################################
###
### Running command:
###
### rm -rf CNORfeeder.buildbin-libdir && mkdir CNORfeeder.buildbin-libdir && C:\Users\biocbuild\bbs-3.14-bioc\R\bin\R.exe CMD INSTALL --merge-multiarch --build --library=CNORfeeder.buildbin-libdir CNORfeeder_1.34.0.tar.gz
###
##############################################################################
##############################################################################
install for i386
* installing *source* package 'CNORfeeder' ...
** using staged installation
** R
** data
** inst
** byte-compile and prepare package for lazy loading
** help
*** installing help indices
converting help for package 'CNORfeeder'
finding HTML links ... done
Binference html
finding level-2 HTML links ... done
CNORfeeder-package html
MIinference html
PPINigraph html
UniprotIDdream html
buildFeederObjectDynamic html
cnolist html
database html
feederObject html
gaBinaryT1W html
identifyMisfitIndices html
indices html
integrateLinks html
integratedModel html
linksRanking html
makeBTables html
mapBTables2model html
mapDDN2model html
model html
runDynamicFeeder html
simData html
weighting html
** building package indices
** installing vignettes
** testing if installed package can be loaded from temporary location
** testing if installed package can be loaded from final location
** testing if installed package keeps a record of temporary installation path
install for x64
* installing *source* package 'CNORfeeder' ...
** testing if installed package can be loaded
* MD5 sums
packaged installation of 'CNORfeeder' as CNORfeeder_1.34.0.zip
* DONE (CNORfeeder)