| Back to Multiple platform build/check report for BioC 3.14 |
|
This page was generated on 2022-04-13 12:06:17 -0400 (Wed, 13 Apr 2022).
| Hostname | OS | Arch (*) | R version | Installed pkgs |
|---|---|---|---|---|
| nebbiolo2 | Linux (Ubuntu 20.04.4 LTS) | x86_64 | 4.1.3 (2022-03-10) -- "One Push-Up" | 4324 |
| tokay2 | Windows Server 2012 R2 Standard | x64 | 4.1.3 (2022-03-10) -- "One Push-Up" | 4077 |
| machv2 | macOS 10.14.6 Mojave | x86_64 | 4.1.3 (2022-03-10) -- "One Push-Up" | 4137 |
| Click on any hostname to see more info about the system (e.g. compilers) (*) as reported by 'uname -p', except on Windows and Mac OS X | ||||
|
To the developers/maintainers of the CARNIVAL package: - Please allow up to 24 hours (and sometimes 48 hours) for your latest push to git@git.bioconductor.org:packages/CARNIVAL.git to reflect on this report. See How and When does the builder pull? When will my changes propagate? for more information. - Make sure to use the following settings in order to reproduce any error or warning you see on this page. |
| Package 247/2083 | Hostname | OS / Arch | INSTALL | BUILD | CHECK | BUILD BIN | ||||||||
| CARNIVAL 2.4.0 (landing page) Olga Ivanova
| nebbiolo2 | Linux (Ubuntu 20.04.4 LTS) / x86_64 | OK | OK | OK | |||||||||
| tokay2 | Windows Server 2012 R2 Standard / x64 | OK | OK | OK | OK | |||||||||
| machv2 | macOS 10.14.6 Mojave / x86_64 | OK | OK | OK | OK | |||||||||
| Package: CARNIVAL |
| Version: 2.4.0 |
| Command: rm -rf CARNIVAL.buildbin-libdir && mkdir CARNIVAL.buildbin-libdir && C:\Users\biocbuild\bbs-3.14-bioc\R\bin\R.exe CMD INSTALL --merge-multiarch --build --library=CARNIVAL.buildbin-libdir CARNIVAL_2.4.0.tar.gz |
| StartedAt: 2022-04-13 05:46:46 -0400 (Wed, 13 Apr 2022) |
| EndedAt: 2022-04-13 05:47:12 -0400 (Wed, 13 Apr 2022) |
| EllapsedTime: 25.8 seconds |
| RetCode: 0 |
| Status: OK |
| PackageFile: CARNIVAL_2.4.0.zip |
| PackageFileSize: 409.2 KiB |
##############################################################################
##############################################################################
###
### Running command:
###
### rm -rf CARNIVAL.buildbin-libdir && mkdir CARNIVAL.buildbin-libdir && C:\Users\biocbuild\bbs-3.14-bioc\R\bin\R.exe CMD INSTALL --merge-multiarch --build --library=CARNIVAL.buildbin-libdir CARNIVAL_2.4.0.tar.gz
###
##############################################################################
##############################################################################
install for i386
* installing *source* package 'CARNIVAL' ...
** using staged installation
** R
** inst
** byte-compile and prepare package for lazy loading
** help
*** installing help indices
converting help for package 'CARNIVAL'
finding HTML links ... done
addPerturbationNodes html
checkCarnivalOptions html
checkData html
checkOptionsValidity html
checkPriorKnowledgeNetwork html
createInternalDataRepresentation html
defaultCbcSolveCarnivalOptions html
defaultCplexCarnivalOptions html
defaultCplexSpecificOptions html
defaultLpSolveCarnivalOptions html
generateLpFileCarnival html
getOptionsList html
getSupportedSolvers html
getSupportedSolversFunctions html
isInputValidCarnival html
parseCplexLog html
prepareForCarnivalRun html
preprocessPriorKnowledgeNetwork html
processSolution html
readOptions html
runCARNIVAL html
runFromLpCarnival html
runInverseCarnival html
runVanillaCarnival html
sendTaskToSolver html
setCarnivalOptions html
solveCarnival html
solveCarnivalFromLp html
solveWithCbc html
suggestedCbcSpecificOptions html
suggestedCplexSpecificOptions html
writeParsedData html
** building package indices
** installing vignettes
** testing if installed package can be loaded from temporary location
** testing if installed package can be loaded from final location
** testing if installed package keeps a record of temporary installation path
install for x64
* installing *source* package 'CARNIVAL' ...
** testing if installed package can be loaded
* MD5 sums
packaged installation of 'CARNIVAL' as CARNIVAL_2.4.0.zip
* DONE (CARNIVAL)