| Back to Multiple platform build/check report for BioC 3.14 |
|
This page was generated on 2022-04-13 12:05:08 -0400 (Wed, 13 Apr 2022).
| Hostname | OS | Arch (*) | R version | Installed pkgs |
|---|---|---|---|---|
| nebbiolo2 | Linux (Ubuntu 20.04.4 LTS) | x86_64 | 4.1.3 (2022-03-10) -- "One Push-Up" | 4324 |
| tokay2 | Windows Server 2012 R2 Standard | x64 | 4.1.3 (2022-03-10) -- "One Push-Up" | 4077 |
| machv2 | macOS 10.14.6 Mojave | x86_64 | 4.1.3 (2022-03-10) -- "One Push-Up" | 4137 |
| Click on any hostname to see more info about the system (e.g. compilers) (*) as reported by 'uname -p', except on Windows and Mac OS X | ||||
|
To the developers/maintainers of the CAGEr package: - Please allow up to 24 hours (and sometimes 48 hours) for your latest push to git@git.bioconductor.org:packages/CAGEr.git to reflect on this report. See How and When does the builder pull? When will my changes propagate? for more information. - Make sure to use the following settings in order to reproduce any error or warning you see on this page. |
| Package 237/2083 | Hostname | OS / Arch | INSTALL | BUILD | CHECK | BUILD BIN | ||||||||
| CAGEr 2.0.2 (landing page) Charles Plessy
| nebbiolo2 | Linux (Ubuntu 20.04.4 LTS) / x86_64 | OK | OK | OK | |||||||||
| tokay2 | Windows Server 2012 R2 Standard / x64 | OK | OK | OK | OK | |||||||||
| machv2 | macOS 10.14.6 Mojave / x86_64 | OK | OK | OK | OK | |||||||||
| Package: CAGEr |
| Version: 2.0.2 |
| Command: /home/biocbuild/bbs-3.14-bioc/R/bin/R CMD check --install=check:CAGEr.install-out.txt --library=/home/biocbuild/bbs-3.14-bioc/R/library --no-vignettes --timings CAGEr_2.0.2.tar.gz |
| StartedAt: 2022-04-12 06:40:22 -0400 (Tue, 12 Apr 2022) |
| EndedAt: 2022-04-12 06:47:00 -0400 (Tue, 12 Apr 2022) |
| EllapsedTime: 398.7 seconds |
| RetCode: 0 |
| Status: OK |
| CheckDir: CAGEr.Rcheck |
| Warnings: 0 |
##############################################################################
##############################################################################
###
### Running command:
###
### /home/biocbuild/bbs-3.14-bioc/R/bin/R CMD check --install=check:CAGEr.install-out.txt --library=/home/biocbuild/bbs-3.14-bioc/R/library --no-vignettes --timings CAGEr_2.0.2.tar.gz
###
##############################################################################
##############################################################################
* using log directory ‘/home/biocbuild/bbs-3.14-bioc/meat/CAGEr.Rcheck’
* using R version 4.1.3 (2022-03-10)
* using platform: x86_64-pc-linux-gnu (64-bit)
* using session charset: UTF-8
* using option ‘--no-vignettes’
* checking for file ‘CAGEr/DESCRIPTION’ ... OK
* this is package ‘CAGEr’ version ‘2.0.2’
* package encoding: UTF-8
* checking package namespace information ... OK
* checking package dependencies ... OK
* checking if this is a source package ... OK
* checking if there is a namespace ... OK
* checking for hidden files and directories ... OK
* checking for portable file names ... OK
* checking for sufficient/correct file permissions ... OK
* checking whether package ‘CAGEr’ can be installed ... OK
* checking installed package size ... OK
* checking package directory ... OK
* checking ‘build’ directory ... OK
* checking DESCRIPTION meta-information ... OK
* checking top-level files ... OK
* checking for left-over files ... OK
* checking index information ... OK
* checking package subdirectories ... OK
* checking R files for non-ASCII characters ... OK
* checking R files for syntax errors ... OK
* checking whether the package can be loaded ... OK
* checking whether the package can be loaded with stated dependencies ... OK
* checking whether the package can be unloaded cleanly ... OK
* checking whether the namespace can be loaded with stated dependencies ... OK
* checking whether the namespace can be unloaded cleanly ... OK
* checking dependencies in R code ... OK
* checking S3 generic/method consistency ... OK
* checking replacement functions ... OK
* checking foreign function calls ... OK
* checking R code for possible problems ... OK
* checking Rd files ... OK
* checking Rd metadata ... OK
* checking Rd cross-references ... OK
* checking for missing documentation entries ... OK
* checking for code/documentation mismatches ... OK
* checking Rd \usage sections ... OK
* checking Rd contents ... OK
* checking for unstated dependencies in examples ... OK
* checking contents of ‘data’ directory ... OK
* checking data for non-ASCII characters ... OK
* checking LazyData ... OK
* checking data for ASCII and uncompressed saves ... OK
* checking files in ‘vignettes’ ... OK
* checking examples ... OK
Examples with CPU (user + system) or elapsed time > 5s
user system elapsed
clusterCTSS 29.187 0.832 30.008
cumulativeCTSSdistribution 22.699 6.620 29.301
exportToTrack 28.657 0.192 28.849
quantilePositions 17.004 0.137 17.140
aggregateTagClusters 8.308 0.127 8.389
* checking for unstated dependencies in vignettes ... OK
* checking package vignettes in ‘inst/doc’ ... OK
* checking running R code from vignettes ... SKIPPED
* checking re-building of vignette outputs ... SKIPPED
* checking PDF version of manual ... OK
* DONE
Status: OK
CAGEr.Rcheck/00install.out
############################################################################## ############################################################################## ### ### Running command: ### ### /home/biocbuild/bbs-3.14-bioc/R/bin/R CMD INSTALL CAGEr ### ############################################################################## ############################################################################## * installing to library ‘/home/biocbuild/bbs-3.14-bioc/R/library’ * installing *source* package ‘CAGEr’ ... ** using staged installation ** R ** data *** moving datasets to lazyload DB ** inst ** byte-compile and prepare package for lazy loading ** help *** installing help indices ** building package indices ** installing vignettes ** testing if installed package can be loaded from temporary location ** testing if installed package can be loaded from final location ** testing if installed package keeps a record of temporary installation path * DONE (CAGEr)
CAGEr.Rcheck/CAGEr-Ex.timings
| name | user | system | elapsed | |
| CAGEexp-class | 4.251 | 0.252 | 4.504 | |
| CAGEr_Multicore | 1.107 | 0.035 | 1.159 | |
| CTSS-class | 0.338 | 0.004 | 0.342 | |
| CTSSclusteringMethod | 0 | 0 | 0 | |
| CTSScoordinates | 0.081 | 0.004 | 0.085 | |
| CTSSnormalizedTpm | 0.785 | 0.060 | 0.845 | |
| CTSStagCount | 0.827 | 0.012 | 0.840 | |
| CTSStoGenes | 0.511 | 0.004 | 0.515 | |
| CustomConsensusClusters | 1.143 | 0.027 | 1.171 | |
| GeneExpDESeq2 | 1.147 | 0.043 | 1.191 | |
| GeneExpSE | 0.010 | 0.000 | 0.011 | |
| QuantileWidthFunctions | 0.135 | 0.011 | 0.147 | |
| aggregateTagClusters | 8.308 | 0.127 | 8.389 | |
| annotateCTSS | 1.702 | 0.068 | 1.769 | |
| byCtss | 0.005 | 0.000 | 0.005 | |
| clusterCTSS | 29.187 | 0.832 | 30.008 | |
| consensusClusters | 0.167 | 0.000 | 0.168 | |
| consensusClustersDESeq2 | 0.276 | 0.008 | 0.284 | |
| consensusClustersTpm | 0.008 | 0.000 | 0.007 | |
| coverage-functions | 3.002 | 0.536 | 3.538 | |
| cumulativeCTSSdistribution | 22.699 | 6.620 | 29.301 | |
| distclu-functions | 3.825 | 0.819 | 4.597 | |
| exampleCAGEexp | 0 | 0 | 0 | |
| exportToTrack | 28.657 | 0.192 | 28.849 | |
| expressionClasses | 0.017 | 0.000 | 0.017 | |
| genomeName | 0 | 0 | 0 | |
| getCTSS | 1.179 | 0.024 | 1.203 | |
| getExpressionProfiles | 1.939 | 0.024 | 1.963 | |
| getShiftingPromoters | 0.001 | 0.000 | 0.000 | |
| hanabi | 0.222 | 0.004 | 0.226 | |
| hanabiPlot | 0.268 | 0.020 | 0.288 | |
| import.CAGEscanMolecule | 0 | 0 | 0 | |
| import.CTSS | 0.1 | 0.0 | 0.1 | |
| import.bam | 0.000 | 0.000 | 0.001 | |
| import.bedCTSS | 0 | 0 | 0 | |
| import.bedScore | 0.001 | 0.000 | 0.000 | |
| import.bedmolecule | 0 | 0 | 0 | |
| inputFiles | 0.001 | 0.000 | 0.000 | |
| inputFilesType | 0 | 0 | 0 | |
| librarySizes | 0 | 0 | 0 | |
| mapStats | 0.037 | 0.000 | 0.036 | |
| mergeCAGEsets | 2.504 | 0.004 | 2.508 | |
| mergeSamples | 0.688 | 0.004 | 0.692 | |
| moleculesGR2CTSS | 0.158 | 0.000 | 0.158 | |
| normalizeTagCount | 0.791 | 0.001 | 0.765 | |
| parseCAGEscanBlocksToGrangeTSS | 0.028 | 0.000 | 0.028 | |
| plotAnnot | 1.770 | 0.027 | 1.798 | |
| plotCorrelation | 0.484 | 0.001 | 0.484 | |
| plotExpressionProfiles | 3.826 | 0.079 | 3.906 | |
| plotInterquantileWidth | 2.608 | 0.012 | 2.621 | |
| plotReverseCumulatives | 0.411 | 0.004 | 0.370 | |
| quantilePositions | 17.004 | 0.137 | 17.140 | |
| ranges2annot | 0.384 | 0.004 | 0.388 | |
| ranges2genes | 0.057 | 0.000 | 0.057 | |
| ranges2names | 0.055 | 0.000 | 0.055 | |
| sampleLabels | 0.001 | 0.000 | 0.001 | |
| scoreShift | 0 | 0 | 0 | |
| seqNameTotalsSE | 0.011 | 0.000 | 0.011 | |
| setColors | 0.484 | 0.000 | 0.483 | |
| strandInvaders | 0.823 | 0.031 | 0.842 | |
| summariseChrExpr | 0.727 | 0.000 | 0.727 | |
| tagClusters | 0.145 | 0.003 | 0.148 | |