| Back to Multiple platform build/check report for BioC 3.14 |
|
This page was generated on 2022-04-13 12:05:08 -0400 (Wed, 13 Apr 2022).
| Hostname | OS | Arch (*) | R version | Installed pkgs |
|---|---|---|---|---|
| nebbiolo2 | Linux (Ubuntu 20.04.4 LTS) | x86_64 | 4.1.3 (2022-03-10) -- "One Push-Up" | 4324 |
| tokay2 | Windows Server 2012 R2 Standard | x64 | 4.1.3 (2022-03-10) -- "One Push-Up" | 4077 |
| machv2 | macOS 10.14.6 Mojave | x86_64 | 4.1.3 (2022-03-10) -- "One Push-Up" | 4137 |
| Click on any hostname to see more info about the system (e.g. compilers) (*) as reported by 'uname -p', except on Windows and Mac OS X | ||||
|
To the developers/maintainers of the CAGEfightR package: - Please allow up to 24 hours (and sometimes 48 hours) for your latest push to git@git.bioconductor.org:packages/CAGEfightR.git to reflect on this report. See How and When does the builder pull? When will my changes propagate? for more information. - Make sure to use the following settings in order to reproduce any error or warning you see on this page. |
| Package 235/2083 | Hostname | OS / Arch | INSTALL | BUILD | CHECK | BUILD BIN | ||||||||
| CAGEfightR 1.14.0 (landing page) Malte Thodberg
| nebbiolo2 | Linux (Ubuntu 20.04.4 LTS) / x86_64 | OK | OK | OK | |||||||||
| tokay2 | Windows Server 2012 R2 Standard / x64 | OK | OK | OK | OK | |||||||||
| machv2 | macOS 10.14.6 Mojave / x86_64 | OK | OK | OK | OK | |||||||||
| Package: CAGEfightR |
| Version: 1.14.0 |
| Command: /home/biocbuild/bbs-3.14-bioc/R/bin/R CMD check --install=check:CAGEfightR.install-out.txt --library=/home/biocbuild/bbs-3.14-bioc/R/library --no-vignettes --timings CAGEfightR_1.14.0.tar.gz |
| StartedAt: 2022-04-12 06:39:44 -0400 (Tue, 12 Apr 2022) |
| EndedAt: 2022-04-12 06:44:57 -0400 (Tue, 12 Apr 2022) |
| EllapsedTime: 313.6 seconds |
| RetCode: 0 |
| Status: OK |
| CheckDir: CAGEfightR.Rcheck |
| Warnings: 0 |
##############################################################################
##############################################################################
###
### Running command:
###
### /home/biocbuild/bbs-3.14-bioc/R/bin/R CMD check --install=check:CAGEfightR.install-out.txt --library=/home/biocbuild/bbs-3.14-bioc/R/library --no-vignettes --timings CAGEfightR_1.14.0.tar.gz
###
##############################################################################
##############################################################################
* using log directory ‘/home/biocbuild/bbs-3.14-bioc/meat/CAGEfightR.Rcheck’
* using R version 4.1.3 (2022-03-10)
* using platform: x86_64-pc-linux-gnu (64-bit)
* using session charset: UTF-8
* using option ‘--no-vignettes’
* checking for file ‘CAGEfightR/DESCRIPTION’ ... OK
* checking extension type ... Package
* this is package ‘CAGEfightR’ version ‘1.14.0’
* package encoding: UTF-8
* checking package namespace information ... OK
* checking package dependencies ... OK
* checking if this is a source package ... OK
* checking if there is a namespace ... OK
* checking for hidden files and directories ... OK
* checking for portable file names ... OK
* checking for sufficient/correct file permissions ... OK
* checking whether package ‘CAGEfightR’ can be installed ... OK
* checking installed package size ... OK
* checking package directory ... OK
* checking ‘build’ directory ... OK
* checking DESCRIPTION meta-information ... OK
* checking top-level files ... OK
* checking for left-over files ... OK
* checking index information ... OK
* checking package subdirectories ... OK
* checking R files for non-ASCII characters ... OK
* checking R files for syntax errors ... OK
* checking whether the package can be loaded ... OK
* checking whether the package can be loaded with stated dependencies ... OK
* checking whether the package can be unloaded cleanly ... OK
* checking whether the namespace can be loaded with stated dependencies ... OK
* checking whether the namespace can be unloaded cleanly ... OK
* checking dependencies in R code ... OK
* checking S3 generic/method consistency ... OK
* checking replacement functions ... OK
* checking foreign function calls ... OK
* checking R code for possible problems ... OK
* checking Rd files ... OK
* checking Rd metadata ... OK
* checking Rd cross-references ... OK
* checking for missing documentation entries ... OK
* checking for code/documentation mismatches ... OK
* checking Rd \usage sections ... OK
* checking Rd contents ... OK
* checking for unstated dependencies in examples ... OK
* checking contents of ‘data’ directory ... OK
* checking data for non-ASCII characters ... OK
* checking LazyData ... OK
* checking data for ASCII and uncompressed saves ... OK
* checking files in ‘vignettes’ ... OK
* checking examples ... OK
Examples with CPU (user + system) or elapsed time > 5s
user system elapsed
findLinks 4.49 1.035 4.61
* checking for unstated dependencies in vignettes ... OK
* checking package vignettes in ‘inst/doc’ ... OK
* checking running R code from vignettes ... SKIPPED
* checking re-building of vignette outputs ... SKIPPED
* checking PDF version of manual ... OK
* DONE
Status: OK
CAGEfightR.Rcheck/00install.out
############################################################################## ############################################################################## ### ### Running command: ### ### /home/biocbuild/bbs-3.14-bioc/R/bin/R CMD INSTALL CAGEfightR ### ############################################################################## ############################################################################## * installing to library ‘/home/biocbuild/bbs-3.14-bioc/R/library’ * installing *source* package ‘CAGEfightR’ ... ** using staged installation ** R ** data *** moving datasets to lazyload DB ** inst ** byte-compile and prepare package for lazy loading ** help *** installing help indices ** building package indices ** installing vignettes ** testing if installed package can be loaded from temporary location ** testing if installed package can be loaded from final location ** testing if installed package keeps a record of temporary installation path * DONE (CAGEfightR)
CAGEfightR.Rcheck/CAGEfightR-Ex.timings
| name | user | system | elapsed | |
| assignGeneID | 3.757 | 0.141 | 3.897 | |
| assignMissingID | 1.102 | 0.068 | 1.170 | |
| assignTxID | 0.978 | 0.039 | 1.019 | |
| assignTxType | 0 | 0 | 0 | |
| balanceBC | 0 | 0 | 0 | |
| balanceD | 0.000 | 0.000 | 0.001 | |
| bwCommonGenome | 0.039 | 0.000 | 0.040 | |
| bwGenomeCompatibility | 0.015 | 0.000 | 0.015 | |
| bwValid | 0.008 | 0.000 | 0.008 | |
| calcBidirectionality | 0.573 | 0.024 | 0.597 | |
| calcComposition | 1.640 | 0.016 | 1.656 | |
| calcPooled | 0.157 | 0.004 | 0.161 | |
| calcShape | 3.651 | 0.308 | 3.960 | |
| calcSupport | 0.181 | 0.000 | 0.181 | |
| calcTPM | 0.204 | 0.012 | 0.216 | |
| calcTotalTags | 0.100 | 0.004 | 0.105 | |
| checkCTSSs | 0.329 | 0.008 | 0.338 | |
| checkPeaked | 0.073 | 0.004 | 0.076 | |
| checkPooled | 0.060 | 0.008 | 0.067 | |
| clusterBidirectionally | 0 | 0 | 0 | |
| clusterUnidirectionally | 1.346 | 0.048 | 1.392 | |
| combineClusters | 1.074 | 0.024 | 1.098 | |
| convertBAM2BigWig | 0 | 0 | 0 | |
| convertBED2BigWig | 0 | 0 | 0 | |
| convertGRanges2GPos | 0.087 | 0.000 | 0.087 | |
| exampleDesign | 0.004 | 0.001 | 0.004 | |
| findLinks | 4.490 | 1.035 | 4.610 | |
| findStretches | 0.502 | 0.020 | 0.522 | |
| quantifyCTSSs | 0 | 0 | 0 | |
| quantifyCTSSs2 | 0 | 0 | 0 | |
| quantifyClusters | 0.498 | 0.056 | 0.554 | |
| quantifyGenes | 1.341 | 0.044 | 1.385 | |
| quickEnhancers | 0 | 0 | 0 | |
| quickGenes | 0 | 0 | 0 | |
| quickTSSs | 0 | 0 | 0 | |
| shapeEntropy | 0.001 | 0.000 | 0.001 | |
| shapeIQR | 0.001 | 0.000 | 0.000 | |
| shapeMean | 0 | 0 | 0 | |
| shapeMultimodality | 0 | 0 | 0 | |
| subsetByBidirectionality | 0.473 | 0.016 | 0.489 | |
| subsetByComposition | 1.322 | 0.008 | 1.330 | |
| subsetBySupport | 0.127 | 0.024 | 0.150 | |
| swapRanges | 0.300 | 0.008 | 0.308 | |
| swapScores | 0.135 | 0.004 | 0.139 | |
| trackBalance | 0 | 0 | 0 | |
| trackCTSS | 3.171 | 0.216 | 3.387 | |
| trackClusters | 2.183 | 0.040 | 2.223 | |
| trackLinks | 0.948 | 0.542 | 0.980 | |
| trimToPeak | 0.938 | 0.048 | 0.986 | |
| trimToPercentiles | 2.315 | 0.020 | 2.335 | |
| tuneTagClustering | 0.000 | 0.000 | 0.001 | |
| utilsAggregateRows | 0.363 | 0.104 | 0.467 | |
| utilsDeStrand | 0.138 | 0.004 | 0.143 | |
| utilsScoreOverlaps | 0.087 | 0.000 | 0.088 | |
| utilsSimplifyTxDb | 0 | 0 | 0 | |