| Back to Multiple platform build/check report for BioC 3.14 |
|
This page was generated on 2022-04-13 12:06:16 -0400 (Wed, 13 Apr 2022).
| Hostname | OS | Arch (*) | R version | Installed pkgs |
|---|---|---|---|---|
| nebbiolo2 | Linux (Ubuntu 20.04.4 LTS) | x86_64 | 4.1.3 (2022-03-10) -- "One Push-Up" | 4324 |
| tokay2 | Windows Server 2012 R2 Standard | x64 | 4.1.3 (2022-03-10) -- "One Push-Up" | 4077 |
| machv2 | macOS 10.14.6 Mojave | x86_64 | 4.1.3 (2022-03-10) -- "One Push-Up" | 4137 |
| Click on any hostname to see more info about the system (e.g. compilers) (*) as reported by 'uname -p', except on Windows and Mac OS X | ||||
|
To the developers/maintainers of the CAFE package: - Please allow up to 24 hours (and sometimes 48 hours) for your latest push to git@git.bioconductor.org:packages/CAFE.git to reflect on this report. See How and When does the builder pull? When will my changes propagate? for more information. - Make sure to use the following settings in order to reproduce any error or warning you see on this page. |
| Package 234/2083 | Hostname | OS / Arch | INSTALL | BUILD | CHECK | BUILD BIN | ||||||||
| CAFE 1.30.0 (landing page) Sander Bollen
| nebbiolo2 | Linux (Ubuntu 20.04.4 LTS) / x86_64 | OK | OK | WARNINGS | |||||||||
| tokay2 | Windows Server 2012 R2 Standard / x64 | OK | OK | WARNINGS | OK | |||||||||
| machv2 | macOS 10.14.6 Mojave / x86_64 | OK | OK | WARNINGS | OK | |||||||||
| Package: CAFE |
| Version: 1.30.0 |
| Command: C:\cygwin\bin\curl.exe -O http://155.52.207.166/BBS/3.14/bioc/src/contrib/CAFE_1.30.0.tar.gz && rm -rf CAFE.buildbin-libdir && mkdir CAFE.buildbin-libdir && C:\Users\biocbuild\bbs-3.14-bioc\R\bin\R.exe CMD INSTALL --merge-multiarch --build --library=CAFE.buildbin-libdir CAFE_1.30.0.tar.gz && C:\Users\biocbuild\bbs-3.14-bioc\R\bin\R.exe CMD INSTALL CAFE_1.30.0.zip && rm CAFE_1.30.0.tar.gz CAFE_1.30.0.zip |
| StartedAt: 2022-04-12 07:15:15 -0400 (Tue, 12 Apr 2022) |
| EndedAt: 2022-04-12 07:16:32 -0400 (Tue, 12 Apr 2022) |
| EllapsedTime: 77.4 seconds |
| RetCode: 0 |
| Status: OK |
##############################################################################
##############################################################################
###
### Running command:
###
### C:\cygwin\bin\curl.exe -O http://155.52.207.166/BBS/3.14/bioc/src/contrib/CAFE_1.30.0.tar.gz && rm -rf CAFE.buildbin-libdir && mkdir CAFE.buildbin-libdir && C:\Users\biocbuild\bbs-3.14-bioc\R\bin\R.exe CMD INSTALL --merge-multiarch --build --library=CAFE.buildbin-libdir CAFE_1.30.0.tar.gz && C:\Users\biocbuild\bbs-3.14-bioc\R\bin\R.exe CMD INSTALL CAFE_1.30.0.zip && rm CAFE_1.30.0.tar.gz CAFE_1.30.0.zip
###
##############################################################################
##############################################################################
% Total % Received % Xferd Average Speed Time Time Time Current
Dload Upload Total Spent Left Speed
0 0 0 0 0 0 0 0 --:--:-- --:--:-- --:--:-- 0
9 2276k 9 218k 0 0 829k 0 0:00:02 --:--:-- 0:00:02 828k
96 2276k 96 2196k 0 0 1738k 0 0:00:01 0:00:01 --:--:-- 1737k
100 2276k 100 2276k 0 0 1745k 0 0:00:01 0:00:01 --:--:-- 1745k
install for i386
* installing *source* package 'CAFE' ...
** using staged installation
** R
** data
** inst
** byte-compile and prepare package for lazy loading
** help
*** installing help indices
converting help for package 'CAFE'
finding HTML links ... done
CAFE-package html
CAFE html
ProcessCels html
armStats html
bandStats html
chromosomeStats html
cliSubset html
discontPlot html
discontSmooth html
facetPlot html
fisher.method html
guiSubset html
rawPlot html
slidPlot html
slidSmooth html
** building package indices
** installing vignettes
** testing if installed package can be loaded from temporary location
** testing if installed package can be loaded from final location
** testing if installed package keeps a record of temporary installation path
install for x64
* installing *source* package 'CAFE' ...
** testing if installed package can be loaded
* MD5 sums
packaged installation of 'CAFE' as CAFE_1.30.0.zip
* DONE (CAFE)
* installing to library 'C:/Users/biocbuild/bbs-3.14-bioc/R/library'
package 'CAFE' successfully unpacked and MD5 sums checked