| Back to Multiple platform build/check report for BioC 3.14 | 
 | 
This page was generated on 2022-04-13 12:06:16 -0400 (Wed, 13 Apr 2022).
| Hostname | OS | Arch (*) | R version | Installed pkgs | 
|---|---|---|---|---|
| nebbiolo2 | Linux (Ubuntu 20.04.4 LTS) | x86_64 | 4.1.3 (2022-03-10) -- "One Push-Up" | 4324 | 
| tokay2 | Windows Server 2012 R2 Standard | x64 | 4.1.3 (2022-03-10) -- "One Push-Up" | 4077 | 
| machv2 | macOS 10.14.6 Mojave | x86_64 | 4.1.3 (2022-03-10) -- "One Push-Up" | 4137 | 
| Click on any hostname to see more info about the system (e.g. compilers) (*) as reported by 'uname -p', except on Windows and Mac OS X | ||||
| To the developers/maintainers of the CAEN package: - Please allow up to 24 hours (and sometimes 48 hours) for your latest push to git@git.bioconductor.org:packages/CAEN.git to reflect on this report. See How and When does the builder pull? When will my changes propagate? for more information. - Make sure to use the following settings in order to reproduce any error or warning you see on this page. | 
| Package 233/2083 | Hostname | OS / Arch | INSTALL | BUILD | CHECK | BUILD BIN | ||||||||
| CAEN 1.2.0  (landing page) Zhou Yan 
 | nebbiolo2 | Linux (Ubuntu 20.04.4 LTS) / x86_64 | OK | OK | OK |  | ||||||||
| tokay2 | Windows Server 2012 R2 Standard / x64 | OK | OK | OK | OK |  | ||||||||
| machv2 | macOS 10.14.6 Mojave / x86_64 | OK | OK | OK | OK |  | ||||||||
| Package: CAEN | 
| Version: 1.2.0 | 
| Command: C:\cygwin\bin\curl.exe -O http://155.52.207.166/BBS/3.14/bioc/src/contrib/CAEN_1.2.0.tar.gz && rm -rf CAEN.buildbin-libdir && mkdir CAEN.buildbin-libdir && C:\Users\biocbuild\bbs-3.14-bioc\R\bin\R.exe CMD INSTALL --merge-multiarch --build --library=CAEN.buildbin-libdir CAEN_1.2.0.tar.gz && C:\Users\biocbuild\bbs-3.14-bioc\R\bin\R.exe CMD INSTALL CAEN_1.2.0.zip && rm CAEN_1.2.0.tar.gz CAEN_1.2.0.zip | 
| StartedAt: 2022-04-12 05:31:28 -0400 (Tue, 12 Apr 2022) | 
| EndedAt: 2022-04-12 05:32:16 -0400 (Tue, 12 Apr 2022) | 
| EllapsedTime: 47.9 seconds | 
| RetCode: 0 | 
| Status: OK | 
##############################################################################
##############################################################################
###
### Running command:
###
###   C:\cygwin\bin\curl.exe -O http://155.52.207.166/BBS/3.14/bioc/src/contrib/CAEN_1.2.0.tar.gz && rm -rf CAEN.buildbin-libdir && mkdir CAEN.buildbin-libdir && C:\Users\biocbuild\bbs-3.14-bioc\R\bin\R.exe CMD INSTALL --merge-multiarch --build --library=CAEN.buildbin-libdir CAEN_1.2.0.tar.gz && C:\Users\biocbuild\bbs-3.14-bioc\R\bin\R.exe CMD INSTALL CAEN_1.2.0.zip && rm CAEN_1.2.0.tar.gz CAEN_1.2.0.zip
###
##############################################################################
##############################################################################
  % Total    % Received % Xferd  Average Speed   Time    Time     Time  Current
                                 Dload  Upload   Total   Spent    Left  Speed
  0     0    0     0    0     0      0      0 --:--:-- --:--:-- --:--:--     0
 77  770k   77  595k    0     0   611k      0  0:00:01 --:--:--  0:00:01  611k
100  770k  100  770k    0     0   680k      0  0:00:01  0:00:01 --:--:--  680k
install for i386
* installing *source* package 'CAEN' ...
** using staged installation
** R
** data
*** moving datasets to lazyload DB
** inst
** byte-compile and prepare package for lazy loading
** help
*** installing help indices
  converting help for package 'CAEN'
    finding HTML links ... done
    CAEN                                    html  
    ZIPLDA                                  html  
    ZIPLDA.cv                               html  
    estimatep                               html  
    newCountDataSet                         html  
    realData                                html  
** building package indices
** installing vignettes
** testing if installed package can be loaded from temporary location
** testing if installed package can be loaded from final location
** testing if installed package keeps a record of temporary installation path
install for x64
* installing *source* package 'CAEN' ...
** testing if installed package can be loaded
* MD5 sums
packaged installation of 'CAEN' as CAEN_1.2.0.zip
* DONE (CAEN)
* installing to library 'C:/Users/biocbuild/bbs-3.14-bioc/R/library'
package 'CAEN' successfully unpacked and MD5 sums checked