| Back to Multiple platform build/check report for BioC 3.14 |
|
This page was generated on 2022-04-13 12:07:41 -0400 (Wed, 13 Apr 2022).
| Hostname | OS | Arch (*) | R version | Installed pkgs |
|---|---|---|---|---|
| nebbiolo2 | Linux (Ubuntu 20.04.4 LTS) | x86_64 | 4.1.3 (2022-03-10) -- "One Push-Up" | 4324 |
| tokay2 | Windows Server 2012 R2 Standard | x64 | 4.1.3 (2022-03-10) -- "One Push-Up" | 4077 |
| machv2 | macOS 10.14.6 Mojave | x86_64 | 4.1.3 (2022-03-10) -- "One Push-Up" | 4137 |
| Click on any hostname to see more info about the system (e.g. compilers) (*) as reported by 'uname -p', except on Windows and Mac OS X | ||||
|
To the developers/maintainers of the BiocParallel package: - Please allow up to 24 hours (and sometimes 48 hours) for your latest push to git@git.bioconductor.org:packages/BiocParallel.git to reflect on this report. See How and When does the builder pull? When will my changes propagate? for more information. - Make sure to use the following settings in order to reproduce any error or warning you see on this page. |
| Package 165/2083 | Hostname | OS / Arch | INSTALL | BUILD | CHECK | BUILD BIN | ||||||||
| BiocParallel 1.28.3 (landing page) Bioconductor Package Maintainer
| nebbiolo2 | Linux (Ubuntu 20.04.4 LTS) / x86_64 | OK | OK | OK | |||||||||
| tokay2 | Windows Server 2012 R2 Standard / x64 | OK | OK | OK | OK | |||||||||
| machv2 | macOS 10.14.6 Mojave / x86_64 | OK | OK | OK | OK | |||||||||
| Package: BiocParallel |
| Version: 1.28.3 |
| Command: /Library/Frameworks/R.framework/Resources/bin/R CMD check --install=check:BiocParallel.install-out.txt --library=/Library/Frameworks/R.framework/Resources/library --no-vignettes --timings BiocParallel_1.28.3.tar.gz |
| StartedAt: 2022-04-12 10:49:07 -0400 (Tue, 12 Apr 2022) |
| EndedAt: 2022-04-12 10:56:24 -0400 (Tue, 12 Apr 2022) |
| EllapsedTime: 437.0 seconds |
| RetCode: 0 |
| Status: OK |
| CheckDir: BiocParallel.Rcheck |
| Warnings: 0 |
##############################################################################
##############################################################################
###
### Running command:
###
### /Library/Frameworks/R.framework/Resources/bin/R CMD check --install=check:BiocParallel.install-out.txt --library=/Library/Frameworks/R.framework/Resources/library --no-vignettes --timings BiocParallel_1.28.3.tar.gz
###
##############################################################################
##############################################################################
* using log directory ‘/Users/biocbuild/bbs-3.14-bioc/meat/BiocParallel.Rcheck’
* using R version 4.1.3 (2022-03-10)
* using platform: x86_64-apple-darwin17.0 (64-bit)
* using session charset: UTF-8
* using option ‘--no-vignettes’
* checking for file ‘BiocParallel/DESCRIPTION’ ... OK
* checking extension type ... Package
* this is package ‘BiocParallel’ version ‘1.28.3’
* checking package namespace information ... OK
* checking package dependencies ... OK
* checking if this is a source package ... OK
* checking if there is a namespace ... OK
* checking for hidden files and directories ... OK
* checking for portable file names ... OK
* checking for sufficient/correct file permissions ... OK
* checking whether package ‘BiocParallel’ can be installed ... OK
* checking installed package size ... OK
* checking package directory ... OK
* checking ‘build’ directory ... OK
* checking DESCRIPTION meta-information ... OK
* checking top-level files ... OK
* checking for left-over files ... OK
* checking index information ... OK
* checking package subdirectories ... OK
* checking R files for non-ASCII characters ... OK
* checking R files for syntax errors ... OK
* checking whether the package can be loaded ... OK
* checking whether the package can be loaded with stated dependencies ... OK
* checking whether the package can be unloaded cleanly ... OK
* checking whether the namespace can be loaded with stated dependencies ... OK
* checking whether the namespace can be unloaded cleanly ... OK
* checking dependencies in R code ... NOTE
Unexported objects imported by ':::' calls:
‘parallel:::closeNode’ ‘parallel:::recvData’ ‘parallel:::recvOneData’
‘parallel:::sendData’
See the note in ?`:::` about the use of this operator.
* checking S3 generic/method consistency ... OK
* checking replacement functions ... OK
* checking foreign function calls ... OK
* checking R code for possible problems ... OK
* checking Rd files ... OK
* checking Rd metadata ... OK
* checking Rd cross-references ... OK
* checking for missing documentation entries ... OK
* checking for code/documentation mismatches ... OK
* checking Rd \usage sections ... OK
* checking Rd contents ... OK
* checking for unstated dependencies in examples ... OK
* checking line endings in shell scripts ... OK
* checking line endings in C/C++/Fortran sources/headers ... OK
* checking line endings in Makefiles ... OK
* checking compilation flags in Makevars ... OK
* checking for GNU extensions in Makefiles ... OK
* checking for portable use of $(BLAS_LIBS) and $(LAPACK_LIBS) ... OK
* checking use of PKG_*FLAGS in Makefiles ... OK
* checking compiled code ... NOTE
Note: information on .o files is not available
* checking sizes of PDF files under ‘inst/doc’ ... OK
* checking files in ‘vignettes’ ... OK
* checking examples ... OK
Examples with CPU (user + system) or elapsed time > 5s
user system elapsed
bpvalidate 5.678 0.263 5.944
BatchJobsParam-class 5.087 0.165 5.286
BatchtoolsParam-class 3.336 1.205 11.300
SnowParam-class 0.904 0.060 7.746
* checking for unstated dependencies in ‘tests’ ... OK
* checking tests ...
Running ‘test.R’
OK
* checking for unstated dependencies in vignettes ... OK
* checking package vignettes in ‘inst/doc’ ... OK
* checking running R code from vignettes ... SKIPPED
* checking re-building of vignette outputs ... SKIPPED
* checking PDF version of manual ... OK
* DONE
Status: 2 NOTEs
See
‘/Users/biocbuild/bbs-3.14-bioc/meat/BiocParallel.Rcheck/00check.log’
for details.
BiocParallel.Rcheck/00install.out
############################################################################## ############################################################################## ### ### Running command: ### ### /Library/Frameworks/R.framework/Resources/bin/R CMD INSTALL BiocParallel ### ############################################################################## ############################################################################## * installing to library ‘/Library/Frameworks/R.framework/Versions/4.1/Resources/library’ * installing *source* package ‘BiocParallel’ ... ** using staged installation checking for gcc... gcc checking whether the C compiler works... yes checking for C compiler default output file name... a.out checking for suffix of executables... checking whether we are cross compiling... no checking for suffix of object files... o checking whether we are using the GNU C compiler... yes checking whether gcc accepts -g... yes checking for gcc option to accept ISO C89... none needed checking for shm_open in -lrt... no configure: creating ./config.status config.status: creating src/Makevars ** libs clang++ -mmacosx-version-min=10.13 -std=gnu++11 -I"/Library/Frameworks/R.framework/Resources/include" -DNDEBUG -I'/Library/Frameworks/R.framework/Versions/4.1/Resources/library/BH/include' -I/usr/local/include -fPIC -Wall -g -O2 -c ipcmutex.cpp -o ipcmutex.o clang++ -mmacosx-version-min=10.13 -std=gnu++11 -dynamiclib -Wl,-headerpad_max_install_names -undefined dynamic_lookup -single_module -multiply_defined suppress -L/Library/Frameworks/R.framework/Resources/lib -L/usr/local/lib -o BiocParallel.so ipcmutex.o -F/Library/Frameworks/R.framework/.. -framework R -Wl,-framework -Wl,CoreFoundation installing to /Library/Frameworks/R.framework/Versions/4.1/Resources/library/00LOCK-BiocParallel/00new/BiocParallel/libs ** R ** inst ** byte-compile and prepare package for lazy loading ** help *** installing help indices ** building package indices ** installing vignettes ** testing if installed package can be loaded from temporary location ** checking absolute paths in shared objects and dynamic libraries ** testing if installed package can be loaded from final location ** testing if installed package keeps a record of temporary installation path * DONE (BiocParallel)
BiocParallel.Rcheck/tests/test.Rout
R version 4.1.3 (2022-03-10) -- "One Push-Up"
Copyright (C) 2022 The R Foundation for Statistical Computing
Platform: x86_64-apple-darwin17.0 (64-bit)
R is free software and comes with ABSOLUTELY NO WARRANTY.
You are welcome to redistribute it under certain conditions.
Type 'license()' or 'licence()' for distribution details.
R is a collaborative project with many contributors.
Type 'contributors()' for more information and
'citation()' on how to cite R or R packages in publications.
Type 'demo()' for some demos, 'help()' for on-line help, or
'help.start()' for an HTML browser interface to help.
Type 'q()' to quit R.
> BiocGenerics:::testPackage("BiocParallel")
Submitting 5 jobs in 4 chunks using cluster functions 'Multicore' ...
Submitting 5 jobs in 4 chunks using cluster functions 'Socket' ...
Submitting 5 jobs in 4 chunks using cluster functions 'Socket' ...
> > > > > > > > Submitting 5 jobs in 4 chunks using cluster functions 'Multicore' ...
> > > > > > > > Timing stopped at: 0 0 0
Error in DEACTIVATED("MPI tests not run") : MPI tests not run
Timing stopped at: 0.283 0.028 0.452
Error in DEACTIVATED("MPI tests not run") : MPI tests not run
> >
RUNIT TEST PROTOCOL -- Tue Apr 12 10:56:13 2022
***********************************************
Number of test functions: 94
Number of deactivated test functions: 2
Number of errors: 0
Number of failures: 0
1 Test Suite :
BiocParallel RUnit Tests - 94 test functions, 0 errors, 0 failures
Number of test functions: 94
Number of deactivated test functions: 2
Number of errors: 0
Number of failures: 0
>
> proc.time()
user system elapsed
97.607 18.753 345.092
BiocParallel.Rcheck/BiocParallel-Ex.timings
| name | user | system | elapsed | |
| BatchJobsParam-class | 5.087 | 0.165 | 5.286 | |
| BatchtoolsParam-class | 3.336 | 1.205 | 11.300 | |
| BiocParallelParam-class | 0.002 | 0.002 | 0.004 | |
| DeveloperInterface | 0 | 0 | 0 | |
| DoparParam-class | 0.000 | 0.000 | 0.001 | |
| MulticoreParam-class | 1.292 | 0.812 | 3.075 | |
| SerialParam-class | 0.088 | 0.014 | 0.103 | |
| SnowParam-class | 0.904 | 0.060 | 7.746 | |
| bpaggregate | 0.001 | 0.001 | 0.002 | |
| bpiterate | 0.001 | 0.002 | 0.003 | |
| bplapply | 0.411 | 0.170 | 0.409 | |
| bploop | 0 | 0 | 0 | |
| bpmapply | 0.318 | 0.126 | 0.391 | |
| bpok | 0.372 | 0.025 | 4.081 | |
| bpschedule | 0.288 | 0.080 | 0.325 | |
| bptry | 0.164 | 0.231 | 0.187 | |
| bpvalidate | 5.678 | 0.263 | 5.944 | |
| bpvec | 0.530 | 0.201 | 0.533 | |
| bpvectorize | 0.116 | 0.180 | 0.113 | |
| ipcmutex | 0.553 | 0.290 | 1.224 | |
| register | 0.266 | 0.369 | 0.260 | |