| Back to Multiple platform build/check report for BioC 3.14 |
|
This page was generated on 2022-04-13 12:06:13 -0400 (Wed, 13 Apr 2022).
| Hostname | OS | Arch (*) | R version | Installed pkgs |
|---|---|---|---|---|
| nebbiolo2 | Linux (Ubuntu 20.04.4 LTS) | x86_64 | 4.1.3 (2022-03-10) -- "One Push-Up" | 4324 |
| tokay2 | Windows Server 2012 R2 Standard | x64 | 4.1.3 (2022-03-10) -- "One Push-Up" | 4077 |
| machv2 | macOS 10.14.6 Mojave | x86_64 | 4.1.3 (2022-03-10) -- "One Push-Up" | 4137 |
| Click on any hostname to see more info about the system (e.g. compilers) (*) as reported by 'uname -p', except on Windows and Mac OS X | ||||
|
To the developers/maintainers of the BindingSiteFinder package: - Please allow up to 24 hours (and sometimes 48 hours) for your latest push to git@git.bioconductor.org:packages/BindingSiteFinder.git to reflect on this report. See How and When does the builder pull? When will my changes propagate? for more information. - Make sure to use the following settings in order to reproduce any error or warning you see on this page. |
| Package 150/2083 | Hostname | OS / Arch | INSTALL | BUILD | CHECK | BUILD BIN | ||||||||
| BindingSiteFinder 1.0.0 (landing page) Mirko Brüggemann
| nebbiolo2 | Linux (Ubuntu 20.04.4 LTS) / x86_64 | OK | OK | OK | |||||||||
| tokay2 | Windows Server 2012 R2 Standard / x64 | OK | OK | OK | OK | |||||||||
| machv2 | macOS 10.14.6 Mojave / x86_64 | OK | OK | OK | OK | |||||||||
| Package: BindingSiteFinder |
| Version: 1.0.0 |
| Command: rm -rf BindingSiteFinder.buildbin-libdir && mkdir BindingSiteFinder.buildbin-libdir && C:\Users\biocbuild\bbs-3.14-bioc\R\bin\R.exe CMD INSTALL --merge-multiarch --build --library=BindingSiteFinder.buildbin-libdir BindingSiteFinder_1.0.0.tar.gz |
| StartedAt: 2022-04-13 05:41:22 -0400 (Wed, 13 Apr 2022) |
| EndedAt: 2022-04-13 05:42:32 -0400 (Wed, 13 Apr 2022) |
| EllapsedTime: 69.7 seconds |
| RetCode: 0 |
| Status: OK |
| PackageFile: BindingSiteFinder_1.0.0.zip |
| PackageFileSize: 2.734 MiB |
##############################################################################
##############################################################################
###
### Running command:
###
### rm -rf BindingSiteFinder.buildbin-libdir && mkdir BindingSiteFinder.buildbin-libdir && C:\Users\biocbuild\bbs-3.14-bioc\R\bin\R.exe CMD INSTALL --merge-multiarch --build --library=BindingSiteFinder.buildbin-libdir BindingSiteFinder_1.0.0.tar.gz
###
##############################################################################
##############################################################################
install for i386
* installing *source* package 'BindingSiteFinder' ...
** using staged installation
** R
** inst
** byte-compile and prepare package for lazy loading
** help
*** installing help indices
converting help for package 'BindingSiteFinder'
finding HTML links ... done
BSFDataSet html
annotateWithScore html
coverageOverRanges html
getMeta html
getRanges html
getSignal html
getSummary html
makeBindingSites html
mergeSummaryPlot html
rangeCoveragePlot html
reproducibilityFilter html
reproducibiliyCutoffPlot html
setRanges html
setSignal html
setSummary html
show html
supportRatio html
supportRatioPlot html
** building package indices
** installing vignettes
** testing if installed package can be loaded from temporary location
** testing if installed package can be loaded from final location
** testing if installed package keeps a record of temporary installation path
install for x64
* installing *source* package 'BindingSiteFinder' ...
** testing if installed package can be loaded
* MD5 sums
packaged installation of 'BindingSiteFinder' as BindingSiteFinder_1.0.0.zip
* DONE (BindingSiteFinder)