| Back to Multiple platform build/check report for BioC 3.14 |
|
This page was generated on 2022-04-13 12:05:06 -0400 (Wed, 13 Apr 2022).
| Hostname | OS | Arch (*) | R version | Installed pkgs |
|---|---|---|---|---|
| nebbiolo2 | Linux (Ubuntu 20.04.4 LTS) | x86_64 | 4.1.3 (2022-03-10) -- "One Push-Up" | 4324 |
| tokay2 | Windows Server 2012 R2 Standard | x64 | 4.1.3 (2022-03-10) -- "One Push-Up" | 4077 |
| machv2 | macOS 10.14.6 Mojave | x86_64 | 4.1.3 (2022-03-10) -- "One Push-Up" | 4137 |
| Click on any hostname to see more info about the system (e.g. compilers) (*) as reported by 'uname -p', except on Windows and Mac OS X | ||||
|
To the developers/maintainers of the BiGGR package: - Please allow up to 24 hours (and sometimes 48 hours) for your latest push to git@git.bioconductor.org:packages/BiGGR.git to reflect on this report. See How and When does the builder pull? When will my changes propagate? for more information. - Make sure to use the following settings in order to reproduce any error or warning you see on this page. |
| Package 147/2083 | Hostname | OS / Arch | INSTALL | BUILD | CHECK | BUILD BIN | ||||||||
| BiGGR 1.30.0 (landing page) Anand K. Gavai
| nebbiolo2 | Linux (Ubuntu 20.04.4 LTS) / x86_64 | OK | OK | OK | |||||||||
| tokay2 | Windows Server 2012 R2 Standard / x64 | OK | OK | OK | OK | |||||||||
| machv2 | macOS 10.14.6 Mojave / x86_64 | ... NOT SUPPORTED ... | ||||||||||||
| Package: BiGGR |
| Version: 1.30.0 |
| Command: /home/biocbuild/bbs-3.14-bioc/R/bin/R CMD check --install=check:BiGGR.install-out.txt --library=/home/biocbuild/bbs-3.14-bioc/R/library --no-vignettes --timings BiGGR_1.30.0.tar.gz |
| StartedAt: 2022-04-12 06:30:52 -0400 (Tue, 12 Apr 2022) |
| EndedAt: 2022-04-12 06:34:27 -0400 (Tue, 12 Apr 2022) |
| EllapsedTime: 214.4 seconds |
| RetCode: 0 |
| Status: OK |
| CheckDir: BiGGR.Rcheck |
| Warnings: 0 |
##############################################################################
##############################################################################
###
### Running command:
###
### /home/biocbuild/bbs-3.14-bioc/R/bin/R CMD check --install=check:BiGGR.install-out.txt --library=/home/biocbuild/bbs-3.14-bioc/R/library --no-vignettes --timings BiGGR_1.30.0.tar.gz
###
##############################################################################
##############################################################################
* using log directory ‘/home/biocbuild/bbs-3.14-bioc/meat/BiGGR.Rcheck’
* using R version 4.1.3 (2022-03-10)
* using platform: x86_64-pc-linux-gnu (64-bit)
* using session charset: UTF-8
* using option ‘--no-vignettes’
* checking for file ‘BiGGR/DESCRIPTION’ ... OK
* checking extension type ... Package
* this is package ‘BiGGR’ version ‘1.30.0’
* checking package namespace information ... OK
* checking package dependencies ... OK
* checking if this is a source package ... OK
* checking if there is a namespace ... OK
* checking for hidden files and directories ... NOTE
Found the following hidden files and directories:
.BBSoptions
These were most likely included in error. See section ‘Package
structure’ in the ‘Writing R Extensions’ manual.
* checking for portable file names ... OK
* checking for sufficient/correct file permissions ... OK
* checking whether package ‘BiGGR’ can be installed ... OK
* checking installed package size ... OK
* checking package directory ... OK
* checking ‘build’ directory ... OK
* checking DESCRIPTION meta-information ... OK
* checking top-level files ... OK
* checking for left-over files ... OK
* checking index information ... OK
* checking package subdirectories ... OK
* checking R files for non-ASCII characters ... OK
* checking R files for syntax errors ... OK
* checking whether the package can be loaded ... OK
* checking whether the package can be loaded with stated dependencies ... OK
* checking whether the package can be unloaded cleanly ... OK
* checking whether the namespace can be loaded with stated dependencies ... OK
* checking whether the namespace can be unloaded cleanly ... OK
* checking dependencies in R code ... NOTE
Package in Depends field not imported from: ‘stringr’
These packages need to be imported from (in the NAMESPACE file)
for when this namespace is loaded but not attached.
* checking S3 generic/method consistency ... OK
* checking replacement functions ... OK
* checking foreign function calls ... OK
* checking R code for possible problems ... NOTE
.buildSubModel: no visible global function definition for ‘new’
buildSBMLFromBiGG: no visible global function definition for
‘read.delim’
buildSBMLFromBiGG : <anonymous>: no visible global function definition
for ‘new’
buildSBMLFromBiGG: no visible global function definition for ‘new’
createLIMFromSBML: no visible global function definition for ‘hasArg’
gprMapping: no visible global function definition for ‘str_detect’
gprMapping: no visible global function definition for ‘na.omit’
gprMappingAvg: no visible global function definition for ‘na.omit’
sampleFluxEnsemble: no visible global function definition for ‘Xsample’
sbml2hyperdraw : <anonymous>: no visible binding for global variable
‘species’
sbml2hyperdraw: no visible global function definition for ‘hasArg’
sbml2hyperdraw: no visible global function definition for ‘graphLayout’
sbml2hyperdraw: no visible global function definition for
‘nodeDataDefaults<-’
sbml2hyperdraw: no visible global function definition for
‘edgeDataDefaults<-’
sbml2hyperdraw: no visible global function definition for
‘graphDataDefaults<-’
sbml2hyperdraw : <anonymous>: no visible global function definition for
‘edgeData<-’
Undefined global functions or variables:
Xsample edgeData<- edgeDataDefaults<- graphDataDefaults<- graphLayout
hasArg na.omit new nodeDataDefaults<- read.delim species str_detect
Consider adding
importFrom("methods", "hasArg", "new")
importFrom("stats", "na.omit")
importFrom("utils", "read.delim")
to your NAMESPACE file (and ensure that your DESCRIPTION Imports field
contains 'methods').
* checking Rd files ... OK
* checking Rd metadata ... OK
* checking Rd cross-references ... OK
* checking for missing documentation entries ... OK
* checking for code/documentation mismatches ... OK
* checking Rd \usage sections ... OK
* checking Rd contents ... OK
* checking for unstated dependencies in examples ... OK
* checking contents of ‘data’ directory ... OK
* checking data for non-ASCII characters ... OK
* checking data for ASCII and uncompressed saves ... OK
* checking installed files from ‘inst/doc’ ... OK
* checking files in ‘vignettes’ ... OK
* checking examples ... OK
Examples with CPU (user + system) or elapsed time > 5s
user system elapsed
gprMapping 105.346 0.115 105.464
gprMappingAvg 13.295 0.012 13.307
* checking for unstated dependencies in vignettes ... OK
* checking package vignettes in ‘inst/doc’ ... OK
* checking running R code from vignettes ... SKIPPED
* checking re-building of vignette outputs ... SKIPPED
* checking PDF version of manual ... OK
* DONE
Status: 3 NOTEs
See
‘/home/biocbuild/bbs-3.14-bioc/meat/BiGGR.Rcheck/00check.log’
for details.
BiGGR.Rcheck/00install.out
############################################################################## ############################################################################## ### ### Running command: ### ### /home/biocbuild/bbs-3.14-bioc/R/bin/R CMD INSTALL BiGGR ### ############################################################################## ############################################################################## * installing to library ‘/home/biocbuild/bbs-3.14-bioc/R/library’ * installing *source* package ‘BiGGR’ ... ** using staged installation ** R ** data ** inst ** byte-compile and prepare package for lazy loading ** help *** installing help indices ** building package indices ** installing vignettes ** testing if installed package can be loaded from temporary location ** testing if installed package can be loaded from final location ** testing if installed package keeps a record of temporary installation path * DONE (BiGGR)
BiGGR.Rcheck/BiGGR-Ex.timings
| name | user | system | elapsed | |
| BiGGR-package | 1.985 | 0.088 | 2.073 | |
| E.coli_iAF1260 | 0.541 | 0.012 | 0.553 | |
| E.coli_iJR904 | 0.315 | 0.008 | 0.324 | |
| E.coli_textbook | 0.021 | 0.000 | 0.021 | |
| H.pylori_ilT341 | 0.118 | 0.004 | 0.122 | |
| H.sapiens_Recon1 | 1.090 | 0.076 | 1.166 | |
| M.barkeri_iAF692 | 0.154 | 0.000 | 0.154 | |
| M.tuberculosis_iNJ661 | 0.212 | 0.007 | 0.220 | |
| P.putida_iJN746 | 0.254 | 0.004 | 0.258 | |
| Recon2 | 1.807 | 0.044 | 1.851 | |
| S.aureus_iSB619 | 0.162 | 0.016 | 0.177 | |
| S.cerevisiae_iND750 | 0.276 | 0.008 | 0.283 | |
| buildSBMLFromBiGG | 0.067 | 0.016 | 0.084 | |
| buildSBMLFromGenes | 4.607 | 0.048 | 4.656 | |
| buildSBMLFromPathways | 3.519 | 0.016 | 3.535 | |
| buildSBMLFromReactionIDs | 1.829 | 0.008 | 1.836 | |
| createLIMFromBiGG | 0.066 | 0.000 | 0.065 | |
| createLIMFromSBML | 0.834 | 0.000 | 0.833 | |
| extractGeneAssociations | 2.063 | 0.000 | 2.063 | |
| extractPathways | 2.043 | 0.008 | 2.051 | |
| getPathwaysForSBML | 2.226 | 0.000 | 2.227 | |
| getRates | 0.003 | 0.000 | 0.003 | |
| gprMapping | 105.346 | 0.115 | 105.464 | |
| gprMappingAvg | 13.295 | 0.012 | 13.307 | |
| lying.tunell.data | 0.002 | 0.000 | 0.001 | |
| rmvSpliceVariant | 2.015 | 0.000 | 2.014 | |
| sampleFluxEnsemble | 1.827 | 0.044 | 1.871 | |
| sbml2hyperdraw | 2.011 | 0.000 | 2.011 | |