| Back to Multiple platform build/check report for BioC 3.14 |
|
This page was generated on 2022-04-13 12:06:12 -0400 (Wed, 13 Apr 2022).
| Hostname | OS | Arch (*) | R version | Installed pkgs |
|---|---|---|---|---|
| nebbiolo2 | Linux (Ubuntu 20.04.4 LTS) | x86_64 | 4.1.3 (2022-03-10) -- "One Push-Up" | 4324 |
| tokay2 | Windows Server 2012 R2 Standard | x64 | 4.1.3 (2022-03-10) -- "One Push-Up" | 4077 |
| machv2 | macOS 10.14.6 Mojave | x86_64 | 4.1.3 (2022-03-10) -- "One Push-Up" | 4137 |
| Click on any hostname to see more info about the system (e.g. compilers) (*) as reported by 'uname -p', except on Windows and Mac OS X | ||||
|
To the developers/maintainers of the Basic4Cseq package: - Please allow up to 24 hours (and sometimes 48 hours) for your latest push to git@git.bioconductor.org:packages/Basic4Cseq.git to reflect on this report. See How and When does the builder pull? When will my changes propagate? for more information. - Make sure to use the following settings in order to reproduce any error or warning you see on this page. |
| Package 117/2083 | Hostname | OS / Arch | INSTALL | BUILD | CHECK | BUILD BIN | ||||||||
| Basic4Cseq 1.30.0 (landing page) Carolin Walter
| nebbiolo2 | Linux (Ubuntu 20.04.4 LTS) / x86_64 | OK | OK | OK | |||||||||
| tokay2 | Windows Server 2012 R2 Standard / x64 | OK | OK | OK | OK | |||||||||
| machv2 | macOS 10.14.6 Mojave / x86_64 | OK | OK | OK | OK | |||||||||
| Package: Basic4Cseq |
| Version: 1.30.0 |
| Command: rm -rf Basic4Cseq.buildbin-libdir && mkdir Basic4Cseq.buildbin-libdir && C:\Users\biocbuild\bbs-3.14-bioc\R\bin\R.exe CMD INSTALL --merge-multiarch --build --library=Basic4Cseq.buildbin-libdir Basic4Cseq_1.30.0.tar.gz |
| StartedAt: 2022-04-13 05:38:56 -0400 (Wed, 13 Apr 2022) |
| EndedAt: 2022-04-13 05:39:53 -0400 (Wed, 13 Apr 2022) |
| EllapsedTime: 56.5 seconds |
| RetCode: 0 |
| Status: OK |
| PackageFile: Basic4Cseq_1.30.0.zip |
| PackageFileSize: 877.3 KiB |
##############################################################################
##############################################################################
###
### Running command:
###
### rm -rf Basic4Cseq.buildbin-libdir && mkdir Basic4Cseq.buildbin-libdir && C:\Users\biocbuild\bbs-3.14-bioc\R\bin\R.exe CMD INSTALL --merge-multiarch --build --library=Basic4Cseq.buildbin-libdir Basic4Cseq_1.30.0.tar.gz
###
##############################################################################
##############################################################################
install for i386
* installing *source* package 'Basic4Cseq' ...
** using staged installation
** R
** data
** inst
** byte-compile and prepare package for lazy loading
** help
*** installing help indices
converting help for package 'Basic4Cseq'
finding HTML links ... done
Data4Cseq-class html
Data4Cseq html
checkRestrictionEnzymeSequence html
chooseNearCisFragments html
createVirtualFragmentLibrary html
drawDigestionFragmentHistogram html
drawHeatmap html
exportVisualizationFragmentData html
getReadDistribution html
giveEnzymeSequence html
importVisualizationFragmentData html
liverData html
liverDataRaw html
normalizeFragmentData html
plotTransInteractions html
prepare4CseqData html
printBEDFragmentLibrary html
printWigFile html
readPointsOfInterestFile html
readsToFragments html
simulateDigestion html
visualizeViewpoint html
** building package indices
** installing vignettes
** testing if installed package can be loaded from temporary location
** testing if installed package can be loaded from final location
** testing if installed package keeps a record of temporary installation path
install for x64
* installing *source* package 'Basic4Cseq' ...
** testing if installed package can be loaded
* MD5 sums
packaged installation of 'Basic4Cseq' as Basic4Cseq_1.30.0.zip
* DONE (Basic4Cseq)