| Back to Multiple platform build/check report for BioC 3.14 |
|
This page was generated on 2022-04-13 12:06:11 -0400 (Wed, 13 Apr 2022).
| Hostname | OS | Arch (*) | R version | Installed pkgs |
|---|---|---|---|---|
| nebbiolo2 | Linux (Ubuntu 20.04.4 LTS) | x86_64 | 4.1.3 (2022-03-10) -- "One Push-Up" | 4324 |
| tokay2 | Windows Server 2012 R2 Standard | x64 | 4.1.3 (2022-03-10) -- "One Push-Up" | 4077 |
| machv2 | macOS 10.14.6 Mojave | x86_64 | 4.1.3 (2022-03-10) -- "One Push-Up" | 4137 |
| Click on any hostname to see more info about the system (e.g. compilers) (*) as reported by 'uname -p', except on Windows and Mac OS X | ||||
|
To the developers/maintainers of the BaalChIP package: - Please allow up to 24 hours (and sometimes 48 hours) for your latest push to git@git.bioconductor.org:packages/BaalChIP.git to reflect on this report. See How and When does the builder pull? When will my changes propagate? for more information. - Make sure to use the following settings in order to reproduce any error or warning you see on this page. |
| Package 103/2083 | Hostname | OS / Arch | INSTALL | BUILD | CHECK | BUILD BIN | ||||||||
| BaalChIP 1.20.0 (landing page) Ines de Santiago
| nebbiolo2 | Linux (Ubuntu 20.04.4 LTS) / x86_64 | OK | OK | WARNINGS | |||||||||
| tokay2 | Windows Server 2012 R2 Standard / x64 | OK | OK | WARNINGS | OK | |||||||||
| machv2 | macOS 10.14.6 Mojave / x86_64 | OK | OK | WARNINGS | OK | |||||||||
| Package: BaalChIP |
| Version: 1.20.0 |
| Command: C:\cygwin\bin\curl.exe -O http://155.52.207.166/BBS/3.14/bioc/src/contrib/BaalChIP_1.20.0.tar.gz && rm -rf BaalChIP.buildbin-libdir && mkdir BaalChIP.buildbin-libdir && C:\Users\biocbuild\bbs-3.14-bioc\R\bin\R.exe CMD INSTALL --merge-multiarch --build --library=BaalChIP.buildbin-libdir BaalChIP_1.20.0.tar.gz && C:\Users\biocbuild\bbs-3.14-bioc\R\bin\R.exe CMD INSTALL BaalChIP_1.20.0.zip && rm BaalChIP_1.20.0.tar.gz BaalChIP_1.20.0.zip |
| StartedAt: 2022-04-12 06:32:38 -0400 (Tue, 12 Apr 2022) |
| EndedAt: 2022-04-12 06:38:12 -0400 (Tue, 12 Apr 2022) |
| EllapsedTime: 334.3 seconds |
| RetCode: 0 |
| Status: OK |
##############################################################################
##############################################################################
###
### Running command:
###
### C:\cygwin\bin\curl.exe -O http://155.52.207.166/BBS/3.14/bioc/src/contrib/BaalChIP_1.20.0.tar.gz && rm -rf BaalChIP.buildbin-libdir && mkdir BaalChIP.buildbin-libdir && C:\Users\biocbuild\bbs-3.14-bioc\R\bin\R.exe CMD INSTALL --merge-multiarch --build --library=BaalChIP.buildbin-libdir BaalChIP_1.20.0.tar.gz && C:\Users\biocbuild\bbs-3.14-bioc\R\bin\R.exe CMD INSTALL BaalChIP_1.20.0.zip && rm BaalChIP_1.20.0.tar.gz BaalChIP_1.20.0.zip
###
##############################################################################
##############################################################################
% Total % Received % Xferd Average Speed Time Time Time Current
Dload Upload Total Spent Left Speed
0 0 0 0 0 0 0 0 --:--:-- --:--:-- --:--:-- 0
0 44.3M 0 357k 0 0 504k 0 0:01:29 --:--:-- 0:01:29 505k
3 44.3M 3 1606k 0 0 957k 0 0:00:47 0:00:01 0:00:46 957k
8 44.3M 8 3813k 0 0 1422k 0 0:00:31 0:00:02 0:00:29 1423k
15 44.3M 15 6943k 0 0 1887k 0 0:00:24 0:00:03 0:00:21 1887k
21 44.3M 21 9900k 0 0 2115k 0 0:00:21 0:00:04 0:00:17 2115k
28 44.3M 28 12.4M 0 0 2249k 0 0:00:20 0:00:05 0:00:15 2497k
36 44.3M 36 16.2M 0 0 2478k 0 0:00:18 0:00:06 0:00:12 2986k
45 44.3M 45 20.2M 0 0 2699k 0 0:00:16 0:00:07 0:00:09 3384k
51 44.3M 51 22.9M 0 0 2709k 0 0:00:16 0:00:08 0:00:08 3314k
60 44.3M 60 26.8M 0 0 2841k 0 0:00:15 0:00:09 0:00:06 3521k
71 44.3M 71 31.6M 0 0 3032k 0 0:00:14 0:00:10 0:00:04 3921k
84 44.3M 84 37.3M 0 0 3272k 0 0:00:13 0:00:11 0:00:02 4341k
98 44.3M 98 43.6M 0 0 3527k 0 0:00:12 0:00:12 --:--:-- 4796k
100 44.3M 100 44.3M 0 0 3557k 0 0:00:12 0:00:12 --:--:-- 5358k
install for i386
* installing *source* package 'BaalChIP' ...
** using staged installation
** R
** data
*** moving datasets to lazyload DB
** inst
** byte-compile and prepare package for lazy loading
** help
*** installing help indices
converting help for package 'BaalChIP'
finding HTML links ... done
BaalChIP html
BaalChIP.get html
BaalChIP.report html
BaalChIP.run html
BaalObject html
ENCODEexample html
FAIREexample html
QCfilter html
UniqueMappability50bp_hg19 html
adjustmentBaalPlot html
alleleCounts html
blacklist_hg19 html
filter1allele html
filterIntbias html
getASB html
mergePerGroup html
pickrell2011cov1_hg19 html
plotQC html
plotSimul html
summaryASB html
summaryQC html
** building package indices
** installing vignettes
** testing if installed package can be loaded from temporary location
** testing if installed package can be loaded from final location
** testing if installed package keeps a record of temporary installation path
install for x64
* installing *source* package 'BaalChIP' ...
** testing if installed package can be loaded
* MD5 sums
packaged installation of 'BaalChIP' as BaalChIP_1.20.0.zip
* DONE (BaalChIP)
* installing to library 'C:/Users/biocbuild/bbs-3.14-bioc/R/library'
package 'BaalChIP' successfully unpacked and MD5 sums checked