| Back to Multiple platform build/check report for BioC 3.14 |
|
This page was generated on 2022-04-13 12:06:15 -0400 (Wed, 13 Apr 2022).
| Hostname | OS | Arch (*) | R version | Installed pkgs |
|---|---|---|---|---|
| nebbiolo2 | Linux (Ubuntu 20.04.4 LTS) | x86_64 | 4.1.3 (2022-03-10) -- "One Push-Up" | 4324 |
| tokay2 | Windows Server 2012 R2 Standard | x64 | 4.1.3 (2022-03-10) -- "One Push-Up" | 4077 |
| machv2 | macOS 10.14.6 Mojave | x86_64 | 4.1.3 (2022-03-10) -- "One Push-Up" | 4137 |
| Click on any hostname to see more info about the system (e.g. compilers) (*) as reported by 'uname -p', except on Windows and Mac OS X | ||||
|
To the developers/maintainers of the BLMA package: - Please allow up to 24 hours (and sometimes 48 hours) for your latest push to git@git.bioconductor.org:packages/BLMA.git to reflect on this report. See How and When does the builder pull? When will my changes propagate? for more information. - Make sure to use the following settings in order to reproduce any error or warning you see on this page. |
| Package 203/2083 | Hostname | OS / Arch | INSTALL | BUILD | CHECK | BUILD BIN | ||||||||
| BLMA 1.18.0 (landing page) Hung Nguyen
| nebbiolo2 | Linux (Ubuntu 20.04.4 LTS) / x86_64 | OK | OK | OK | |||||||||
| tokay2 | Windows Server 2012 R2 Standard / x64 | OK | OK | OK | OK | |||||||||
| machv2 | macOS 10.14.6 Mojave / x86_64 | OK | OK | OK | OK | |||||||||
| Package: BLMA |
| Version: 1.18.0 |
| Command: rm -rf BLMA.buildbin-libdir && mkdir BLMA.buildbin-libdir && C:\Users\biocbuild\bbs-3.14-bioc\R\bin\R.exe CMD INSTALL --merge-multiarch --build --library=BLMA.buildbin-libdir BLMA_1.18.0.tar.gz |
| StartedAt: 2022-04-13 05:44:02 -0400 (Wed, 13 Apr 2022) |
| EndedAt: 2022-04-13 05:44:43 -0400 (Wed, 13 Apr 2022) |
| EllapsedTime: 41.1 seconds |
| RetCode: 0 |
| Status: OK |
| PackageFile: BLMA_1.18.0.zip |
| PackageFileSize: 2.808 MiB |
##############################################################################
##############################################################################
###
### Running command:
###
### rm -rf BLMA.buildbin-libdir && mkdir BLMA.buildbin-libdir && C:\Users\biocbuild\bbs-3.14-bioc\R\bin\R.exe CMD INSTALL --merge-multiarch --build --library=BLMA.buildbin-libdir BLMA_1.18.0.tar.gz
###
##############################################################################
##############################################################################
install for i386
* installing *source* package 'BLMA' ...
** using staged installation
** R
** data
** inst
** byte-compile and prepare package for lazy loading
** help
*** installing help indices
converting help for package 'BLMA'
finding HTML links ... done
GSE17054 html
GSE33223 html
GSE42140 html
GSE57194 html
addCLT html
bilevelAnalysisClassic html
bilevelAnalysisGene html
bilevelAnalysisGeneset html
finding level-2 HTML links ... done
bilevelAnalysisPathway html
fisherMethod html
getStatistics html
intraAnalysisClassic html
intraAnalysisGene html
loadKEGGPathways html
pORACalc html
stoufferMethod html
** building package indices
** installing vignettes
** testing if installed package can be loaded from temporary location
** testing if installed package can be loaded from final location
** testing if installed package keeps a record of temporary installation path
install for x64
* installing *source* package 'BLMA' ...
** testing if installed package can be loaded
* MD5 sums
packaged installation of 'BLMA' as BLMA_1.18.0.zip
* DONE (BLMA)